| Back to Multiple platform build/check report for BioC 3.10 |
|
This page was generated on 2020-04-15 12:28:13 -0400 (Wed, 15 Apr 2020).
| Package 603/1823 | Hostname | OS / Arch | INSTALL | BUILD | CHECK | BUILD BIN | ||||||
| flowTime 1.10.0 R. Clay Wright
| malbec1 | Linux (Ubuntu 18.04.4 LTS) / x86_64 | OK | OK | OK | |||||||
| tokay1 | Windows Server 2012 R2 Standard / x64 | OK | OK | OK | [ OK ] | |||||||
| merida1 | OS X 10.11.6 El Capitan / x86_64 | OK | OK | OK | OK |
| Package: flowTime |
| Version: 1.10.0 |
| Command: rm -rf flowTime.buildbin-libdir && mkdir flowTime.buildbin-libdir && C:\Users\biocbuild\bbs-3.10-bioc\R\bin\R.exe CMD INSTALL --merge-multiarch --build --library=flowTime.buildbin-libdir flowTime_1.10.0.tar.gz |
| StartedAt: 2020-04-15 08:44:29 -0400 (Wed, 15 Apr 2020) |
| EndedAt: 2020-04-15 08:45:07 -0400 (Wed, 15 Apr 2020) |
| EllapsedTime: 38.0 seconds |
| RetCode: 0 |
| Status: OK |
| PackageFile: flowTime_1.10.0.zip |
| PackageFileSize: 2.214 MiB |
##############################################################################
##############################################################################
###
### Running command:
###
### rm -rf flowTime.buildbin-libdir && mkdir flowTime.buildbin-libdir && C:\Users\biocbuild\bbs-3.10-bioc\R\bin\R.exe CMD INSTALL --merge-multiarch --build --library=flowTime.buildbin-libdir flowTime_1.10.0.tar.gz
###
##############################################################################
##############################################################################
install for i386
* installing *source* package 'flowTime' ...
** using staged installation
** R
** data
*** moving datasets to lazyload DB
** inst
** byte-compile and prepare package for lazy loading
** help
*** installing help indices
converting help for package 'flowTime'
finding HTML links ... done
addbs html
addnorm html
annotateFlowSet html
createAnnotation html
dipdoubletGate html
dipsingletGate html
flsummary html
getTime html
hapdoubletGate html
hapsingletGate html
loadGates html
ploidy html
polygate html
qaGating html
read.plateSet html
saveGates html
steadyState html
summarizeFlow html
yeastGate html
** building package indices
** installing vignettes
** testing if installed package can be loaded from temporary location
** testing if installed package can be loaded from final location
** testing if installed package keeps a record of temporary installation path
install for x64
* installing *source* package 'flowTime' ...
** testing if installed package can be loaded
* MD5 sums
packaged installation of 'flowTime' as flowTime_1.10.0.zip
* DONE (flowTime)