| Back to Multiple platform build/check report for BioC 3.10 |
|
This page was generated on 2019-04-06 19:13:42 -0400 (Sat, 06 Apr 2019).
| Package 103/306 | Hostname | OS / Arch | INSTALL | BUILD | CHECK | BUILD BIN | ||||||
Mike Jiang
| malbec1 | Linux (Ubuntu 16.04.6 LTS) / x86_64 | ERROR | [ ERROR ] | skipped |
| Package: flowQ |
| Version: 1.43.2 |
| Command: /home/biocbuild/bbs-3.10-bioc/R/bin/R CMD build --keep-empty-dirs --no-resave-data flowQ |
| StartedAt: 2019-04-06 18:48:58 -0400 (Sat, 06 Apr 2019) |
| EndedAt: 2019-04-06 18:49:02 -0400 (Sat, 06 Apr 2019) |
| EllapsedTime: 3.7 seconds |
| RetCode: 1 |
| Status: ERROR |
| PackageFile: None |
| PackageFileSize: NA |
##############################################################################
##############################################################################
###
### Running command:
###
### /home/biocbuild/bbs-3.10-bioc/R/bin/R CMD build --keep-empty-dirs --no-resave-data flowQ
###
##############################################################################
##############################################################################
* checking for file ‘flowQ/DESCRIPTION’ ... OK
* preparing ‘flowQ’:
* checking DESCRIPTION meta-information ... OK
* installing the package to build vignettes
-----------------------------------
ERROR: dependencies ‘BiocGenerics’, ‘flowViz’, ‘bioDist’, ‘geneplotter’, ‘flowCore’, ‘IRanges’ are not available for package ‘flowQ’
* removing ‘/tmp/Rtmpn23yhA/Rinst7559586d3a2b/flowQ’
-----------------------------------
ERROR: package installation failed