| Back to Multiple platform build/check report for BioC 3.10 |
|
This page was generated on 2020-04-15 12:27:24 -0400 (Wed, 15 Apr 2020).
| Package 596/1823 | Hostname | OS / Arch | INSTALL | BUILD | CHECK | BUILD BIN | ||||||
| flowPloidy 1.12.0 Tyler Smith
| malbec1 | Linux (Ubuntu 18.04.4 LTS) / x86_64 | OK | OK | OK | |||||||
| tokay1 | Windows Server 2012 R2 Standard / x64 | [ OK ] | OK | OK | OK | |||||||
| merida1 | OS X 10.11.6 El Capitan / x86_64 | OK | OK | OK | OK |
| Package: flowPloidy |
| Version: 1.12.0 |
| Command: C:\cygwin\bin\curl.exe -O https://malbec1.bioconductor.org/BBS/3.10/bioc/src/contrib/flowPloidy_1.12.0.tar.gz && rm -rf flowPloidy.buildbin-libdir && mkdir flowPloidy.buildbin-libdir && C:\Users\biocbuild\bbs-3.10-bioc\R\bin\R.exe CMD INSTALL --merge-multiarch --build --library=flowPloidy.buildbin-libdir flowPloidy_1.12.0.tar.gz && C:\Users\biocbuild\bbs-3.10-bioc\R\bin\R.exe CMD INSTALL flowPloidy_1.12.0.zip && rm flowPloidy_1.12.0.tar.gz flowPloidy_1.12.0.zip |
| StartedAt: 2020-04-14 20:22:33 -0400 (Tue, 14 Apr 2020) |
| EndedAt: 2020-04-14 20:23:03 -0400 (Tue, 14 Apr 2020) |
| EllapsedTime: 29.1 seconds |
| RetCode: 0 |
| Status: OK |
##############################################################################
##############################################################################
###
### Running command:
###
### C:\cygwin\bin\curl.exe -O https://malbec1.bioconductor.org/BBS/3.10/bioc/src/contrib/flowPloidy_1.12.0.tar.gz && rm -rf flowPloidy.buildbin-libdir && mkdir flowPloidy.buildbin-libdir && C:\Users\biocbuild\bbs-3.10-bioc\R\bin\R.exe CMD INSTALL --merge-multiarch --build --library=flowPloidy.buildbin-libdir flowPloidy_1.12.0.tar.gz && C:\Users\biocbuild\bbs-3.10-bioc\R\bin\R.exe CMD INSTALL flowPloidy_1.12.0.zip && rm flowPloidy_1.12.0.tar.gz flowPloidy_1.12.0.zip
###
##############################################################################
##############################################################################
% Total % Received % Xferd Average Speed Time Time Time Current
Dload Upload Total Spent Left Speed
0 0 0 0 0 0 0 0 --:--:-- --:--:-- --:--:-- 0
56 1126k 56 640k 0 0 2946k 0 --:--:-- --:--:-- --:--:-- 2990k
100 1126k 100 1126k 0 0 4245k 0 --:--:-- --:--:-- --:--:-- 4299k
install for i386
* installing *source* package 'flowPloidy' ...
** using staged installation
** R
** inst
** byte-compile and prepare package for lazy loading
** help
*** installing help indices
converting help for package 'flowPloidy'
finding HTML links ... done
DebrisModels html
FlowHist html
finding level-2 HTML links ... done
FlowStandards html
ModelComponent html
browseFlowHist html
fhAccessors html
fhAnalyze html
fhDoCV html
fhDoCounts html
fhDoNLS html
fhDoRCS html
fhModels html
fhStart html
findPeaks html
flowPloidy html
gauss html
pickInit html
plot.FlowHist html
plotFH html
resetFlowHist html
setBins html
setGate html
tabulateFlowHist html
updateFlowHist html
viewFlowChannels html
** building package indices
** installing vignettes
** testing if installed package can be loaded from temporary location
** testing if installed package can be loaded from final location
** testing if installed package keeps a record of temporary installation path
install for x64
* installing *source* package 'flowPloidy' ...
** testing if installed package can be loaded
* MD5 sums
packaged installation of 'flowPloidy' as flowPloidy_1.12.0.zip
* DONE (flowPloidy)
* installing to library 'C:/Users/biocbuild/bbs-3.10-bioc/R/library'
package 'flowPloidy' successfully unpacked and MD5 sums checked