| Back to Multiple platform build/check report for BioC 3.10 |
|
This page was generated on 2020-04-15 12:23:12 -0400 (Wed, 15 Apr 2020).
| Package 588/1823 | Hostname | OS / Arch | INSTALL | BUILD | CHECK | BUILD BIN | ||||||
| flowDensity 1.20.0 Mehrnoush Malek
| malbec1 | Linux (Ubuntu 18.04.4 LTS) / x86_64 | OK | OK | WARNINGS | |||||||
| tokay1 | Windows Server 2012 R2 Standard / x64 | OK | [ OK ] | WARNINGS | OK | |||||||
| merida1 | OS X 10.11.6 El Capitan / x86_64 | OK | OK | WARNINGS | OK |
| Package: flowDensity |
| Version: 1.20.0 |
| Command: chmod a+r flowDensity -R && C:\Users\biocbuild\bbs-3.10-bioc\R\bin\R.exe CMD build --keep-empty-dirs --no-resave-data flowDensity |
| StartedAt: 2020-04-14 22:07:51 -0400 (Tue, 14 Apr 2020) |
| EndedAt: 2020-04-14 22:08:24 -0400 (Tue, 14 Apr 2020) |
| EllapsedTime: 32.7 seconds |
| RetCode: 0 |
| Status: OK |
| PackageFile: flowDensity_1.20.0.tar.gz |
| PackageFileSize: 5.49 MiB |
##############################################################################
##############################################################################
###
### Running command:
###
### chmod a+r flowDensity -R && C:\Users\biocbuild\bbs-3.10-bioc\R\bin\R.exe CMD build --keep-empty-dirs --no-resave-data flowDensity
###
##############################################################################
##############################################################################
* checking for file 'flowDensity/DESCRIPTION' ... OK
* preparing 'flowDensity':
* checking DESCRIPTION meta-information ... OK
Warning: bad markup (extra space?) at plotDens.Rd:62:19
* installing the package to build vignettes
* creating vignettes ... OK
Warning: 'inst/doc' file
'flowDensity.R'
ignored as vignettes have been rebuilt.
Run R CMD build with --no-build-vignettes to prevent rebuilding.
* checking for LF line-endings in source and make files and shell scripts
* checking for empty or unneeded directories
* building 'flowDensity_1.20.0.tar.gz'