| Back to Multiple platform build/check report for BioC 3.10 |
|
This page was generated on 2020-04-15 12:23:00 -0400 (Wed, 15 Apr 2020).
| Package 558/1823 | Hostname | OS / Arch | INSTALL | BUILD | CHECK | BUILD BIN | ||||||
| fastLiquidAssociation 1.22.0 Tina Gunderson
| malbec1 | Linux (Ubuntu 18.04.4 LTS) / x86_64 | OK | OK | WARNINGS | |||||||
| tokay1 | Windows Server 2012 R2 Standard / x64 | OK | OK | WARNINGS | [ OK ] | |||||||
| merida1 | OS X 10.11.6 El Capitan / x86_64 | OK | OK | WARNINGS | OK |
| Package: fastLiquidAssociation |
| Version: 1.22.0 |
| Command: rm -rf fastLiquidAssociation.buildbin-libdir && mkdir fastLiquidAssociation.buildbin-libdir && C:\Users\biocbuild\bbs-3.10-bioc\R\bin\R.exe CMD INSTALL --merge-multiarch --build --library=fastLiquidAssociation.buildbin-libdir fastLiquidAssociation_1.22.0.tar.gz |
| StartedAt: 2020-04-15 08:41:53 -0400 (Wed, 15 Apr 2020) |
| EndedAt: 2020-04-15 08:42:24 -0400 (Wed, 15 Apr 2020) |
| EllapsedTime: 31.8 seconds |
| RetCode: 0 |
| Status: OK |
| PackageFile: fastLiquidAssociation_1.22.0.zip |
| PackageFileSize: 543.6 KiB |
##############################################################################
##############################################################################
###
### Running command:
###
### rm -rf fastLiquidAssociation.buildbin-libdir && mkdir fastLiquidAssociation.buildbin-libdir && C:\Users\biocbuild\bbs-3.10-bioc\R\bin\R.exe CMD INSTALL --merge-multiarch --build --library=fastLiquidAssociation.buildbin-libdir fastLiquidAssociation_1.22.0.tar.gz
###
##############################################################################
##############################################################################
install for i386
* installing *source* package 'fastLiquidAssociation' ...
** using staged installation
** R
** data
** inst
** byte-compile and prepare package for lazy loading
** help
*** installing help indices
converting help for package 'fastLiquidAssociation'
finding HTML links ... done
fastLiquidAssociation-package html
fastMLA-methods html
finding level-2 HTML links ... done
Rd warning: C:/Users/biocbuild/bbs-3.10-bioc/tmpdir/RtmpeqBSR2/R.INSTALL1b20320432cc/fastLiquidAssociation/man/fastMLA-methods.Rd:59: missing link 'WGCNA'
fastboots.GLA-methods html
mass.CNM-methods html
testmat html
** building package indices
** installing vignettes
** testing if installed package can be loaded from temporary location
** testing if installed package can be loaded from final location
** testing if installed package keeps a record of temporary installation path
install for x64
* installing *source* package 'fastLiquidAssociation' ...
** testing if installed package can be loaded
* MD5 sums
packaged installation of 'fastLiquidAssociation' as fastLiquidAssociation_1.22.0.zip
* DONE (fastLiquidAssociation)