| Back to Multiple platform build/check report for BioC 3.10 |
|
This page was generated on 2020-04-15 12:25:06 -0400 (Wed, 15 Apr 2020).
| Package 538/1823 | Hostname | OS / Arch | INSTALL | BUILD | CHECK | BUILD BIN | ||||||
| erma 1.2.0 VJ Carey
| malbec1 | Linux (Ubuntu 18.04.4 LTS) / x86_64 | OK | OK | OK | |||||||
| tokay1 | Windows Server 2012 R2 Standard / x64 | [ OK ] | OK | OK | OK | |||||||
| merida1 | OS X 10.11.6 El Capitan / x86_64 | OK | OK | OK | OK |
| Package: erma |
| Version: 1.2.0 |
| Command: C:\cygwin\bin\curl.exe -O https://malbec1.bioconductor.org/BBS/3.10/bioc/src/contrib/erma_1.2.0.tar.gz && rm -rf erma.buildbin-libdir && mkdir erma.buildbin-libdir && C:\Users\biocbuild\bbs-3.10-bioc\R\bin\R.exe CMD INSTALL --merge-multiarch --build --library=erma.buildbin-libdir erma_1.2.0.tar.gz && C:\Users\biocbuild\bbs-3.10-bioc\R\bin\R.exe CMD INSTALL erma_1.2.0.zip && rm erma_1.2.0.tar.gz erma_1.2.0.zip |
| StartedAt: 2020-04-14 20:09:06 -0400 (Tue, 14 Apr 2020) |
| EndedAt: 2020-04-14 20:12:53 -0400 (Tue, 14 Apr 2020) |
| EllapsedTime: 227.2 seconds |
| RetCode: 0 |
| Status: OK |
##############################################################################
##############################################################################
###
### Running command:
###
### C:\cygwin\bin\curl.exe -O https://malbec1.bioconductor.org/BBS/3.10/bioc/src/contrib/erma_1.2.0.tar.gz && rm -rf erma.buildbin-libdir && mkdir erma.buildbin-libdir && C:\Users\biocbuild\bbs-3.10-bioc\R\bin\R.exe CMD INSTALL --merge-multiarch --build --library=erma.buildbin-libdir erma_1.2.0.tar.gz && C:\Users\biocbuild\bbs-3.10-bioc\R\bin\R.exe CMD INSTALL erma_1.2.0.zip && rm erma_1.2.0.tar.gz erma_1.2.0.zip
###
##############################################################################
##############################################################################
% Total % Received % Xferd Average Speed Time Time Time Current
Dload Upload Total Spent Left Speed
0 0 0 0 0 0 0 0 --:--:-- --:--:-- --:--:-- 0
0 197M 0 0 0 0 0 0 --:--:-- --:--:-- --:--:-- 0
10 197M 10 21.4M 0 0 19.7M 0 0:00:09 0:00:01 0:00:08 19.8M
34 197M 34 67.7M 0 0 32.0M 0 0:00:06 0:00:02 0:00:04 32.1M
76 197M 76 150M 0 0 48.6M 0 0:00:04 0:00:03 0:00:01 48.6M
100 197M 100 197M 0 0 54.0M 0 0:00:03 0:00:03 --:--:-- 54.1M
install for i386
* installing *source* package 'erma' ...
** using staged installation
** R
** data
** inst
** byte-compile and prepare package for lazy loading
** help
*** installing help indices
converting help for package 'erma'
finding HTML links ... done
ErmaSet-class html
finding level-2 HTML links ... done
erma-package html
genemodel html
mapmeta html
stateProfile html
states_25 html
** building package indices
** installing vignettes
** testing if installed package can be loaded from temporary location
** testing if installed package can be loaded from final location
** testing if installed package keeps a record of temporary installation path
install for x64
* installing *source* package 'erma' ...
** testing if installed package can be loaded
* MD5 sums
packaged installation of 'erma' as erma_1.2.0.zip
* DONE (erma)
* installing to library 'C:/Users/biocbuild/bbs-3.10-bioc/R/library'
package 'erma' successfully unpacked and MD5 sums checked