| Back to Multiple platform build/check report for BioC 3.10 |
|
This page was generated on 2020-04-15 12:31:36 -0400 (Wed, 15 Apr 2020).
| Package 530/1823 | Hostname | OS / Arch | INSTALL | BUILD | CHECK | BUILD BIN | ||||||
| epihet 1.2.0 Xiaowen Chen
| malbec1 | Linux (Ubuntu 18.04.4 LTS) / x86_64 | OK | OK | OK | |||||||
| tokay1 | Windows Server 2012 R2 Standard / x64 | OK | OK | OK | [ OK ] | |||||||
| merida1 | OS X 10.11.6 El Capitan / x86_64 | OK | OK | OK | OK |
| Package: epihet |
| Version: 1.2.0 |
| Command: rm -rf epihet.buildbin-libdir && mkdir epihet.buildbin-libdir && C:\Users\biocbuild\bbs-3.10-bioc\R\bin\R.exe CMD INSTALL --merge-multiarch --build --library=epihet.buildbin-libdir epihet_1.2.0.tar.gz |
| StartedAt: 2020-04-15 08:39:54 -0400 (Wed, 15 Apr 2020) |
| EndedAt: 2020-04-15 08:40:32 -0400 (Wed, 15 Apr 2020) |
| EllapsedTime: 38.0 seconds |
| RetCode: 0 |
| Status: OK |
| PackageFile: epihet_1.2.0.zip |
| PackageFileSize: 887.1 KiB |
##############################################################################
##############################################################################
###
### Running command:
###
### rm -rf epihet.buildbin-libdir && mkdir epihet.buildbin-libdir && C:\Users\biocbuild\bbs-3.10-bioc\R\bin\R.exe CMD INSTALL --merge-multiarch --build --library=epihet.buildbin-libdir epihet_1.2.0.tar.gz
###
##############################################################################
##############################################################################
install for i386
* installing *source* package 'epihet' ...
** using staged installation
** R
** data
** inst
** byte-compile and prepare package for lazy loading
** help
*** installing help indices
converting help for package 'epihet'
finding HTML links ... done
compMatrix html
data html
diffHet html
epiBox html
epiMA html
epiMap html
epiNetwork html
epiPCA html
epiPathway html
epiTSNE html
jaccard html
makeGR html
moduleAnno html
moduleSim html
moduleVisual html
readGR html
shannon html
splitn html
summarize html
userobj html
** building package indices
** installing vignettes
** testing if installed package can be loaded from temporary location
** testing if installed package can be loaded from final location
** testing if installed package keeps a record of temporary installation path
install for x64
* installing *source* package 'epihet' ...
** testing if installed package can be loaded
* MD5 sums
packaged installation of 'epihet' as epihet_1.2.0.zip
* DONE (epihet)