| Back to Multiple platform build/check report for BioC 3.10 |
|
This page was generated on 2020-04-15 12:21:26 -0400 (Wed, 15 Apr 2020).
| Package 529/1823 | Hostname | OS / Arch | INSTALL | BUILD | CHECK | BUILD BIN | ||||||
| epigenomix 1.26.0 Hans-Ulrich Klein
| malbec1 | Linux (Ubuntu 18.04.4 LTS) / x86_64 | OK | OK | OK | |||||||
| tokay1 | Windows Server 2012 R2 Standard / x64 | OK | OK | OK | [ OK ] | |||||||
| merida1 | OS X 10.11.6 El Capitan / x86_64 | OK | OK | OK | OK |
| Package: epigenomix |
| Version: 1.26.0 |
| Command: rm -rf epigenomix.buildbin-libdir && mkdir epigenomix.buildbin-libdir && C:\Users\biocbuild\bbs-3.10-bioc\R\bin\R.exe CMD INSTALL --merge-multiarch --build --library=epigenomix.buildbin-libdir epigenomix_1.26.0.tar.gz |
| StartedAt: 2020-04-15 08:39:50 -0400 (Wed, 15 Apr 2020) |
| EndedAt: 2020-04-15 08:40:51 -0400 (Wed, 15 Apr 2020) |
| EllapsedTime: 61.3 seconds |
| RetCode: 0 |
| Status: OK |
| PackageFile: epigenomix_1.26.0.zip |
| PackageFileSize: 915.3 KiB |
##############################################################################
##############################################################################
###
### Running command:
###
### rm -rf epigenomix.buildbin-libdir && mkdir epigenomix.buildbin-libdir && C:\Users\biocbuild\bbs-3.10-bioc\R\bin\R.exe CMD INSTALL --merge-multiarch --build --library=epigenomix.buildbin-libdir epigenomix_1.26.0.tar.gz
###
##############################################################################
##############################################################################
install for i386
* installing *source* package 'epigenomix' ...
** using staged installation
** R
** data
** inst
** byte-compile and prepare package for lazy loading
** help
*** installing help indices
converting help for package 'epigenomix'
finding HTML links ... done
ChIPseqSet-class html
finding level-2 HTML links ... done
MixModel-class html
MixModelBayes-class html
MixModelML-class html
MixtureComponent-class html
bayesMixModel html
calculateCrossCorrelation html
eSet html
fpkm html
getAlignmentQuality html
integrateData html
mappedReads html
matchProbeToPromoter html
mlMixModel html
normalize html
normalizeChIP html
plotChains html
plotClassification html
plotComponents html
summarizeReads html
transToTSS html
** building package indices
** installing vignettes
** testing if installed package can be loaded from temporary location
** testing if installed package can be loaded from final location
** testing if installed package keeps a record of temporary installation path
install for x64
* installing *source* package 'epigenomix' ...
** testing if installed package can be loaded
* MD5 sums
packaged installation of 'epigenomix' as epigenomix_1.26.0.zip
* DONE (epigenomix)