| Back to Multiple platform build/check report for BioC 3.10 |
|
This page was generated on 2020-04-15 12:19:03 -0400 (Wed, 15 Apr 2020).
| Package 513/1823 | Hostname | OS / Arch | INSTALL | BUILD | CHECK | BUILD BIN | ||||||
| eisa 1.38.0 Gabor Csardi
| malbec1 | Linux (Ubuntu 18.04.4 LTS) / x86_64 | OK | OK | OK | |||||||
| tokay1 | Windows Server 2012 R2 Standard / x64 | [ OK ] | OK | OK | OK | |||||||
| merida1 | OS X 10.11.6 El Capitan / x86_64 | OK | OK | OK | OK |
| Package: eisa |
| Version: 1.38.0 |
| Command: C:\cygwin\bin\curl.exe -O https://malbec1.bioconductor.org/BBS/3.10/bioc/src/contrib/eisa_1.38.0.tar.gz && rm -rf eisa.buildbin-libdir && mkdir eisa.buildbin-libdir && C:\Users\biocbuild\bbs-3.10-bioc\R\bin\R.exe CMD INSTALL --merge-multiarch --build --library=eisa.buildbin-libdir eisa_1.38.0.tar.gz && C:\Users\biocbuild\bbs-3.10-bioc\R\bin\R.exe CMD INSTALL eisa_1.38.0.zip && rm eisa_1.38.0.tar.gz eisa_1.38.0.zip |
| StartedAt: 2020-04-14 18:54:39 -0400 (Tue, 14 Apr 2020) |
| EndedAt: 2020-04-14 18:55:32 -0400 (Tue, 14 Apr 2020) |
| EllapsedTime: 53.0 seconds |
| RetCode: 0 |
| Status: OK |
##############################################################################
##############################################################################
###
### Running command:
###
### C:\cygwin\bin\curl.exe -O https://malbec1.bioconductor.org/BBS/3.10/bioc/src/contrib/eisa_1.38.0.tar.gz && rm -rf eisa.buildbin-libdir && mkdir eisa.buildbin-libdir && C:\Users\biocbuild\bbs-3.10-bioc\R\bin\R.exe CMD INSTALL --merge-multiarch --build --library=eisa.buildbin-libdir eisa_1.38.0.tar.gz && C:\Users\biocbuild\bbs-3.10-bioc\R\bin\R.exe CMD INSTALL eisa_1.38.0.zip && rm eisa_1.38.0.tar.gz eisa_1.38.0.zip
###
##############################################################################
##############################################################################
% Total % Received % Xferd Average Speed Time Time Time Current
Dload Upload Total Spent Left Speed
0 0 0 0 0 0 0 0 --:--:-- --:--:-- --:--:-- 0
0 1196k 0 0 0 0 0 0 --:--:-- --:--:-- --:--:-- 0
100 1196k 100 1196k 0 0 4482k 0 --:--:-- --:--:-- --:--:-- 4531k
install for i386
* installing *source* package 'eisa' ...
** using staged installation
** R
** data
** inst
** byte-compile and prepare package for lazy loading
in method for 'coerce' with signature '"Biclust","ISAModules"': no definition for class "Biclust"
in method for 'coerce' with signature '"ISAModules","Biclust"': no definition for class "Biclust"
** help
*** installing help indices
converting help for package 'eisa'
finding HTML links ... done
ALLModules html
ISA.CHR html
ISA.GO html
ISA.KEGG html
ISA html
ISA.html html
ISA.iterate html
ISA.miRNA html
ISA.normalize html
ISA.sweep html
ISA.unique html
ISA2heatmap html
ISAExpressionSet html
ISAModules-class html
ListHyperGParams-class html
ListHyperGResult-class html
cond.plot html
eisa.biclust html
enrichment html
exp.plot html
gograph html
mnplot html
overlap html
profilePlot html
robustness html
** building package indices
** installing vignettes
** testing if installed package can be loaded from temporary location
** testing if installed package can be loaded from final location
** testing if installed package keeps a record of temporary installation path
install for x64
* installing *source* package 'eisa' ...
** testing if installed package can be loaded
* MD5 sums
packaged installation of 'eisa' as eisa_1.38.0.zip
* DONE (eisa)
* installing to library 'C:/Users/biocbuild/bbs-3.10-bioc/R/library'
package 'eisa' successfully unpacked and MD5 sums checked