| Back to Multiple platform build/check report for BioC 3.10 |
|
This page was generated on 2020-04-15 12:26:40 -0400 (Wed, 15 Apr 2020).
| Package 458/1823 | Hostname | OS / Arch | INSTALL | BUILD | CHECK | BUILD BIN | ||||||
| diffloop 1.14.0 Caleb Lareau
| malbec1 | Linux (Ubuntu 18.04.4 LTS) / x86_64 | OK | OK | OK | |||||||
| tokay1 | Windows Server 2012 R2 Standard / x64 | [ OK ] | OK | WARNINGS | OK | |||||||
| merida1 | OS X 10.11.6 El Capitan / x86_64 | OK | OK | OK | OK |
| Package: diffloop |
| Version: 1.14.0 |
| Command: C:\cygwin\bin\curl.exe -O https://malbec1.bioconductor.org/BBS/3.10/bioc/src/contrib/diffloop_1.14.0.tar.gz && rm -rf diffloop.buildbin-libdir && mkdir diffloop.buildbin-libdir && C:\Users\biocbuild\bbs-3.10-bioc\R\bin\R.exe CMD INSTALL --merge-multiarch --build --library=diffloop.buildbin-libdir diffloop_1.14.0.tar.gz && C:\Users\biocbuild\bbs-3.10-bioc\R\bin\R.exe CMD INSTALL diffloop_1.14.0.zip && rm diffloop_1.14.0.tar.gz diffloop_1.14.0.zip |
| StartedAt: 2020-04-14 20:04:49 -0400 (Tue, 14 Apr 2020) |
| EndedAt: 2020-04-14 20:05:49 -0400 (Tue, 14 Apr 2020) |
| EllapsedTime: 60.0 seconds |
| RetCode: 0 |
| Status: OK |
##############################################################################
##############################################################################
###
### Running command:
###
### C:\cygwin\bin\curl.exe -O https://malbec1.bioconductor.org/BBS/3.10/bioc/src/contrib/diffloop_1.14.0.tar.gz && rm -rf diffloop.buildbin-libdir && mkdir diffloop.buildbin-libdir && C:\Users\biocbuild\bbs-3.10-bioc\R\bin\R.exe CMD INSTALL --merge-multiarch --build --library=diffloop.buildbin-libdir diffloop_1.14.0.tar.gz && C:\Users\biocbuild\bbs-3.10-bioc\R\bin\R.exe CMD INSTALL diffloop_1.14.0.zip && rm diffloop_1.14.0.tar.gz diffloop_1.14.0.zip
###
##############################################################################
##############################################################################
% Total % Received % Xferd Average Speed Time Time Time Current
Dload Upload Total Spent Left Speed
0 0 0 0 0 0 0 0 --:--:-- --:--:-- --:--:-- 0
100 1147k 100 1147k 0 0 3491k 0 --:--:-- --:--:-- --:--:-- 3530k
install for i386
* installing *source* package 'diffloop' ...
** using staged installation
** R
** inst
** byte-compile and prepare package for lazy loading
Warning: replacing previous import 'GenomicRanges::windows' by 'grDevices::windows' when loading 'diffloop'
** help
*** installing help indices
converting help for package 'diffloop'
finding HTML links ... done
addchr html
annotateAnchors html
annotateAnchors.bed html
annotateAnchors.bigwig html
annotateLoops html
annotateLoops.dge html
bedToGRanges html
calcLDSizeFactors html
callCCDs html
computeBoundaryScores html
diffloop html
dim-loops-method html
featureTest html
filterLoops html
filterSpanningLoops html
geneinfo html
getHumanGenes html
getHumanTSS html
getMouseGenes html
getMouseTSS html
head-loops-method html
human.genes html
interchromosomal html
intrachromosomal html
keepCTCFloops html
keepEPloops html
loopAssoc html
loopDistancePlot html
loopGenes html
loopMetrics html
loopPlot html
loopWidth html
loops-class html
loops.small html
loopsMake html
loopsMake.mango html
loopsSubset html
mangoCorrection html
manyLoopPlots html
mergeAnchors html
numAnchors html
numLoops html
padGRanges html
pcaPlot html
plotTopLoops html
quickAssoc html
quickAssocVoom html
removeRegion html
removeSelfLoops html
rmchr html
sampleNames-loops-method html
slidingWindowTest html
splitSamples html
sub-loops-numeric-numeric-missing-method
html
subsetLoops html
subsetRegion html
subsetRegionAB html
summary-loops-method html
tail-loops-method html
topLoops html
union-loops-loops-method html
updateLDGroups html
** building package indices
** installing vignettes
** testing if installed package can be loaded from temporary location
Warning: replacing previous import 'GenomicRanges::windows' by 'grDevices::windows' when loading 'diffloop'
** testing if installed package can be loaded from final location
Warning: replacing previous import 'GenomicRanges::windows' by 'grDevices::windows' when loading 'diffloop'
** testing if installed package keeps a record of temporary installation path
install for x64
* installing *source* package 'diffloop' ...
** testing if installed package can be loaded
Warning: replacing previous import 'GenomicRanges::windows' by 'grDevices::windows' when loading 'diffloop'
* MD5 sums
packaged installation of 'diffloop' as diffloop_1.14.0.zip
* DONE (diffloop)
* installing to library 'C:/Users/biocbuild/bbs-3.10-bioc/R/library'
package 'diffloop' successfully unpacked and MD5 sums checked