| Back to Multiple platform build/check report for BioC 3.10 |
|
This page was generated on 2020-04-15 12:30:14 -0400 (Wed, 15 Apr 2020).
| Package 454/1823 | Hostname | OS / Arch | INSTALL | BUILD | CHECK | BUILD BIN | ||||||
| diffcyt 1.6.6 Lukas M. Weber
| malbec1 | Linux (Ubuntu 18.04.4 LTS) / x86_64 | OK | OK | OK | |||||||
| tokay1 | Windows Server 2012 R2 Standard / x64 | [ OK ] | OK | OK | OK | |||||||
| merida1 | OS X 10.11.6 El Capitan / x86_64 | OK | OK | OK | OK |
| Package: diffcyt |
| Version: 1.6.6 |
| Command: C:\cygwin\bin\curl.exe -O https://malbec1.bioconductor.org/BBS/3.10/bioc/src/contrib/diffcyt_1.6.6.tar.gz && rm -rf diffcyt.buildbin-libdir && mkdir diffcyt.buildbin-libdir && C:\Users\biocbuild\bbs-3.10-bioc\R\bin\R.exe CMD INSTALL --merge-multiarch --build --library=diffcyt.buildbin-libdir diffcyt_1.6.6.tar.gz && C:\Users\biocbuild\bbs-3.10-bioc\R\bin\R.exe CMD INSTALL diffcyt_1.6.6.zip && rm diffcyt_1.6.6.tar.gz diffcyt_1.6.6.zip |
| StartedAt: 2020-04-14 20:23:57 -0400 (Tue, 14 Apr 2020) |
| EndedAt: 2020-04-14 20:25:01 -0400 (Tue, 14 Apr 2020) |
| EllapsedTime: 64.0 seconds |
| RetCode: 0 |
| Status: OK |
##############################################################################
##############################################################################
###
### Running command:
###
### C:\cygwin\bin\curl.exe -O https://malbec1.bioconductor.org/BBS/3.10/bioc/src/contrib/diffcyt_1.6.6.tar.gz && rm -rf diffcyt.buildbin-libdir && mkdir diffcyt.buildbin-libdir && C:\Users\biocbuild\bbs-3.10-bioc\R\bin\R.exe CMD INSTALL --merge-multiarch --build --library=diffcyt.buildbin-libdir diffcyt_1.6.6.tar.gz && C:\Users\biocbuild\bbs-3.10-bioc\R\bin\R.exe CMD INSTALL diffcyt_1.6.6.zip && rm diffcyt_1.6.6.tar.gz diffcyt_1.6.6.zip
###
##############################################################################
##############################################################################
% Total % Received % Xferd Average Speed Time Time Time Current
Dload Upload Total Spent Left Speed
0 0 0 0 0 0 0 0 --:--:-- --:--:-- --:--:-- 0
100 189k 100 189k 0 0 1912k 0 --:--:-- --:--:-- --:--:-- 1995k
install for i386
* installing *source* package 'diffcyt' ...
** using staged installation
** R
** inst
** byte-compile and prepare package for lazy loading
** help
*** installing help indices
converting help for package 'diffcyt'
finding HTML links ... done
calcCounts html
finding level-2 HTML links ... done
calcMedians html
calcMediansByClusterMarker html
calcMediansBySampleMarker html
createContrast html
createDesignMatrix html
createFormula html
diffcyt html
generateClusters html
plotHeatmap html
prepareData html
testDA_GLMM html
testDA_edgeR html
testDA_voom html
testDS_LMM html
testDS_limma html
topClusters html
topTable html
transformData html
** building package indices
** installing vignettes
** testing if installed package can be loaded from temporary location
** testing if installed package can be loaded from final location
** testing if installed package keeps a record of temporary installation path
install for x64
* installing *source* package 'diffcyt' ...
** testing if installed package can be loaded
* MD5 sums
packaged installation of 'diffcyt' as diffcyt_1.6.6.zip
* DONE (diffcyt)
* installing to library 'C:/Users/biocbuild/bbs-3.10-bioc/R/library'
package 'diffcyt' successfully unpacked and MD5 sums checked