| Back to Multiple platform build/check report for BioC 3.10 |
|
This page was generated on 2020-04-15 12:07:32 -0400 (Wed, 15 Apr 2020).
| Package 450/1823 | Hostname | OS / Arch | INSTALL | BUILD | CHECK | BUILD BIN | ||||||
| dexus 1.26.0 Guenter Klambauer
| malbec1 | Linux (Ubuntu 18.04.4 LTS) / x86_64 | [ OK ] | OK | OK | |||||||
| tokay1 | Windows Server 2012 R2 Standard / x64 | OK | OK | OK | OK | |||||||
| merida1 | OS X 10.11.6 El Capitan / x86_64 | OK | OK | OK | OK |
| Package: dexus |
| Version: 1.26.0 |
| Command: /home/biocbuild/bbs-3.10-bioc/R/bin/R CMD INSTALL dexus |
| StartedAt: 2020-04-14 18:07:08 -0400 (Tue, 14 Apr 2020) |
| EndedAt: 2020-04-14 18:07:12 -0400 (Tue, 14 Apr 2020) |
| EllapsedTime: 4.3 seconds |
| RetCode: 0 |
| Status: OK |
##############################################################################
##############################################################################
###
### Running command:
###
### /home/biocbuild/bbs-3.10-bioc/R/bin/R CMD INSTALL dexus
###
##############################################################################
##############################################################################
* installing to library ‘/home/biocbuild/bbs-3.10-bioc/R/library’
* installing *source* package ‘dexus’ ...
** using staged installation
** libs
g++ -std=gnu++11 -I"/home/biocbuild/bbs-3.10-bioc/R/include" -DNDEBUG -I/usr/local/include -fpic -g -O2 -Wall -c dexus.cpp -o dexus.o
dexus.cpp: In function ‘SEXPREC* dexus_impl(SEXP, SEXP, SEXP, SEXP, SEXP, SEXP, SEXP, SEXP, SEXP, SEXP, int*, SEXP, SEXP, SEXP)’:
dexus.cpp:193:15: warning: unused variable ‘DEFAULT_R’ [-Wunused-variable]
const double DEFAULT_R = 20; // R value used when re-setting clusters
^~~~~~~~~
dexus.cpp: In function ‘SEXPREC* dexss_impl(SEXP, SEXP, SEXP, SEXP, SEXP, SEXP, SEXP, SEXP, SEXP, SEXP, int*, SEXP, SEXP, SEXP)’:
dexus.cpp:575:15: warning: unused variable ‘DEFAULT_R’ [-Wunused-variable]
const double DEFAULT_R = 20; // R value used when re-setting clusters
^~~~~~~~~
g++ -std=gnu++11 -shared -L/home/biocbuild/bbs-3.10-bioc/R/lib -L/usr/local/lib -o dexus.so dexus.o -L/home/biocbuild/bbs-3.10-bioc/R/lib -lR
installing to /home/biocbuild/bbs-3.10-bioc/R/library/00LOCK-dexus/00new/dexus/libs
** R
** data
** inst
** byte-compile and prepare package for lazy loading
** help
*** installing help indices
** building package indices
** installing vignettes
** testing if installed package can be loaded from temporary location
** checking absolute paths in shared objects and dynamic libraries
** testing if installed package can be loaded from final location
** testing if installed package keeps a record of temporary installation path
* DONE (dexus)