| Back to Multiple platform build/check report for BioC 3.10 |
|
This page was generated on 2020-04-15 12:20:13 -0400 (Wed, 15 Apr 2020).
| Package 393/1823 | Hostname | OS / Arch | INSTALL | BUILD | CHECK | BUILD BIN | ||||||
| cummeRbund 2.28.0 Loyal A. Goff
| malbec1 | Linux (Ubuntu 18.04.4 LTS) / x86_64 | OK | OK | WARNINGS | |||||||
| tokay1 | Windows Server 2012 R2 Standard / x64 | OK | OK | WARNINGS | [ OK ] | |||||||
| merida1 | OS X 10.11.6 El Capitan / x86_64 | OK | OK | WARNINGS | OK |
| Package: cummeRbund |
| Version: 2.28.0 |
| Command: rm -rf cummeRbund.buildbin-libdir && mkdir cummeRbund.buildbin-libdir && C:\Users\biocbuild\bbs-3.10-bioc\R\bin\R.exe CMD INSTALL --merge-multiarch --build --library=cummeRbund.buildbin-libdir cummeRbund_2.28.0.tar.gz |
| StartedAt: 2020-04-15 08:31:21 -0400 (Wed, 15 Apr 2020) |
| EndedAt: 2020-04-15 08:32:30 -0400 (Wed, 15 Apr 2020) |
| EllapsedTime: 68.4 seconds |
| RetCode: 0 |
| Status: OK |
| PackageFile: cummeRbund_2.28.0.zip |
| PackageFileSize: 3.149 MiB |
##############################################################################
##############################################################################
###
### Running command:
###
### rm -rf cummeRbund.buildbin-libdir && mkdir cummeRbund.buildbin-libdir && C:\Users\biocbuild\bbs-3.10-bioc\R\bin\R.exe CMD INSTALL --merge-multiarch --build --library=cummeRbund.buildbin-libdir cummeRbund_2.28.0.tar.gz
###
##############################################################################
##############################################################################
install for i386
* installing *source* package 'cummeRbund' ...
** using staged installation
** R
** data
** inst
** byte-compile and prepare package for lazy loading
** help
*** installing help indices
converting help for package 'cummeRbund'
finding HTML links ... done
CuffData-class html
CuffDist-class html
CuffFeature-class html
CuffFeatureSet-class html
CuffGene-class html
CuffGeneSet-class html
CuffSet-class html
JSdist html
JSdistFromP html
JSdistVec html
MAplot html
PINK1 html
QCplots html
addFeatures html
count html
countMatrix html
csBoxplot html
csCluster html
csClusterPlot html
csDendro html
csDensity html
csDistHeat html
csHeatmap html
csScatter html
csSpecificity html
csVolcano html
cummeRbund-package html
diffData html
dimensionality html
dispersionPlot html
distValues html
exploratory html
expressionBarplot html
expressionPlot html
featureNames html
features html
findGene html
findSimilar html
fpkm html
fpkmMatrix html
getFeatures html
getGene html
getGeneId html
getGenes html
getLevels html
getRepLevels html
getSig html
getSigTable html
makeprobs html
makeprobsvec html
readCufflinks html
repFpkm html
replicates html
runInfo html
sampleGeneSet html
sampleIDs html
samples html
shannon.entropy html
sigMatrix html
** building package indices
** installing vignettes
** testing if installed package can be loaded from temporary location
** testing if installed package can be loaded from final location
** testing if installed package keeps a record of temporary installation path
install for x64
* installing *source* package 'cummeRbund' ...
** testing if installed package can be loaded
* MD5 sums
packaged installation of 'cummeRbund' as cummeRbund_2.28.0.zip
* DONE (cummeRbund)