| Back to Multiple platform build/check report for BioC 3.10 |
|
This page was generated on 2020-04-15 12:26:44 -0400 (Wed, 15 Apr 2020).
| Package 376/1823 | Hostname | OS / Arch | INSTALL | BUILD | CHECK | BUILD BIN | ||||||
| covRNA 1.12.0 Lara Urban
| malbec1 | Linux (Ubuntu 18.04.4 LTS) / x86_64 | OK | OK | OK | |||||||
| tokay1 | Windows Server 2012 R2 Standard / x64 | OK | OK | OK | [ OK ] | |||||||
| merida1 | OS X 10.11.6 El Capitan / x86_64 | OK | OK | OK | OK |
| Package: covRNA |
| Version: 1.12.0 |
| Command: rm -rf covRNA.buildbin-libdir && mkdir covRNA.buildbin-libdir && C:\Users\biocbuild\bbs-3.10-bioc\R\bin\R.exe CMD INSTALL --merge-multiarch --build --library=covRNA.buildbin-libdir covRNA_1.12.0.tar.gz |
| StartedAt: 2020-04-15 08:30:23 -0400 (Wed, 15 Apr 2020) |
| EndedAt: 2020-04-15 08:30:57 -0400 (Wed, 15 Apr 2020) |
| EllapsedTime: 34.5 seconds |
| RetCode: 0 |
| Status: OK |
| PackageFile: covRNA_1.12.0.zip |
| PackageFileSize: 564.4 KiB |
##############################################################################
##############################################################################
###
### Running command:
###
### rm -rf covRNA.buildbin-libdir && mkdir covRNA.buildbin-libdir && C:\Users\biocbuild\bbs-3.10-bioc\R\bin\R.exe CMD INSTALL --merge-multiarch --build --library=covRNA.buildbin-libdir covRNA_1.12.0.tar.gz
###
##############################################################################
##############################################################################
install for i386
* installing *source* package 'covRNA' ...
** using staged installation
** R
** data
*** moving datasets to lazyload DB
** inst
** byte-compile and prepare package for lazy loading
** help
*** installing help indices
converting help for package 'covRNA'
finding HTML links ... done
Baca html
covRNA html
ord html
plot.ord html
plot.stat html
stat html
vis html
** building package indices
** installing vignettes
** testing if installed package can be loaded from temporary location
** testing if installed package can be loaded from final location
** testing if installed package keeps a record of temporary installation path
install for x64
* installing *source* package 'covRNA' ...
** testing if installed package can be loaded
* MD5 sums
packaged installation of 'covRNA' as covRNA_1.12.0.zip
* DONE (covRNA)