| Back to Multiple platform build/check report for BioC 3.10 |
|
This page was generated on 2020-04-15 12:23:06 -0400 (Wed, 15 Apr 2020).
| Package 370/1823 | Hostname | OS / Arch | INSTALL | BUILD | CHECK | BUILD BIN | ||||||
| cosmiq 1.20.0 David Fischer
| malbec1 | Linux (Ubuntu 18.04.4 LTS) / x86_64 | OK | OK | OK | |||||||
| tokay1 | Windows Server 2012 R2 Standard / x64 | OK | OK | OK | [ OK ] | |||||||
| merida1 | OS X 10.11.6 El Capitan / x86_64 | OK | OK | OK | OK |
| Package: cosmiq |
| Version: 1.20.0 |
| Command: rm -rf cosmiq.buildbin-libdir && mkdir cosmiq.buildbin-libdir && C:\Users\biocbuild\bbs-3.10-bioc\R\bin\R.exe CMD INSTALL --merge-multiarch --build --library=cosmiq.buildbin-libdir cosmiq_1.20.0.tar.gz |
| StartedAt: 2020-04-15 08:30:05 -0400 (Wed, 15 Apr 2020) |
| EndedAt: 2020-04-15 08:31:01 -0400 (Wed, 15 Apr 2020) |
| EllapsedTime: 56.1 seconds |
| RetCode: 0 |
| Status: OK |
| PackageFile: cosmiq_1.20.0.zip |
| PackageFileSize: 306.8 KiB |
##############################################################################
##############################################################################
###
### Running command:
###
### rm -rf cosmiq.buildbin-libdir && mkdir cosmiq.buildbin-libdir && C:\Users\biocbuild\bbs-3.10-bioc\R\bin\R.exe CMD INSTALL --merge-multiarch --build --library=cosmiq.buildbin-libdir cosmiq_1.20.0.tar.gz
###
##############################################################################
##############################################################################
install for i386
* installing *source* package 'cosmiq' ...
** using staged installation
** libs
C:/Rtools/mingw_32/bin/gcc -I"C:/Users/BIOCBU~1/BBS-3~1.10-/R/include" -DNDEBUG -I"C:/extsoft/include" -O3 -Wall -std=gnu99 -mtune=core2 -c util.c -o util.o
C:/Rtools/mingw_32/bin/gcc -shared -s -static-libgcc -o cosmiq.dll tmp.def util.o -LC:/extsoft/lib/i386 -LC:/extsoft/lib -LC:/Users/BIOCBU~1/BBS-3~1.10-/R/bin/i386 -lR
installing to C:/Users/biocbuild/bbs-3.10-bioc/meat/cosmiq.buildbin-libdir/00LOCK-cosmiq/00new/cosmiq/libs/i386
** R
** inst
** byte-compile and prepare package for lazy loading
** help
*** installing help indices
converting help for package 'cosmiq'
finding HTML links ... done
combine_spectra html
cosmiq html
create_datamatrix html
eicmatrix html
peakdetection html
quantify_combined html
retention_time html
** building package indices
** installing vignettes
** testing if installed package can be loaded from temporary location
** testing if installed package can be loaded from final location
** testing if installed package keeps a record of temporary installation path
install for x64
* installing *source* package 'cosmiq' ...
** libs
C:/Rtools/mingw_64/bin/gcc -I"C:/Users/BIOCBU~1/BBS-3~1.10-/R/include" -DNDEBUG -I"C:/extsoft/include" -O2 -Wall -std=gnu99 -mtune=core2 -c util.c -o util.o
C:/Rtools/mingw_64/bin/gcc -shared -s -static-libgcc -o cosmiq.dll tmp.def util.o -LC:/extsoft/lib/x64 -LC:/extsoft/lib -LC:/Users/BIOCBU~1/BBS-3~1.10-/R/bin/x64 -lR
installing to C:/Users/biocbuild/bbs-3.10-bioc/meat/cosmiq.buildbin-libdir/cosmiq/libs/x64
** testing if installed package can be loaded
* MD5 sums
packaged installation of 'cosmiq' as cosmiq_1.20.0.zip
* DONE (cosmiq)