| Back to Multiple platform build/check report for BioC 3.10 |
|
This page was generated on 2020-04-15 12:21:34 -0400 (Wed, 15 Apr 2020).
| Package 360/1823 | Hostname | OS / Arch | INSTALL | BUILD | CHECK | BUILD BIN | ||||||
| copynumber 1.26.0 Gro Nilsen
| malbec1 | Linux (Ubuntu 18.04.4 LTS) / x86_64 | OK | OK | OK | |||||||
| tokay1 | Windows Server 2012 R2 Standard / x64 | OK | OK | OK | [ OK ] | |||||||
| merida1 | OS X 10.11.6 El Capitan / x86_64 | OK | OK | OK | OK |
| Package: copynumber |
| Version: 1.26.0 |
| Command: rm -rf copynumber.buildbin-libdir && mkdir copynumber.buildbin-libdir && C:\Users\biocbuild\bbs-3.10-bioc\R\bin\R.exe CMD INSTALL --merge-multiarch --build --library=copynumber.buildbin-libdir copynumber_1.26.0.tar.gz |
| StartedAt: 2020-04-15 08:29:16 -0400 (Wed, 15 Apr 2020) |
| EndedAt: 2020-04-15 08:29:58 -0400 (Wed, 15 Apr 2020) |
| EllapsedTime: 42.2 seconds |
| RetCode: 0 |
| Status: OK |
| PackageFile: copynumber_1.26.0.zip |
| PackageFileSize: 1.54 MiB |
##############################################################################
##############################################################################
###
### Running command:
###
### rm -rf copynumber.buildbin-libdir && mkdir copynumber.buildbin-libdir && C:\Users\biocbuild\bbs-3.10-bioc\R\bin\R.exe CMD INSTALL --merge-multiarch --build --library=copynumber.buildbin-libdir copynumber_1.26.0.tar.gz
###
##############################################################################
##############################################################################
install for i386
* installing *source* package 'copynumber' ...
** using staged installation
** R
** data
*** moving datasets to lazyload DB
** inst
** byte-compile and prepare package for lazy loading
** help
*** installing help indices
converting help for package 'copynumber'
finding HTML links ... done
SNPdata html
aspcf html
callAberrations html
getGRangesFormat html
imputeMissing html
interpolate.pcf html
lymphoma html
micma html
multipcf html
pcf html
pcfPlain html
plotAberration html
plotAllele html
plotChrom html
plotCircle html
plotFreq html
plotGamma html
plotGenome html
plotHeatmap html
plotSample html
selectSegments html
subsetData html
subsetSegments html
winsorize html
** building package indices
** installing vignettes
** testing if installed package can be loaded from temporary location
** testing if installed package can be loaded from final location
** testing if installed package keeps a record of temporary installation path
install for x64
* installing *source* package 'copynumber' ...
** testing if installed package can be loaded
* MD5 sums
packaged installation of 'copynumber' as copynumber_1.26.0.zip
* DONE (copynumber)