| Back to Multiple platform build/check report for BioC 3.10 |
|
This page was generated on 2020-04-15 12:22:56 -0400 (Wed, 15 Apr 2020).
| Package 345/1823 | Hostname | OS / Arch | INSTALL | BUILD | CHECK | BUILD BIN | ||||||
| compcodeR 1.22.0 Charlotte Soneson
| malbec1 | Linux (Ubuntu 18.04.4 LTS) / x86_64 | OK | OK | OK | |||||||
| tokay1 | Windows Server 2012 R2 Standard / x64 | OK | OK | OK | [ OK ] | |||||||
| merida1 | OS X 10.11.6 El Capitan / x86_64 | OK | OK | OK | OK |
| Package: compcodeR |
| Version: 1.22.0 |
| Command: rm -rf compcodeR.buildbin-libdir && mkdir compcodeR.buildbin-libdir && C:\Users\biocbuild\bbs-3.10-bioc\R\bin\R.exe CMD INSTALL --merge-multiarch --build --library=compcodeR.buildbin-libdir compcodeR_1.22.0.tar.gz |
| StartedAt: 2020-04-15 08:28:19 -0400 (Wed, 15 Apr 2020) |
| EndedAt: 2020-04-15 08:28:54 -0400 (Wed, 15 Apr 2020) |
| EllapsedTime: 35.5 seconds |
| RetCode: 0 |
| Status: OK |
| PackageFile: compcodeR_1.22.0.zip |
| PackageFileSize: 1.527 MiB |
##############################################################################
##############################################################################
###
### Running command:
###
### rm -rf compcodeR.buildbin-libdir && mkdir compcodeR.buildbin-libdir && C:\Users\biocbuild\bbs-3.10-bioc\R\bin\R.exe CMD INSTALL --merge-multiarch --build --library=compcodeR.buildbin-libdir compcodeR_1.22.0.tar.gz
###
##############################################################################
##############################################################################
install for i386
* installing *source* package 'compcodeR' ...
** using staged installation
** R
** inst
** byte-compile and prepare package for lazy loading
** help
*** installing help indices
converting help for package 'compcodeR'
finding HTML links ... done
DESeq.GLM.createRmd html
DESeq.nbinom.createRmd html
DESeq2.createRmd html
DSS.createRmd html
EBSeq.createRmd html
NBPSeq.createRmd html
NOISeq.prenorm.createRmd html
TCC.createRmd html
baySeq.createRmd html
checkDataObject html
checkTableConsistency html
check_compData html
check_compData_results html
compData-class html
compData html
compcodeR-package html
convertListTocompData html
convertcompDataToList html
edgeR.GLM.createRmd html
edgeR.exact.createRmd html
generateCodeHTMLs html
generateSyntheticData html
listcreateRmd html
logcpm.limma.createRmd html
runComparison html
runComparisonGUI html
runDiffExp html
show-compData-method html
sqrtcpm.limma.createRmd html
summarizeSyntheticDataSet html
ttest.createRmd html
voom.limma.createRmd html
voom.ttest.createRmd html
vst.limma.createRmd html
vst.ttest.createRmd html
** building package indices
** installing vignettes
** testing if installed package can be loaded from temporary location
** testing if installed package can be loaded from final location
** testing if installed package keeps a record of temporary installation path
install for x64
* installing *source* package 'compcodeR' ...
** testing if installed package can be loaded
* MD5 sums
packaged installation of 'compcodeR' as compcodeR_1.22.0.zip
* DONE (compcodeR)