| Back to Multiple platform build/check report for BioC 3.10 |
|
This page was generated on 2020-04-15 12:21:54 -0400 (Wed, 15 Apr 2020).
| Package 331/1823 | Hostname | OS / Arch | INSTALL | BUILD | CHECK | BUILD BIN | ||||||
| cobindR 1.24.0 Manuela Benary
| malbec1 | Linux (Ubuntu 18.04.4 LTS) / x86_64 | ERROR | ERROR | skipped | |||||||
| tokay1 | Windows Server 2012 R2 Standard / x64 | ERROR | [ ERROR ] | skipped | skipped | |||||||
| merida1 | OS X 10.11.6 El Capitan / x86_64 | ERROR | ERROR | skipped | skipped |
| Package: cobindR |
| Version: 1.24.0 |
| Command: chmod a+r cobindR -R && C:\Users\biocbuild\bbs-3.10-bioc\R\bin\R.exe CMD build --keep-empty-dirs --no-resave-data cobindR |
| StartedAt: 2020-04-14 21:44:46 -0400 (Tue, 14 Apr 2020) |
| EndedAt: 2020-04-14 21:45:06 -0400 (Tue, 14 Apr 2020) |
| EllapsedTime: 20.7 seconds |
| RetCode: 1 |
| Status: ERROR |
| PackageFile: cobindR_1.24.0.tar.gz |
| PackageFileSize: 820.2 KiB |
##############################################################################
##############################################################################
###
### Running command:
###
### chmod a+r cobindR -R && C:\Users\biocbuild\bbs-3.10-bioc\R\bin\R.exe CMD build --keep-empty-dirs --no-resave-data cobindR
###
##############################################################################
##############################################################################
* checking for file 'cobindR/DESCRIPTION' ... OK
* preparing 'cobindR':
* checking DESCRIPTION meta-information ... OK
* installing the package to build vignettes
-----------------------------------
ERROR: dependency 'rtfbs' is not available for package 'cobindR'
* removing 'C:/Users/biocbuild/bbs-3.10-bioc/tmpdir/RtmpmkHpCG/Rinst104799d13f6/cobindR'
-----------------------------------
ERROR: package installation failed