| Back to Multiple platform build/check report for BioC 3.10 |
|
This page was generated on 2020-04-15 12:09:35 -0400 (Wed, 15 Apr 2020).
| Package 342/1823 | Hostname | OS / Arch | INSTALL | BUILD | CHECK | BUILD BIN | ||||||
| coMET 1.18.0 Tiphaine Martin
| malbec1 | Linux (Ubuntu 18.04.4 LTS) / x86_64 | OK | OK | [ OK ] | |||||||
| tokay1 | Windows Server 2012 R2 Standard / x64 | OK | OK | OK | OK | |||||||
| merida1 | OS X 10.11.6 El Capitan / x86_64 | OK | OK | OK | OK |
| Package: coMET |
| Version: 1.18.0 |
| Command: /home/biocbuild/bbs-3.10-bioc/R/bin/R CMD check --install=check:coMET.install-out.txt --library=/home/biocbuild/bbs-3.10-bioc/R/library --no-vignettes --timings coMET_1.18.0.tar.gz |
| StartedAt: 2020-04-15 02:44:01 -0400 (Wed, 15 Apr 2020) |
| EndedAt: 2020-04-15 02:54:00 -0400 (Wed, 15 Apr 2020) |
| EllapsedTime: 599.4 seconds |
| RetCode: 0 |
| Status: OK |
| CheckDir: coMET.Rcheck |
| Warnings: 0 |
##############################################################################
##############################################################################
###
### Running command:
###
### /home/biocbuild/bbs-3.10-bioc/R/bin/R CMD check --install=check:coMET.install-out.txt --library=/home/biocbuild/bbs-3.10-bioc/R/library --no-vignettes --timings coMET_1.18.0.tar.gz
###
##############################################################################
##############################################################################
* using log directory ‘/home/biocbuild/bbs-3.10-bioc/meat/coMET.Rcheck’
* using R version 3.6.3 (2020-02-29)
* using platform: x86_64-pc-linux-gnu (64-bit)
* using session charset: UTF-8
* using option ‘--no-vignettes’
* checking for file ‘coMET/DESCRIPTION’ ... OK
* checking extension type ... Package
* this is package ‘coMET’ version ‘1.18.0’
* checking package namespace information ... OK
* checking package dependencies ... OK
* checking if this is a source package ... OK
* checking if there is a namespace ... OK
* checking for hidden files and directories ... OK
* checking for portable file names ... OK
* checking for sufficient/correct file permissions ... OK
* checking whether package ‘coMET’ can be installed ... OK
* checking installed package size ... NOTE
installed size is 18.9Mb
sub-directories of 1Mb or more:
data 7.5Mb
extdata 10.7Mb
* checking package directory ... OK
* checking ‘build’ directory ... OK
* checking DESCRIPTION meta-information ... OK
* checking top-level files ... NOTE
File
LICENSE
is not mentioned in the DESCRIPTION file.
* checking for left-over files ... OK
* checking index information ... OK
* checking package subdirectories ... OK
* checking R files for non-ASCII characters ... OK
* checking R files for syntax errors ... OK
* checking whether the package can be loaded ... OK
* checking whether the package can be loaded with stated dependencies ... OK
* checking whether the package can be unloaded cleanly ... OK
* checking whether the namespace can be loaded with stated dependencies ... OK
* checking whether the namespace can be unloaded cleanly ... OK
* checking dependencies in R code ... OK
* checking S3 generic/method consistency ... OK
* checking replacement functions ... OK
* checking foreign function calls ... OK
* checking R code for possible problems ... NOTE
draw.plot.annotation : <anonymous>: no visible global function
definition for 'ggplotGrob'
draw.plot.annotation: no visible global function definition for
'viewTracks'
draw.plot.annotation: no visible global function definition for
'trackList'
eQTL: no visible binding for global variable 'chromosome_stop'
eQTL: no visible binding for global variable 'chromosome_start'
eQTL: no visible binding for global variable 'chromosome_name'
eQTL_GTEx: no visible binding for global variable 'snp_pos'
eQTL_GTEx: no visible binding for global variable 'snp_chrom'
eQTL_GTEx: no visible binding for global variable 'gene_start'
eQTL_GTEx: no visible binding for global variable 'gene_stop'
eQTL_GTEx: no visible binding for global variable 'gene_chr'
geneExpression_GTEx: no visible global function definition for 'as'
metQTL: no visible binding for global variable 'chromosome_stop'
metQTL: no visible binding for global variable 'chromosome_start'
metQTL: no visible binding for global variable 'chromosome_name'
psiQTL_GTEx: no visible binding for global variable 'pos_snp'
psiQTL_GTEx: no visible binding for global variable 'chr_snp'
psiQTL_GTEx: no visible binding for global variable 'pos_middle_exon'
psiQTL_GTEx: no visible binding for global variable 'chr_exon'
Undefined global functions or variables:
as chr_exon chr_snp chromosome_name chromosome_start chromosome_stop
gene_chr gene_start gene_stop ggplotGrob pos_middle_exon pos_snp
snp_chrom snp_pos trackList viewTracks
Consider adding
importFrom("methods", "as")
to your NAMESPACE file (and ensure that your DESCRIPTION Imports field
contains 'methods').
* checking Rd files ... OK
* checking Rd metadata ... OK
* checking Rd cross-references ... OK
* checking for missing documentation entries ... OK
* checking for code/documentation mismatches ... OK
* checking Rd \usage sections ... OK
* checking Rd contents ... OK
* checking for unstated dependencies in examples ... OK
* checking contents of ‘data’ directory ... OK
* checking data for non-ASCII characters ... OK
* checking data for ASCII and uncompressed saves ... OK
* checking files in ‘vignettes’ ... OK
* checking examples ... OK
Examples with CPU or elapsed time > 5s
user system elapsed
comet.web 7.860 0.032 62.798
chromatinHMMAll_UCSC 6.492 0.000 6.546
coMET-package 6.036 0.032 23.318
HistoneAll_UCSC 5.876 0.000 5.897
imprintedGenes_GTEx 5.776 0.020 6.123
* checking for unstated dependencies in ‘tests’ ... OK
* checking tests ...
Running ‘runTests.R’
OK
* checking for unstated dependencies in vignettes ... OK
* checking package vignettes in ‘inst/doc’ ... OK
* checking running R code from vignettes ... SKIPPED
* checking re-building of vignette outputs ... SKIPPED
* checking PDF version of manual ... OK
* DONE
Status: 3 NOTEs
See
‘/home/biocbuild/bbs-3.10-bioc/meat/coMET.Rcheck/00check.log’
for details.
coMET.Rcheck/00install.out
############################################################################## ############################################################################## ### ### Running command: ### ### /home/biocbuild/bbs-3.10-bioc/R/bin/R CMD INSTALL coMET ### ############################################################################## ############################################################################## * installing to library ‘/home/biocbuild/bbs-3.10-bioc/R/library’ * installing *source* package ‘coMET’ ... ** using staged installation ** R ** data ** inst ** byte-compile and prepare package for lazy loading ** help *** installing help indices ** building package indices ** installing vignettes ** testing if installed package can be loaded from temporary location ** testing if installed package can be loaded from final location ** testing if installed package keeps a record of temporary installation path * DONE (coMET)
coMET.Rcheck/tests/runTests.Rout
R version 3.6.3 (2020-02-29) -- "Holding the Windsock"
Copyright (C) 2020 The R Foundation for Statistical Computing
Platform: x86_64-pc-linux-gnu (64-bit)
R is free software and comes with ABSOLUTELY NO WARRANTY.
You are welcome to redistribute it under certain conditions.
Type 'license()' or 'licence()' for distribution details.
R is a collaborative project with many contributors.
Type 'contributors()' for more information and
'citation()' on how to cite R or R packages in publications.
Type 'demo()' for some demos, 'help()' for on-line help, or
'help.start()' for an HTML browser interface to help.
Type 'q()' to quit R.
> require("coMET") || stop("unable to load Package:coMET")
Loading required package: coMET
Loading required package: grid
Loading required package: biomaRt
Loading required package: Gviz
Loading required package: S4Vectors
Loading required package: stats4
Loading required package: BiocGenerics
Loading required package: parallel
Attaching package: 'BiocGenerics'
The following objects are masked from 'package:parallel':
clusterApply, clusterApplyLB, clusterCall, clusterEvalQ,
clusterExport, clusterMap, parApply, parCapply, parLapply,
parLapplyLB, parRapply, parSapply, parSapplyLB
The following objects are masked from 'package:stats':
IQR, mad, sd, var, xtabs
The following objects are masked from 'package:base':
Filter, Find, Map, Position, Reduce, anyDuplicated, append,
as.data.frame, basename, cbind, colnames, dirname, do.call,
duplicated, eval, evalq, get, grep, grepl, intersect, is.unsorted,
lapply, mapply, match, mget, order, paste, pmax, pmax.int, pmin,
pmin.int, rank, rbind, rownames, sapply, setdiff, sort, table,
tapply, union, unique, unsplit, which, which.max, which.min
Attaching package: 'S4Vectors'
The following object is masked from 'package:base':
expand.grid
Loading required package: IRanges
Loading required package: GenomicRanges
Loading required package: GenomeInfoDb
Loading required package: psych
Attaching package: 'psych'
The following object is masked from 'package:IRanges':
reflect
[1] TRUE
> BiocGenerics:::testPackage("coMET")
RUNIT TEST PROTOCOL -- Wed Apr 15 02:53:55 2020
***********************************************
Number of test functions: 1
Number of errors: 0
Number of failures: 0
1 Test Suite :
coMET RUnit Tests - 1 test function, 0 errors, 0 failures
Number of test functions: 1
Number of errors: 0
Number of failures: 0
>
> proc.time()
user system elapsed
17.328 0.496 18.131
coMET.Rcheck/coMET-Ex.timings
| name | user | system | elapsed | |
| COSMIC_UCSC | 2.228 | 0.052 | 2.324 | |
| ChIPTF_ENCODE | 1.220 | 0.108 | 1.336 | |
| ClinVarCnv_UCSC | 0.660 | 0.032 | 0.705 | |
| ClinVarMain_UCSC | 0.652 | 0.016 | 0.680 | |
| CoreillCNV_UCSC | 0.636 | 0.000 | 0.651 | |
| DNAse_UCSC | 0.660 | 0.004 | 0.675 | |
| DNaseI_FANTOM | 0.744 | 0.024 | 0.778 | |
| DNaseI_RoadMap | 0.320 | 0.000 | 0.323 | |
| GAD_UCSC | 0.636 | 0.004 | 0.662 | |
| GWAScatalog_UCSC | 0.536 | 0.004 | 0.541 | |
| GeneReviews_UCSC | 0.940 | 0.004 | 0.952 | |
| HiCdata2matrix | 0.032 | 0.004 | 0.035 | |
| HistoneAll_UCSC | 5.876 | 0.000 | 5.897 | |
| HistoneOne_UCSC | 0.440 | 0.000 | 0.441 | |
| ISCA_UCSC | 0.576 | 0.000 | 0.578 | |
| TFBS_FANTOM | 0.424 | 0.000 | 0.424 | |
| bindingMotifsBiomart_ENSEMBL | 0.260 | 0.000 | 0.262 | |
| chrUCSC2ENSEMBL | 0.000 | 0.000 | 0.001 | |
| chromHMM_RoadMap | 0.884 | 0.004 | 0.893 | |
| chromatinHMMAll_UCSC | 6.492 | 0.000 | 6.546 | |
| chromatinHMMOne_UCSC | 0.872 | 0.000 | 0.946 | |
| coMET-package | 6.036 | 0.032 | 23.318 | |
| comet | 4.212 | 0.032 | 4.302 | |
| comet.list | 1.192 | 0.000 | 1.215 | |
| comet.web | 7.860 | 0.032 | 62.798 | |
| cpgIslands_UCSC | 0.260 | 0.000 | 0.257 | |
| dgfootprints_RoadMap | 1.032 | 0.008 | 1.053 | |
| eQTL | 1.432 | 0.012 | 1.448 | |
| eQTL_GTEx | 1.364 | 0.004 | 1.374 | |
| gcContent_UCSC | 1.428 | 0.004 | 1.442 | |
| genesName_ENSEMBL | 0.004 | 0.000 | 0.004 | |
| genes_ENSEMBL | 1.148 | 0.000 | 1.175 | |
| imprintedGenes_GTEx | 5.776 | 0.020 | 6.123 | |
| interestGenes_ENSEMBL | 1.132 | 0.000 | 1.155 | |
| interestTranscript_ENSEMBL | 1.280 | 0.000 | 1.338 | |
| knownGenes_UCSC | 1.512 | 0.000 | 1.667 | |
| metQTL | 1.496 | 0.000 | 1.573 | |
| miRNATargetRegionsBiomart_ENSEMBL | 0.092 | 0.000 | 0.095 | |
| otherRegulatoryRegionsBiomart_ENSEMBL | 0.208 | 0.000 | 0.213 | |
| psiQTL_GTEx | 1.632 | 0.000 | 1.663 | |
| refGenes_UCSC | 1.180 | 0.000 | 1.182 | |
| regulationBiomart_ENSEMBL | 0.484 | 0.000 | 0.487 | |
| regulatoryEvidenceBiomart_ENSEMBL | 0.284 | 0.000 | 0.284 | |
| regulatoryFeaturesBiomart_ENSEMBL | 0.328 | 0.000 | 0.338 | |
| regulatorySegmentsBiomart_ENSEMBL | 0.276 | 0.004 | 0.281 | |
| repeatMasker_UCSC | 0.804 | 0.004 | 0.812 | |
| segmentalDups_UCSC | 0.640 | 0.000 | 0.664 | |
| snpBiomart_ENSEMBL | 0.748 | 0.000 | 0.756 | |
| snpLocations_UCSC | 1.884 | 0.008 | 1.971 | |
| structureBiomart_ENSEMBL | 0.712 | 0.008 | 0.728 | |
| transcript_ENSEMBL | 2.496 | 0.000 | 2.536 | |
| xenorefGenes_UCSC | 0.960 | 0.000 | 0.976 | |