| Back to Multiple platform build/check report for BioC 3.10 |
|
This page was generated on 2020-04-15 12:37:26 -0400 (Wed, 15 Apr 2020).
| Package 316/1823 | Hostname | OS / Arch | INSTALL | BUILD | CHECK | BUILD BIN | ||||||
| cn.mops 1.32.0 Guenter Klambauer
| malbec1 | Linux (Ubuntu 18.04.4 LTS) / x86_64 | OK | OK | OK | |||||||
| tokay1 | Windows Server 2012 R2 Standard / x64 | OK | OK | OK | OK | |||||||
| merida1 | OS X 10.11.6 El Capitan / x86_64 | OK | OK | OK | [ OK ] |
| Package: cn.mops |
| Version: 1.32.0 |
| Command: rm -rf cn.mops.buildbin-libdir && mkdir cn.mops.buildbin-libdir && /Users/biocbuild/BBS/utils/build-universal.sh cn.mops_1.32.0.tar.gz /Library/Frameworks/R.framework/Versions/Current/Resources/bin/R cn.mops.buildbin-libdir |
| StartedAt: 2020-04-15 07:08:26 -0400 (Wed, 15 Apr 2020) |
| EndedAt: 2020-04-15 07:09:26 -0400 (Wed, 15 Apr 2020) |
| EllapsedTime: 60.2 seconds |
| RetCode: 0 |
| Status: OK |
| PackageFile: cn.mops_1.32.0.tgz |
| PackageFileSize: 1.298 MiB |
##############################################################################
##############################################################################
###
### Running command:
###
### rm -rf cn.mops.buildbin-libdir && mkdir cn.mops.buildbin-libdir && /Users/biocbuild/BBS/utils/build-universal.sh cn.mops_1.32.0.tar.gz /Library/Frameworks/R.framework/Versions/Current/Resources/bin/R cn.mops.buildbin-libdir
###
##############################################################################
##############################################################################
>>>>>>>
>>>>>>> INSTALLATION WITH 'R CMD INSTALL --preclean --no-multiarch --library=cn.mops.buildbin-libdir cn.mops_1.32.0.tar.gz'
>>>>>>>
* installing *source* package ‘cn.mops’ ...
** using staged installation
** libs
clang -I"/Library/Frameworks/R.framework/Resources/include" -DNDEBUG -isysroot /Library/Developer/CommandLineTools/SDKs/MacOSX.sdk -I/usr/local/include -fPIC -Wall -g -O2 -c R_init_cnmops.c -o R_init_cnmops.o
clang++ -std=gnu++11 -I"/Library/Frameworks/R.framework/Resources/include" -DNDEBUG -isysroot /Library/Developer/CommandLineTools/SDKs/MacOSX.sdk -I/usr/local/include -fPIC -Wall -g -O2 -c cnmops.cpp -o cnmops.o
clang++ -std=gnu++11 -I"/Library/Frameworks/R.framework/Resources/include" -DNDEBUG -isysroot /Library/Developer/CommandLineTools/SDKs/MacOSX.sdk -I/usr/local/include -fPIC -Wall -g -O2 -c segment.cpp -o segment.o
segment.cpp:64:9: warning: unused variable 'Rf_beta' [-Wunused-variable]
double beta,nn;
^
/Library/Frameworks/R.framework/Resources/include/Rmath.h:212:15: note: expanded from macro 'beta'
#define beta Rf_beta
^
1 warning generated.
clang++ -std=gnu++11 -dynamiclib -Wl,-headerpad_max_install_names -undefined dynamic_lookup -single_module -multiply_defined suppress -L/Library/Frameworks/R.framework/Resources/lib -L/usr/local/lib -o cn.mops.so R_init_cnmops.o cnmops.o segment.o -F/Library/Frameworks/R.framework/.. -framework R -Wl,-framework -Wl,CoreFoundation
installing to /Users/biocbuild/bbs-3.10-bioc/meat/cn.mops.buildbin-libdir/00LOCK-cn.mops/00new/cn.mops/libs
** R
** data
** inst
** byte-compile and prepare package for lazy loading
** help
*** installing help indices
** building package indices
** installing vignettes
** testing if installed package can be loaded from temporary location
** checking absolute paths in shared objects and dynamic libraries
** testing if installed package can be loaded from final location
** testing if installed package keeps a record of temporary installation path
* DONE (cn.mops)
>>>>>>>
>>>>>>> FIXING LINKS FOR cn.mops.buildbin-libdir/cn.mops/libs//cn.mops.so
>>>>>>>
install_name_tool -change "/usr/local/lib/libgcc_s.1.dylib" "/Library/Frameworks/R.framework/Versions/3.6/Resources/lib/libgcc_s.1.dylib" "cn.mops.buildbin-libdir/cn.mops/libs//cn.mops.so"
install_name_tool -change "/usr/local/lib/libgfortran.3.dylib" "/Library/Frameworks/R.framework/Versions/3.6/Resources/lib/libgfortran.3.dylib" "cn.mops.buildbin-libdir/cn.mops/libs//cn.mops.so"
install_name_tool -change "/usr/local/lib/libreadline.5.2.dylib" "/Library/Frameworks/R.framework/Versions/3.6/Resources/lib/libreadline.5.2.dylib" "cn.mops.buildbin-libdir/cn.mops/libs//cn.mops.so"
install_name_tool -change "/usr/local/lib/libreadline.dylib" "/Library/Frameworks/R.framework/Versions/3.6/Resources/lib/libreadline.dylib" "cn.mops.buildbin-libdir/cn.mops/libs//cn.mops.so"
install_name_tool -change "/usr/local/lib/libquadmath.0.dylib" "/Library/Frameworks/R.framework/Versions/3.6/Resources/lib/libquadmath.0.dylib" "cn.mops.buildbin-libdir/cn.mops/libs//cn.mops.so"