| Back to Multiple platform build/check report for BioC 3.10 |
|
This page was generated on 2020-04-15 12:38:20 -0400 (Wed, 15 Apr 2020).
| Package 208/1823 | Hostname | OS / Arch | INSTALL | BUILD | CHECK | BUILD BIN | ||||||
| bumphunter 1.28.0 Rafael A. Irizarry
| malbec1 | Linux (Ubuntu 18.04.4 LTS) / x86_64 | OK | OK | OK | |||||||
| tokay1 | Windows Server 2012 R2 Standard / x64 | OK | OK | WARNINGS | OK | |||||||
| merida1 | OS X 10.11.6 El Capitan / x86_64 | OK | OK | [ OK ] | OK |
| Package: bumphunter |
| Version: 1.28.0 |
| Command: /Library/Frameworks/R.framework/Versions/Current/Resources/bin/R CMD check --install=check:bumphunter.install-out.txt --library=/Library/Frameworks/R.framework/Versions/Current/Resources/library --no-vignettes --timings bumphunter_1.28.0.tar.gz |
| StartedAt: 2020-04-15 00:52:27 -0400 (Wed, 15 Apr 2020) |
| EndedAt: 2020-04-15 01:00:17 -0400 (Wed, 15 Apr 2020) |
| EllapsedTime: 470.1 seconds |
| RetCode: 0 |
| Status: OK |
| CheckDir: bumphunter.Rcheck |
| Warnings: 0 |
############################################################################## ############################################################################## ### ### Running command: ### ### /Library/Frameworks/R.framework/Versions/Current/Resources/bin/R CMD check --install=check:bumphunter.install-out.txt --library=/Library/Frameworks/R.framework/Versions/Current/Resources/library --no-vignettes --timings bumphunter_1.28.0.tar.gz ### ############################################################################## ############################################################################## * using log directory ‘/Users/biocbuild/bbs-3.10-bioc/meat/bumphunter.Rcheck’ * using R version 3.6.3 (2020-02-29) * using platform: x86_64-apple-darwin15.6.0 (64-bit) * using session charset: UTF-8 * using option ‘--no-vignettes’ * checking for file ‘bumphunter/DESCRIPTION’ ... OK * this is package ‘bumphunter’ version ‘1.28.0’ * checking package namespace information ... OK * checking package dependencies ... NOTE Depends: includes the non-default packages: 'S4Vectors', 'IRanges', 'GenomeInfoDb', 'GenomicRanges', 'foreach', 'iterators', 'parallel', 'locfit' Adding so many packages to the search path is excessive and importing selectively is preferable. * checking if this is a source package ... OK * checking if there is a namespace ... OK * checking for hidden files and directories ... OK * checking for portable file names ... OK * checking for sufficient/correct file permissions ... OK * checking whether package ‘bumphunter’ can be installed ... OK * checking installed package size ... OK * checking package directory ... OK * checking ‘build’ directory ... OK * checking DESCRIPTION meta-information ... NOTE Malformed Description field: should contain one or more complete sentences. * checking top-level files ... OK * checking for left-over files ... OK * checking index information ... OK * checking package subdirectories ... OK * checking R files for non-ASCII characters ... OK * checking R files for syntax errors ... OK * checking whether the package can be loaded ... OK * checking whether the package can be loaded with stated dependencies ... OK * checking whether the package can be unloaded cleanly ... OK * checking whether the namespace can be loaded with stated dependencies ... OK * checking whether the namespace can be unloaded cleanly ... OK * checking dependencies in R code ... NOTE Unexported object imported by a ':::' call: ‘doParallel:::.options’ See the note in ?`:::` about the use of this operator. * checking S3 generic/method consistency ... OK * checking replacement functions ... OK * checking foreign function calls ... OK * checking R code for possible problems ... NOTE bumphunterEngine: no visible binding for global variable ‘bootstraps’ Undefined global functions or variables: bootstraps * checking Rd files ... OK * checking Rd metadata ... OK * checking Rd cross-references ... OK * checking for missing documentation entries ... OK * checking for code/documentation mismatches ... OK * checking Rd \usage sections ... OK * checking Rd contents ... OK * checking for unstated dependencies in examples ... OK * checking contents of ‘data’ directory ... OK * checking data for non-ASCII characters ... OK * checking data for ASCII and uncompressed saves ... OK * checking sizes of PDF files under ‘inst/doc’ ... OK * checking files in ‘vignettes’ ... OK * checking examples ... OK * checking for unstated dependencies in ‘tests’ ... OK * checking tests ... Running ‘runTests.R’ Running ‘test-all.R’ OK * checking for unstated dependencies in vignettes ... OK * checking package vignettes in ‘inst/doc’ ... OK * checking running R code from vignettes ... SKIPPED * checking re-building of vignette outputs ... SKIPPED * checking PDF version of manual ... OK * DONE Status: 4 NOTEs See ‘/Users/biocbuild/bbs-3.10-bioc/meat/bumphunter.Rcheck/00check.log’ for details.
bumphunter.Rcheck/00install.out
############################################################################## ############################################################################## ### ### Running command: ### ### /Library/Frameworks/R.framework/Versions/Current/Resources/bin/R CMD INSTALL bumphunter ### ############################################################################## ############################################################################## * installing to library ‘/Library/Frameworks/R.framework/Versions/3.6/Resources/library’ * installing *source* package ‘bumphunter’ ... ** using staged installation ** R ** data *** moving datasets to lazyload DB ** inst ** byte-compile and prepare package for lazy loading ** help *** installing help indices ** building package indices ** installing vignettes ** testing if installed package can be loaded from temporary location ** testing if installed package can be loaded from final location ** testing if installed package keeps a record of temporary installation path * DONE (bumphunter)
bumphunter.Rcheck/tests/runTests.Rout
R version 3.6.3 (2020-02-29) -- "Holding the Windsock"
Copyright (C) 2020 The R Foundation for Statistical Computing
Platform: x86_64-apple-darwin15.6.0 (64-bit)
R is free software and comes with ABSOLUTELY NO WARRANTY.
You are welcome to redistribute it under certain conditions.
Type 'license()' or 'licence()' for distribution details.
R is a collaborative project with many contributors.
Type 'contributors()' for more information and
'citation()' on how to cite R or R packages in publications.
Type 'demo()' for some demos, 'help()' for on-line help, or
'help.start()' for an HTML browser interface to help.
Type 'q()' to quit R.
> require("bumphunter") || stop("unable to load bumphunter")
Loading required package: bumphunter
Loading required package: S4Vectors
Loading required package: stats4
Loading required package: BiocGenerics
Loading required package: parallel
Attaching package: 'BiocGenerics'
The following objects are masked from 'package:parallel':
clusterApply, clusterApplyLB, clusterCall, clusterEvalQ,
clusterExport, clusterMap, parApply, parCapply, parLapply,
parLapplyLB, parRapply, parSapply, parSapplyLB
The following objects are masked from 'package:stats':
IQR, mad, sd, var, xtabs
The following objects are masked from 'package:base':
Filter, Find, Map, Position, Reduce, anyDuplicated, append,
as.data.frame, basename, cbind, colnames, dirname, do.call,
duplicated, eval, evalq, get, grep, grepl, intersect, is.unsorted,
lapply, mapply, match, mget, order, paste, pmax, pmax.int, pmin,
pmin.int, rank, rbind, rownames, sapply, setdiff, sort, table,
tapply, union, unique, unsplit, which, which.max, which.min
Attaching package: 'S4Vectors'
The following object is masked from 'package:base':
expand.grid
Loading required package: IRanges
Loading required package: GenomeInfoDb
Loading required package: GenomicRanges
Loading required package: foreach
Loading required package: iterators
Loading required package: locfit
locfit 1.5-9.4 2020-03-24
[1] TRUE
> BiocGenerics:::testPackage("bumphunter")
[bumphunterEngine] Using a single core (backend: doSEQ, version: 1.5.0).
[bumphunterEngine] Computing coefficients.
[bumphunterEngine] Smoothing coefficients.
Loading required package: rngtools
[bumphunterEngine] Performing 500 permutations.
[bumphunterEngine] Computing marginal permutation p-values.
[bumphunterEngine] Smoothing permutation coefficients.
[bumphunterEngine] cutoff: 0.28
[bumphunterEngine] Finding regions.
[bumphunterEngine] Found 2 bumps.
[bumphunterEngine] Computing regions for each permutation.
[bumphunterEngine] Estimating p-values and FWER.
[bumphunterEngine] Using a single core (backend: doSEQ, version: 1.5.0).
[bumphunterEngine] Computing coefficients.
[bumphunterEngine] Smoothing coefficients.
[bumphunterEngine] Performing 500 permutations.
[bumphunterEngine] Computing marginal permutation p-values.
[bumphunterEngine] Smoothing permutation coefficients.
[bumphunterEngine] cutoff: 0.28
[bumphunterEngine] Finding regions.
[bumphunterEngine] Found 2 bumps.
[bumphunterEngine] Computing regions for each permutation.
[bumphunterEngine] Estimating p-values and FWER.
Loading required package: doParallel
[bumphunterEngine] Parallelizing using 2 workers/cores (backend: doParallelMC, version: 1.0.15).
[bumphunterEngine] Computing coefficients.
[bumphunterEngine] Smoothing coefficients.
[bumphunterEngine] Performing 500 permutations.
[bumphunterEngine] Computing marginal permutation p-values.
[bumphunterEngine] Smoothing permutation coefficients.
[bumphunterEngine] cutoff: 0.28
[bumphunterEngine] Finding regions.
[bumphunterEngine] Found 2 bumps.
[bumphunterEngine] Computing regions for each permutation.
[bumphunterEngine] Estimating p-values and FWER.
[bumphunterEngine] Parallelizing using 2 workers/cores (backend: doParallelSNOW, version: 1.0.15).
[bumphunterEngine] Computing coefficients.
[bumphunterEngine] Smoothing coefficients.
[bumphunterEngine] Performing 500 permutations.
[bumphunterEngine] Computing marginal permutation p-values.
[bumphunterEngine] Smoothing permutation coefficients.
[bumphunterEngine] cutoff: 0.28
[bumphunterEngine] Finding regions.
[bumphunterEngine] Found 2 bumps.
[bumphunterEngine] Computing regions for each permutation.
[bumphunterEngine] Estimating p-values and FWER.
RUNIT TEST PROTOCOL -- Wed Apr 15 00:57:24 2020
***********************************************
Number of test functions: 5
Number of errors: 0
Number of failures: 0
1 Test Suite :
bumphunter RUnit Tests - 5 test functions, 0 errors, 0 failures
Number of test functions: 5
Number of errors: 0
Number of failures: 0
>
> proc.time()
user system elapsed
23.371 2.947 41.592
bumphunter.Rcheck/tests/test-all.Rout
R version 3.6.3 (2020-02-29) -- "Holding the Windsock"
Copyright (C) 2020 The R Foundation for Statistical Computing
Platform: x86_64-apple-darwin15.6.0 (64-bit)
R is free software and comes with ABSOLUTELY NO WARRANTY.
You are welcome to redistribute it under certain conditions.
Type 'license()' or 'licence()' for distribution details.
R is a collaborative project with many contributors.
Type 'contributors()' for more information and
'citation()' on how to cite R or R packages in publications.
Type 'demo()' for some demos, 'help()' for on-line help, or
'help.start()' for an HTML browser interface to help.
Type 'q()' to quit R.
> library('testthat')
> test_check('bumphunter')
Loading required package: bumphunter
Loading required package: S4Vectors
Loading required package: stats4
Loading required package: BiocGenerics
Loading required package: parallel
Attaching package: 'BiocGenerics'
The following objects are masked from 'package:parallel':
clusterApply, clusterApplyLB, clusterCall, clusterEvalQ,
clusterExport, clusterMap, parApply, parCapply, parLapply,
parLapplyLB, parRapply, parSapply, parSapplyLB
The following objects are masked from 'package:stats':
IQR, mad, sd, var, xtabs
The following objects are masked from 'package:base':
Filter, Find, Map, Position, Reduce, anyDuplicated, append,
as.data.frame, basename, cbind, colnames, dirname, do.call,
duplicated, eval, evalq, get, grep, grepl, intersect, is.unsorted,
lapply, mapply, match, mget, order, paste, pmax, pmax.int, pmin,
pmin.int, rank, rbind, rownames, sapply, setdiff, sort, table,
tapply, union, unique, unsplit, which, which.max, which.min
Attaching package: 'S4Vectors'
The following object is masked from 'package:base':
expand.grid
Loading required package: IRanges
Loading required package: GenomeInfoDb
Loading required package: GenomicRanges
Loading required package: foreach
Loading required package: iterators
Loading required package: locfit
locfit 1.5-9.4 2020-03-24
trying URL 'ftp://ftp.ebi.ac.uk/pub/databases/gencode/Gencode_human/release_25/gencode.v25.annotation.gtf.gz'
Content type 'unknown' length 38817086 bytes (37.0 MB)
==================================================
══ testthat results ═══════════════════════════════════════════════════════════
[ OK: 15 | SKIPPED: 0 | WARNINGS: 1 | FAILED: 0 ]
>
> proc.time()
user system elapsed
150.560 3.457 163.043
bumphunter.Rcheck/bumphunter-Ex.timings
| name | user | system | elapsed | |
| annotateNearest | 0.820 | 0.041 | 0.913 | |
| annotateTranscripts | 0 | 0 | 0 | |
| bumphunter | 3.014 | 1.111 | 2.356 | |
| clusterMaker | 0.013 | 0.001 | 0.016 | |
| dummyData | 0.004 | 0.001 | 0.005 | |
| getSegments | 0.024 | 0.005 | 0.029 | |
| locfitByCluster | 0.035 | 0.008 | 0.043 | |
| loessByCluster | 0.331 | 0.055 | 0.390 | |
| matchGenes | 0 | 0 | 0 | |
| regionFinder | 0.034 | 0.004 | 0.037 | |
| runmedByCluster | 0.006 | 0.001 | 0.006 | |
| smoother | 0.126 | 0.081 | 0.178 | |