| Back to Multiple platform build/check report for BioC 3.10 |
|
This page was generated on 2020-04-15 12:33:37 -0400 (Wed, 15 Apr 2020).
| Package 193/1823 | Hostname | OS / Arch | INSTALL | BUILD | CHECK | BUILD BIN | ||||||
| brainflowprobes 1.0.0 Amanda Price
| malbec1 | Linux (Ubuntu 18.04.4 LTS) / x86_64 | OK | OK | OK | |||||||
| tokay1 | Windows Server 2012 R2 Standard / x64 | OK | OK | OK | [ OK ] | |||||||
| merida1 | OS X 10.11.6 El Capitan / x86_64 | OK | OK | OK | OK |
| Package: brainflowprobes |
| Version: 1.0.0 |
| Command: rm -rf brainflowprobes.buildbin-libdir && mkdir brainflowprobes.buildbin-libdir && C:\Users\biocbuild\bbs-3.10-bioc\R\bin\R.exe CMD INSTALL --merge-multiarch --build --library=brainflowprobes.buildbin-libdir brainflowprobes_1.0.0.tar.gz |
| StartedAt: 2020-04-15 08:18:50 -0400 (Wed, 15 Apr 2020) |
| EndedAt: 2020-04-15 08:20:12 -0400 (Wed, 15 Apr 2020) |
| EllapsedTime: 82.2 seconds |
| RetCode: 0 |
| Status: OK |
| PackageFile: brainflowprobes_1.0.0.zip |
| PackageFileSize: 1.778 MiB |
##############################################################################
##############################################################################
###
### Running command:
###
### rm -rf brainflowprobes.buildbin-libdir && mkdir brainflowprobes.buildbin-libdir && C:\Users\biocbuild\bbs-3.10-bioc\R\bin\R.exe CMD INSTALL --merge-multiarch --build --library=brainflowprobes.buildbin-libdir brainflowprobes_1.0.0.tar.gz
###
##############################################################################
##############################################################################
install for i386
* installing *source* package 'brainflowprobes' ...
** using staged installation
** R
** data
*** moving datasets to lazyload DB
** inst
** byte-compile and prepare package for lazy loading
** help
*** installing help indices
converting help for package 'brainflowprobes'
finding HTML links ... done
brainflowprobes-package html
brainflowprobes_cov html
check_pdf html
four_panels html
four_panels_example_cov html
get_nearest_annotation html
get_region_cov html
pd html
plot_coverage html
region_info html
** building package indices
** installing vignettes
** testing if installed package can be loaded from temporary location
** testing if installed package can be loaded from final location
** testing if installed package keeps a record of temporary installation path
install for x64
* installing *source* package 'brainflowprobes' ...
** testing if installed package can be loaded
* MD5 sums
packaged installation of 'brainflowprobes' as brainflowprobes_1.0.0.zip
* DONE (brainflowprobes)