| Back to Multiple platform build/check report for BioC 3.10 |
|
This page was generated on 2020-04-15 12:30:55 -0400 (Wed, 15 Apr 2020).
| Package 194/1823 | Hostname | OS / Arch | INSTALL | BUILD | CHECK | BUILD BIN | ||||||
Sara B Linker
| malbec1 | Linux (Ubuntu 18.04.4 LTS) / x86_64 | OK | ERROR | skipped | |||||||
| tokay1 | Windows Server 2012 R2 Standard / x64 | [ OK ] | ERROR | skipped | skipped | |||||||
| merida1 | OS X 10.11.6 El Capitan / x86_64 | OK | ERROR | skipped | skipped |
| Package: brainImageR |
| Version: 1.4.0 |
| Command: C:\cygwin\bin\curl.exe -O https://malbec1.bioconductor.org/BBS/3.10/bioc/src/contrib/brainImageR_1.4.0.tar.gz && rm -rf brainImageR.buildbin-libdir && mkdir brainImageR.buildbin-libdir && C:\Users\biocbuild\bbs-3.10-bioc\R\bin\R.exe CMD INSTALL --merge-multiarch --build --library=brainImageR.buildbin-libdir brainImageR_1.4.0.tar.gz && C:\Users\biocbuild\bbs-3.10-bioc\R\bin\R.exe CMD INSTALL brainImageR_1.4.0.zip && rm brainImageR_1.4.0.tar.gz brainImageR_1.4.0.zip |
| StartedAt: 2020-04-14 19:23:39 -0400 (Tue, 14 Apr 2020) |
| EndedAt: 2020-04-14 19:24:11 -0400 (Tue, 14 Apr 2020) |
| EllapsedTime: 32.2 seconds |
| RetCode: 0 |
| Status: OK |
##############################################################################
##############################################################################
###
### Running command:
###
### C:\cygwin\bin\curl.exe -O https://malbec1.bioconductor.org/BBS/3.10/bioc/src/contrib/brainImageR_1.4.0.tar.gz && rm -rf brainImageR.buildbin-libdir && mkdir brainImageR.buildbin-libdir && C:\Users\biocbuild\bbs-3.10-bioc\R\bin\R.exe CMD INSTALL --merge-multiarch --build --library=brainImageR.buildbin-libdir brainImageR_1.4.0.tar.gz && C:\Users\biocbuild\bbs-3.10-bioc\R\bin\R.exe CMD INSTALL brainImageR_1.4.0.zip && rm brainImageR_1.4.0.tar.gz brainImageR_1.4.0.zip
###
##############################################################################
##############################################################################
% Total % Received % Xferd Average Speed Time Time Time Current
Dload Upload Total Spent Left Speed
0 0 0 0 0 0 0 0 --:--:-- --:--:-- --:--:-- 0
100 2094k 100 2094k 0 0 28.3M 0 --:--:-- --:--:-- --:--:-- 30.0M
install for i386
* installing *source* package 'brainImageR' ...
** using staged installation
** R
** data
*** moving datasets to lazyload DB
** inst
** byte-compile and prepare package for lazy loading
** help
*** installing help indices
converting help for package 'brainImageR'
finding HTML links ... done
BrainMap html
Comp-class html
CreateBrain html
GetGenes html
InABA html
PValue.onetail html
PlotBrain html
PlotEnrich html
PlotPred html
Pred-class html
RandomTissueSummary html
SpatialEnrichment html
TissueSummary html
available_areanames html
brainrange html
dat html
hipp html
predict_time html
reColor html
testEnrich html
tis_in_region html
tis_set html
vth html
whichtissues html
** building package indices
** installing vignettes
** testing if installed package can be loaded from temporary location
Warning: Package 'brainImageR' is deprecated and will be removed from
Bioconductor version 3.11
** testing if installed package can be loaded from final location
Warning: Package 'brainImageR' is deprecated and will be removed from
Bioconductor version 3.11
** testing if installed package keeps a record of temporary installation path
install for x64
* installing *source* package 'brainImageR' ...
** testing if installed package can be loaded
Warning: Package 'brainImageR' is deprecated and will be removed from
Bioconductor version 3.11
* MD5 sums
packaged installation of 'brainImageR' as brainImageR_1.4.0.zip
* DONE (brainImageR)
* installing to library 'C:/Users/biocbuild/bbs-3.10-bioc/R/library'
package 'brainImageR' successfully unpacked and MD5 sums checked