| Back to Multiple platform build/check report for BioC 3.10 |
|
This page was generated on 2020-04-15 12:25:49 -0400 (Wed, 15 Apr 2020).
| Package 167/1823 | Hostname | OS / Arch | INSTALL | BUILD | CHECK | BUILD BIN | ||||||
| biomformat 1.14.0 Paul J. McMurdie
| malbec1 | Linux (Ubuntu 18.04.4 LTS) / x86_64 | OK | OK | WARNINGS | |||||||
| tokay1 | Windows Server 2012 R2 Standard / x64 | OK | [ OK ] | WARNINGS | OK | |||||||
| merida1 | OS X 10.11.6 El Capitan / x86_64 | OK | OK | WARNINGS | OK |
| Package: biomformat |
| Version: 1.14.0 |
| Command: chmod a+r biomformat -R && C:\Users\biocbuild\bbs-3.10-bioc\R\bin\R.exe CMD build --keep-empty-dirs --no-resave-data biomformat |
| StartedAt: 2020-04-14 22:42:55 -0400 (Tue, 14 Apr 2020) |
| EndedAt: 2020-04-14 22:43:14 -0400 (Tue, 14 Apr 2020) |
| EllapsedTime: 19.9 seconds |
| RetCode: 0 |
| Status: OK |
| PackageFile: biomformat_1.14.0.tar.gz |
| PackageFileSize: 267.7 KiB |
############################################################################## ############################################################################## ### ### Running command: ### ### chmod a+r biomformat -R && C:\Users\biocbuild\bbs-3.10-bioc\R\bin\R.exe CMD build --keep-empty-dirs --no-resave-data biomformat ### ############################################################################## ############################################################################## * checking for file 'biomformat/DESCRIPTION' ... OK * preparing 'biomformat': * checking DESCRIPTION meta-information ... OK * installing the package to build vignettes * creating vignettes ... OK * checking for LF line-endings in source and make files and shell scripts * checking for empty or unneeded directories * building 'biomformat_1.14.0.tar.gz'