| Back to Multiple platform build/check report for BioC 3.10 |
|
This page was generated on 2020-04-15 12:17:25 -0400 (Wed, 15 Apr 2020).
| Package 163/1823 | Hostname | OS / Arch | INSTALL | BUILD | CHECK | BUILD BIN | ||||||
| biocViews 1.54.0 Bioconductor Package Maintainer
| malbec1 | Linux (Ubuntu 18.04.4 LTS) / x86_64 | OK | OK | OK | |||||||
| tokay1 | Windows Server 2012 R2 Standard / x64 | OK | OK | OK | [ OK ] | |||||||
| merida1 | OS X 10.11.6 El Capitan / x86_64 | OK | OK | OK | OK |
| Package: biocViews |
| Version: 1.54.0 |
| Command: rm -rf biocViews.buildbin-libdir && mkdir biocViews.buildbin-libdir && C:\Users\biocbuild\bbs-3.10-bioc\R\bin\R.exe CMD INSTALL --merge-multiarch --build --library=biocViews.buildbin-libdir biocViews_1.54.0.tar.gz |
| StartedAt: 2020-04-15 08:17:10 -0400 (Wed, 15 Apr 2020) |
| EndedAt: 2020-04-15 08:17:41 -0400 (Wed, 15 Apr 2020) |
| EllapsedTime: 31.4 seconds |
| RetCode: 0 |
| Status: OK |
| PackageFile: biocViews_1.54.0.zip |
| PackageFileSize: 617.9 KiB |
##############################################################################
##############################################################################
###
### Running command:
###
### rm -rf biocViews.buildbin-libdir && mkdir biocViews.buildbin-libdir && C:\Users\biocbuild\bbs-3.10-bioc\R\bin\R.exe CMD INSTALL --merge-multiarch --build --library=biocViews.buildbin-libdir biocViews_1.54.0.tar.gz
###
##############################################################################
##############################################################################
install for i386
* installing *source* package 'biocViews' ...
** using staged installation
** R
** data
** inst
** byte-compile and prepare package for lazy loading
** help
*** installing help indices
converting help for package 'biocViews'
finding HTML links ... done
BiocView-class html
Htmlized-class html
PackageDetail-class html
RepositoryDetail-class html
biocViews-package html
biocViewsVocab html
extractManuals html
extractNEWS html
extractTopLevelFiles html
extractVignettes html
genReposControlFiles html
getBiocSubViews html
getBiocViews html
getCurrentbiocViews html
getPackageNEWS html
getPackageTitles html
getPacksAndViews html
getSubTerms html
guessPackageType html
htmlDoc html
htmlFilename html
htmlValue html
recommendBiocViews html
recommendPackages html
validation_tests html
writeBiocViews html
writeHtmlDoc html
writePackageDetailHtml html
writeRFilesFromVignettes html
writeRepositoryHtml html
writeTopLevelView html
write_REPOSITORY html
write_SYMBOLS html
write_VIEWS html
** building package indices
** installing vignettes
** testing if installed package can be loaded from temporary location
** testing if installed package can be loaded from final location
** testing if installed package keeps a record of temporary installation path
install for x64
* installing *source* package 'biocViews' ...
** testing if installed package can be loaded
* MD5 sums
packaged installation of 'biocViews' as biocViews_1.54.0.zip
* DONE (biocViews)