| Back to Multiple platform build/check report for BioC 3.10 |
|
This page was generated on 2020-04-15 12:25:43 -0400 (Wed, 15 Apr 2020).
| Package 146/1823 | Hostname | OS / Arch | INSTALL | BUILD | CHECK | BUILD BIN | ||||||
| biobroom 1.18.0 John D. Storey
| malbec1 | Linux (Ubuntu 18.04.4 LTS) / x86_64 | OK | OK | OK | |||||||
| tokay1 | Windows Server 2012 R2 Standard / x64 | OK | OK | WARNINGS | [ OK ] | |||||||
| merida1 | OS X 10.11.6 El Capitan / x86_64 | OK | OK | OK | OK |
| Package: biobroom |
| Version: 1.18.0 |
| Command: rm -rf biobroom.buildbin-libdir && mkdir biobroom.buildbin-libdir && C:\Users\biocbuild\bbs-3.10-bioc\R\bin\R.exe CMD INSTALL --merge-multiarch --build --library=biobroom.buildbin-libdir biobroom_1.18.0.tar.gz |
| StartedAt: 2020-04-15 08:16:18 -0400 (Wed, 15 Apr 2020) |
| EndedAt: 2020-04-15 08:16:36 -0400 (Wed, 15 Apr 2020) |
| EllapsedTime: 17.5 seconds |
| RetCode: 0 |
| Status: OK |
| PackageFile: biobroom_1.18.0.zip |
| PackageFileSize: 711.9 KiB |
##############################################################################
##############################################################################
###
### Running command:
###
### rm -rf biobroom.buildbin-libdir && mkdir biobroom.buildbin-libdir && C:\Users\biocbuild\bbs-3.10-bioc\R\bin\R.exe CMD INSTALL --merge-multiarch --build --library=biobroom.buildbin-libdir biobroom_1.18.0.tar.gz
###
##############################################################################
##############################################################################
install for i386
* installing *source* package 'biobroom' ...
** using staged installation
** R
** data
*** moving datasets to lazyload DB
** inst
** byte-compile and prepare package for lazy loading
** help
*** installing help indices
converting help for package 'biobroom'
finding HTML links ... done
DESeq2_tidiers html
ExpressionSet_tidiers html
Rd warning: C:/Users/biocbuild/bbs-3.10-bioc/tmpdir/RtmpIH2BRK/R.INSTALL1f10597c7ae1/biobroom/man/ExpressionSet_tidiers.Rd:17: file link 'assayDataElement' in package 'Biobase' does not exist and so has been treated as a topic
GRanges_tidiers html
MSnSet_tidiers html
SummarizedExperiment_tidiers html
biobroom html
edgeR_tidiers html
edge_tidiers html
hammer html
limma_tidiers html
list_tidiers html
qvalue_tidiers html
sva_tidiers html
** building package indices
** installing vignettes
** testing if installed package can be loaded from temporary location
** testing if installed package can be loaded from final location
** testing if installed package keeps a record of temporary installation path
install for x64
* installing *source* package 'biobroom' ...
** testing if installed package can be loaded
* MD5 sums
packaged installation of 'biobroom' as biobroom_1.18.0.zip
* DONE (biobroom)