| Back to Multiple platform build/check report for BioC 3.10 |
|
This page was generated on 2020-04-15 12:26:45 -0400 (Wed, 15 Apr 2020).
| Package 147/1823 | Hostname | OS / Arch | INSTALL | BUILD | CHECK | BUILD BIN | ||||||
| bioCancer 1.14.02 Karim Mezhoud
| malbec1 | Linux (Ubuntu 18.04.4 LTS) / x86_64 | OK | OK | WARNINGS | |||||||
| tokay1 | Windows Server 2012 R2 Standard / x64 | OK | OK | WARNINGS | [ OK ] | |||||||
| merida1 | OS X 10.11.6 El Capitan / x86_64 | OK | OK | WARNINGS | OK |
| Package: bioCancer |
| Version: 1.14.02 |
| Command: rm -rf bioCancer.buildbin-libdir && mkdir bioCancer.buildbin-libdir && C:\Users\biocbuild\bbs-3.10-bioc\R\bin\R.exe CMD INSTALL --merge-multiarch --build --library=bioCancer.buildbin-libdir bioCancer_1.14.02.tar.gz |
| StartedAt: 2020-04-15 08:16:22 -0400 (Wed, 15 Apr 2020) |
| EndedAt: 2020-04-15 08:17:13 -0400 (Wed, 15 Apr 2020) |
| EllapsedTime: 51.8 seconds |
| RetCode: 0 |
| Status: OK |
| PackageFile: bioCancer_1.14.02.zip |
| PackageFileSize: 6.476 MiB |
##############################################################################
##############################################################################
###
### Running command:
###
### rm -rf bioCancer.buildbin-libdir && mkdir bioCancer.buildbin-libdir && C:\Users\biocbuild\bbs-3.10-bioc\R\bin\R.exe CMD INSTALL --merge-multiarch --build --library=bioCancer.buildbin-libdir bioCancer_1.14.02.tar.gz
###
##############################################################################
##############################################################################
install for i386
* installing *source* package 'bioCancer' ...
** using staged installation
** R
** data
*** moving datasets to lazyload DB
** inst
** byte-compile and prepare package for lazy loading
** help
*** installing help indices
converting help for package 'bioCancer'
finding HTML links ... done
Edges_Diseases_obj html
Mutation_obj html
Node_Diseases_obj html
Node_df_FreqIn html
Node_obj_CNA_ProfData html
Node_obj_FreqIn html
Node_obj_Met_ProfData html
Node_obj_mRNA_Classifier html
Studies_obj html
UnifyRowNames html
attriColorGene html
attriColorValue html
attriColorVector html
attriShape2Gene html
attriShape2Node html
bioCancer html
checkDimensions html
coffeewheel html
coffeewheelOutput html
displayTable html
epiGenomics html
findPhantom html
getFreqMutData html
getGenesClassification html
getListProfData html
getList_Cases html
getList_GenProfs html
getMegaProfData html
getSequensed_SampleSize html
grepRef html
metabologram html
metabologramOutput html
reStrColorGene html
reStrDimension html
reStrDisease html
renderCoffeewheel html
renderMetabologram html
returnTextAreaInput html
switchButton html
user_CNA html
user_MetHM27 html
user_MetHM450 html
user_Mut html
user_mRNA html
whichGeneList html
widgetThumbnail html
** building package indices
** installing vignettes
** testing if installed package can be loaded from temporary location
** testing if installed package can be loaded from final location
** testing if installed package keeps a record of temporary installation path
install for x64
* installing *source* package 'bioCancer' ...
** testing if installed package can be loaded
* MD5 sums
packaged installation of 'bioCancer' as bioCancer_1.14.02.zip
* DONE (bioCancer)