| Back to Multiple platform build/check report for BioC 3.10 |
|
This page was generated on 2020-04-15 12:18:59 -0400 (Wed, 15 Apr 2020).
| Package 121/1823 | Hostname | OS / Arch | INSTALL | BUILD | CHECK | BUILD BIN | ||||||
| baySeq 2.20.0 Thomas J. Hardcastle
| malbec1 | Linux (Ubuntu 18.04.4 LTS) / x86_64 | OK | OK | OK | |||||||
| tokay1 | Windows Server 2012 R2 Standard / x64 | [ OK ] | OK | OK | OK | |||||||
| merida1 | OS X 10.11.6 El Capitan / x86_64 | OK | OK | OK | OK |
| Package: baySeq |
| Version: 2.20.0 |
| Command: C:\cygwin\bin\curl.exe -O https://malbec1.bioconductor.org/BBS/3.10/bioc/src/contrib/baySeq_2.20.0.tar.gz && rm -rf baySeq.buildbin-libdir && mkdir baySeq.buildbin-libdir && C:\Users\biocbuild\bbs-3.10-bioc\R\bin\R.exe CMD INSTALL --merge-multiarch --build --library=baySeq.buildbin-libdir baySeq_2.20.0.tar.gz && C:\Users\biocbuild\bbs-3.10-bioc\R\bin\R.exe CMD INSTALL baySeq_2.20.0.zip && rm baySeq_2.20.0.tar.gz baySeq_2.20.0.zip |
| StartedAt: 2020-04-14 19:32:56 -0400 (Tue, 14 Apr 2020) |
| EndedAt: 2020-04-14 19:33:32 -0400 (Tue, 14 Apr 2020) |
| EllapsedTime: 36.5 seconds |
| RetCode: 0 |
| Status: OK |
##############################################################################
##############################################################################
###
### Running command:
###
### C:\cygwin\bin\curl.exe -O https://malbec1.bioconductor.org/BBS/3.10/bioc/src/contrib/baySeq_2.20.0.tar.gz && rm -rf baySeq.buildbin-libdir && mkdir baySeq.buildbin-libdir && C:\Users\biocbuild\bbs-3.10-bioc\R\bin\R.exe CMD INSTALL --merge-multiarch --build --library=baySeq.buildbin-libdir baySeq_2.20.0.tar.gz && C:\Users\biocbuild\bbs-3.10-bioc\R\bin\R.exe CMD INSTALL baySeq_2.20.0.zip && rm baySeq_2.20.0.tar.gz baySeq_2.20.0.zip
###
##############################################################################
##############################################################################
% Total % Received % Xferd Average Speed Time Time Time Current
Dload Upload Total Spent Left Speed
0 0 0 0 0 0 0 0 --:--:-- --:--:-- --:--:-- 0
100 278k 100 278k 0 0 6639k 0 --:--:-- --:--:-- --:--:-- 7335k
install for i386
* installing *source* package 'baySeq' ...
** using staged installation
** R
** data
** byte-compile and prepare package for lazy loading
** help
*** installing help indices
converting help for package 'baySeq'
finding HTML links ... done
CDPost html
CDPriors html
allModels html
baySeq-classes html
baySeq-package html
bimodalSep html
densityFunction html
densityFunctions html
getLibsizes html
getLikelihoods html
getPosteriors html
getPriors html
getTPs html
makeOrderings html
marginaliseEqual html
marginalisePairwise html
methObservables html
mobAnnotation html
mobData html
pairData html
plotMA.CD html
plotNullPrior html
plotPosteriors html
plotPriors html
selectTop html
simData html
summarisePosteriors html
topCounts html
zimData html
** building package indices
** installing vignettes
** testing if installed package can be loaded from temporary location
** testing if installed package can be loaded from final location
** testing if installed package keeps a record of temporary installation path
install for x64
* installing *source* package 'baySeq' ...
** testing if installed package can be loaded
* MD5 sums
packaged installation of 'baySeq' as baySeq_2.20.0.zip
* DONE (baySeq)
* installing to library 'C:/Users/biocbuild/bbs-3.10-bioc/R/library'
package 'baySeq' successfully unpacked and MD5 sums checked