| Back to Multiple platform build/check report for BioC 3.10 |
|
This page was generated on 2020-04-15 12:31:50 -0400 (Wed, 15 Apr 2020).
| Package 96/1823 | Hostname | OS / Arch | INSTALL | BUILD | CHECK | BUILD BIN | ||||||
| atSNP 1.2.0 Sunyoung Shin
| malbec1 | Linux (Ubuntu 18.04.4 LTS) / x86_64 | OK | ERROR | skipped | |||||||
| tokay1 | Windows Server 2012 R2 Standard / x64 | OK | OK | OK | [ OK ] | |||||||
| merida1 | OS X 10.11.6 El Capitan / x86_64 | OK | OK | OK | OK |
| Package: atSNP |
| Version: 1.2.0 |
| Command: rm -rf atSNP.buildbin-libdir && mkdir atSNP.buildbin-libdir && C:\Users\biocbuild\bbs-3.10-bioc\R\bin\R.exe CMD INSTALL --merge-multiarch --build --library=atSNP.buildbin-libdir atSNP_1.2.0.tar.gz |
| StartedAt: 2020-04-15 08:13:05 -0400 (Wed, 15 Apr 2020) |
| EndedAt: 2020-04-15 08:14:48 -0400 (Wed, 15 Apr 2020) |
| EllapsedTime: 102.8 seconds |
| RetCode: 0 |
| Status: OK |
| PackageFile: atSNP_1.2.0.zip |
| PackageFileSize: 1.695 MiB |
##############################################################################
##############################################################################
###
### Running command:
###
### rm -rf atSNP.buildbin-libdir && mkdir atSNP.buildbin-libdir && C:\Users\biocbuild\bbs-3.10-bioc\R\bin\R.exe CMD INSTALL --merge-multiarch --build --library=atSNP.buildbin-libdir atSNP_1.2.0.tar.gz
###
##############################################################################
##############################################################################
install for i386
* installing *source* package 'atSNP' ...
** using staged installation
** libs
C:/Rtools/mingw_32/bin/g++ -std=gnu++11 -I"C:/Users/BIOCBU~1/BBS-3~1.10-/R/include" -DNDEBUG -I"C:/Users/biocbuild/bbs-3.10-bioc/R/library/Rcpp/include" -I"C:/extsoft/include" -O2 -Wall -mtune=core2 -c ImportanceSample.cpp -o ImportanceSample.o
C:/Rtools/mingw_32/bin/g++ -std=gnu++11 -I"C:/Users/BIOCBU~1/BBS-3~1.10-/R/include" -DNDEBUG -I"C:/Users/biocbuild/bbs-3.10-bioc/R/library/Rcpp/include" -I"C:/extsoft/include" -O2 -Wall -mtune=core2 -c ImportanceSampleChange.cpp -o ImportanceSampleChange.o
C:/Rtools/mingw_32/bin/g++ -std=gnu++11 -I"C:/Users/BIOCBU~1/BBS-3~1.10-/R/include" -DNDEBUG -I"C:/Users/biocbuild/bbs-3.10-bioc/R/library/Rcpp/include" -I"C:/extsoft/include" -O2 -Wall -mtune=core2 -c ImportanceSampleDiff.cpp -o ImportanceSampleDiff.o
C:/Rtools/mingw_32/bin/g++ -std=gnu++11 -I"C:/Users/BIOCBU~1/BBS-3~1.10-/R/include" -DNDEBUG -I"C:/Users/biocbuild/bbs-3.10-bioc/R/library/Rcpp/include" -I"C:/extsoft/include" -O2 -Wall -mtune=core2 -c MotifScore.cpp -o MotifScore.o
C:/Rtools/mingw_32/bin/g++ -std=gnu++11 -shared -s -static-libgcc -o atSNP.dll tmp.def ImportanceSample.o ImportanceSampleChange.o ImportanceSampleDiff.o MotifScore.o -LC:/extsoft/lib/i386 -LC:/extsoft/lib -LC:/Users/BIOCBU~1/BBS-3~1.10-/R/bin/i386 -lR
installing to C:/Users/biocbuild/bbs-3.10-bioc/meat/atSNP.buildbin-libdir/00LOCK-atSNP/00new/atSNP/libs/i386
** R
** data
** inst
** byte-compile and prepare package for lazy loading
** help
*** installing help indices
converting help for package 'atSNP'
finding HTML links ... done
ComputeMotifScore html
ComputePValues html
GetIUPACSequence html
LoadFastaData html
LoadMotifLibrary html
LoadSNPData html
MatchSubsequence html
atSNP-package html
dtMotifMatch html
encode_motif html
encode_motifinfo html
jaspar_motif html
jaspar_motifinfo html
motif_library html
motif_match html
motif_scores html
plotMotifMatch html
prior html
snpInfo html
snp_tbl html
transition html
** building package indices
** installing vignettes
** testing if installed package can be loaded from temporary location
** testing if installed package can be loaded from final location
** testing if installed package keeps a record of temporary installation path
install for x64
* installing *source* package 'atSNP' ...
** libs
C:/Rtools/mingw_64/bin/g++ -std=gnu++11 -I"C:/Users/BIOCBU~1/BBS-3~1.10-/R/include" -DNDEBUG -I"C:/Users/biocbuild/bbs-3.10-bioc/R/library/Rcpp/include" -I"C:/extsoft/include" -O2 -Wall -mtune=core2 -c ImportanceSample.cpp -o ImportanceSample.o
C:/Rtools/mingw_64/bin/g++ -std=gnu++11 -I"C:/Users/BIOCBU~1/BBS-3~1.10-/R/include" -DNDEBUG -I"C:/Users/biocbuild/bbs-3.10-bioc/R/library/Rcpp/include" -I"C:/extsoft/include" -O2 -Wall -mtune=core2 -c ImportanceSampleChange.cpp -o ImportanceSampleChange.o
C:/Rtools/mingw_64/bin/g++ -std=gnu++11 -I"C:/Users/BIOCBU~1/BBS-3~1.10-/R/include" -DNDEBUG -I"C:/Users/biocbuild/bbs-3.10-bioc/R/library/Rcpp/include" -I"C:/extsoft/include" -O2 -Wall -mtune=core2 -c ImportanceSampleDiff.cpp -o ImportanceSampleDiff.o
C:/Rtools/mingw_64/bin/g++ -std=gnu++11 -I"C:/Users/BIOCBU~1/BBS-3~1.10-/R/include" -DNDEBUG -I"C:/Users/biocbuild/bbs-3.10-bioc/R/library/Rcpp/include" -I"C:/extsoft/include" -O2 -Wall -mtune=core2 -c MotifScore.cpp -o MotifScore.o
C:/Rtools/mingw_64/bin/g++ -std=gnu++11 -shared -s -static-libgcc -o atSNP.dll tmp.def ImportanceSample.o ImportanceSampleChange.o ImportanceSampleDiff.o MotifScore.o -LC:/extsoft/lib/x64 -LC:/extsoft/lib -LC:/Users/BIOCBU~1/BBS-3~1.10-/R/bin/x64 -lR
installing to C:/Users/biocbuild/bbs-3.10-bioc/meat/atSNP.buildbin-libdir/atSNP/libs/x64
** testing if installed package can be loaded
* MD5 sums
packaged installation of 'atSNP' as atSNP_1.2.0.zip
* DONE (atSNP)