| Back to Multiple platform build/check report for BioC 3.10 |
|
This page was generated on 2020-04-15 12:04:21 -0400 (Wed, 15 Apr 2020).
| Package 73/1823 | Hostname | OS / Arch | INSTALL | BUILD | CHECK | BUILD BIN | ||||||
| apComplex 2.52.0 Denise Scholtens
| malbec1 | Linux (Ubuntu 18.04.4 LTS) / x86_64 | OK | OK | [ OK ] | |||||||
| tokay1 | Windows Server 2012 R2 Standard / x64 | OK | OK | OK | OK | |||||||
| merida1 | OS X 10.11.6 El Capitan / x86_64 | OK | OK | OK | OK |
| Package: apComplex |
| Version: 2.52.0 |
| Command: /home/biocbuild/bbs-3.10-bioc/R/bin/R CMD check --install=check:apComplex.install-out.txt --library=/home/biocbuild/bbs-3.10-bioc/R/library --no-vignettes --timings apComplex_2.52.0.tar.gz |
| StartedAt: 2020-04-15 00:14:03 -0400 (Wed, 15 Apr 2020) |
| EndedAt: 2020-04-15 00:15:37 -0400 (Wed, 15 Apr 2020) |
| EllapsedTime: 93.8 seconds |
| RetCode: 0 |
| Status: OK |
| CheckDir: apComplex.Rcheck |
| Warnings: 0 |
##############################################################################
##############################################################################
###
### Running command:
###
### /home/biocbuild/bbs-3.10-bioc/R/bin/R CMD check --install=check:apComplex.install-out.txt --library=/home/biocbuild/bbs-3.10-bioc/R/library --no-vignettes --timings apComplex_2.52.0.tar.gz
###
##############################################################################
##############################################################################
* using log directory ‘/home/biocbuild/bbs-3.10-bioc/meat/apComplex.Rcheck’
* using R version 3.6.3 (2020-02-29)
* using platform: x86_64-pc-linux-gnu (64-bit)
* using session charset: UTF-8
* using option ‘--no-vignettes’
* checking for file ‘apComplex/DESCRIPTION’ ... OK
* this is package ‘apComplex’ version ‘2.52.0’
* checking package namespace information ... OK
* checking package dependencies ... OK
* checking if this is a source package ... OK
* checking if there is a namespace ... OK
* checking for hidden files and directories ... OK
* checking for portable file names ... OK
* checking for sufficient/correct file permissions ... OK
* checking whether package ‘apComplex’ can be installed ... OK
* checking installed package size ... OK
* checking package directory ... OK
* checking ‘build’ directory ... OK
* checking DESCRIPTION meta-information ... OK
* checking top-level files ... OK
* checking for left-over files ... OK
* checking index information ... OK
* checking package subdirectories ... OK
* checking R files for non-ASCII characters ... OK
* checking R files for syntax errors ... OK
* checking whether the package can be loaded ... OK
* checking whether the package can be loaded with stated dependencies ... OK
* checking whether the package can be unloaded cleanly ... OK
* checking whether the namespace can be loaded with stated dependencies ... OK
* checking whether the namespace can be unloaded cleanly ... OK
* checking dependencies in R code ... NOTE
Packages in Depends field not imported from:
‘RBGL’ ‘graph’
These packages need to be imported from (in the NAMESPACE file)
for when this namespace is loaded but not attached.
* checking S3 generic/method consistency ... OK
* checking replacement functions ... OK
* checking foreign function calls ... OK
* checking R code for possible problems ... NOTE
plotComplex: warning in mget(complexMembers, env = org.Sc.sgdGENENAME,
ifnotfound = NA): partial argument match of 'env' to 'envir'
bhmaxSubgraph: no visible global function definition for ‘as’
bhmaxSubgraph: no visible global function definition for ‘ugraph’
bhmaxSubgraph: no visible global function definition for ‘maxClique’
plotComplex: no visible global function definition for ‘subGraph’
plotComplex: no visible global function definition for
‘removeSelfLoops’
plotComplex: no visible global function definition for ‘edgeNames’
plotComplex: no visible global function definition for ‘numEdges’
plotComplex: no visible global function definition for ‘degree’
Undefined global functions or variables:
as degree edgeNames maxClique numEdges removeSelfLoops subGraph
ugraph
Consider adding
importFrom("methods", "as")
to your NAMESPACE file (and ensure that your DESCRIPTION Imports field
contains 'methods').
* checking Rd files ... OK
* checking Rd metadata ... OK
* checking Rd cross-references ... OK
* checking for missing documentation entries ... OK
* checking for code/documentation mismatches ... OK
* checking Rd \usage sections ... OK
* checking Rd contents ... OK
* checking for unstated dependencies in examples ... OK
* checking contents of ‘data’ directory ... OK
* checking data for non-ASCII characters ... OK
* checking data for ASCII and uncompressed saves ... OK
* checking files in ‘vignettes’ ... OK
* checking examples ... OK
* checking for unstated dependencies in vignettes ... OK
* checking package vignettes in ‘inst/doc’ ... OK
* checking running R code from vignettes ... SKIPPED
* checking re-building of vignette outputs ... SKIPPED
* checking PDF version of manual ... OK
* DONE
Status: 2 NOTEs
See
‘/home/biocbuild/bbs-3.10-bioc/meat/apComplex.Rcheck/00check.log’
for details.
apComplex.Rcheck/00install.out
############################################################################## ############################################################################## ### ### Running command: ### ### /home/biocbuild/bbs-3.10-bioc/R/bin/R CMD INSTALL apComplex ### ############################################################################## ############################################################################## * installing to library ‘/home/biocbuild/bbs-3.10-bioc/R/library’ * installing *source* package ‘apComplex’ ... ** using staged installation ** R ** data ** byte-compile and prepare package for lazy loading ** help *** installing help indices ** building package indices ** installing vignettes ** testing if installed package can be loaded from temporary location ** testing if installed package can be loaded from final location ** testing if installed package keeps a record of temporary installation path * DONE (apComplex)
apComplex.Rcheck/apComplex-Ex.timings
| name | user | system | elapsed | |
| FilteredEstimates | 0.040 | 0.008 | 0.051 | |
| HMSPCI | 0.036 | 0.008 | 0.045 | |
| Krogan | 0.004 | 0.000 | 0.004 | |
| LCjoin | 0.460 | 0.016 | 0.480 | |
| MBMEcHMSPCI | 0.004 | 0.000 | 0.005 | |
| MBMEcKrogan | 0.004 | 0.000 | 0.002 | |
| MBMEcTAP | 0.008 | 0.000 | 0.009 | |
| TAP | 0.040 | 0.000 | 0.037 | |
| apEX | 0.000 | 0.004 | 0.003 | |
| bhmaxSubgraph | 0.072 | 0.000 | 0.071 | |
| findComplexes | 0.028 | 0.004 | 0.034 | |
| gavinBP2006 | 0.104 | 0.044 | 0.152 | |
| kroganBPMat2006 | 0.336 | 0.088 | 0.429 | |
| mergeComplexes | 0.260 | 0.008 | 0.271 | |
| plotComplex | 0.120 | 0.004 | 0.127 | |
| sortComplexes | 0.032 | 0.000 | 0.035 | |
| yNameTAP | 0.012 | 0.000 | 0.015 | |
| yTAP | 0.004 | 0.000 | 0.007 | |