| Back to Multiple platform build/check report for BioC 3.10 |
|
This page was generated on 2020-04-15 12:49:22 -0400 (Wed, 15 Apr 2020).
| Package 57/1823 | Hostname | OS / Arch | INSTALL | BUILD | CHECK | BUILD BIN | ||||||
| animalcules 1.2.1 Yue Zhao
| malbec1 | Linux (Ubuntu 18.04.4 LTS) / x86_64 | OK | OK | OK | |||||||
| tokay1 | Windows Server 2012 R2 Standard / x64 | OK | OK | OK | OK | |||||||
| merida1 | OS X 10.11.6 El Capitan / x86_64 | OK | OK | [ OK ] | OK |
| Package: animalcules |
| Version: 1.2.1 |
| Command: /Library/Frameworks/R.framework/Versions/Current/Resources/bin/R CMD check --install=check:animalcules.install-out.txt --library=/Library/Frameworks/R.framework/Versions/Current/Resources/library --no-vignettes --timings animalcules_1.2.1.tar.gz |
| StartedAt: 2020-04-15 00:20:47 -0400 (Wed, 15 Apr 2020) |
| EndedAt: 2020-04-15 00:26:24 -0400 (Wed, 15 Apr 2020) |
| EllapsedTime: 336.9 seconds |
| RetCode: 0 |
| Status: OK |
| CheckDir: animalcules.Rcheck |
| Warnings: 0 |
##############################################################################
##############################################################################
###
### Running command:
###
### /Library/Frameworks/R.framework/Versions/Current/Resources/bin/R CMD check --install=check:animalcules.install-out.txt --library=/Library/Frameworks/R.framework/Versions/Current/Resources/library --no-vignettes --timings animalcules_1.2.1.tar.gz
###
##############################################################################
##############################################################################
* using log directory ‘/Users/biocbuild/bbs-3.10-bioc/meat/animalcules.Rcheck’
* using R version 3.6.3 (2020-02-29)
* using platform: x86_64-apple-darwin15.6.0 (64-bit)
* using session charset: UTF-8
* using option ‘--no-vignettes’
* checking for file ‘animalcules/DESCRIPTION’ ... OK
* this is package ‘animalcules’ version ‘1.2.1’
* package encoding: UTF-8
* checking package namespace information ... OK
* checking package dependencies ... OK
* checking if this is a source package ... OK
* checking if there is a namespace ... OK
* checking for hidden files and directories ... OK
* checking for portable file names ... OK
* checking for sufficient/correct file permissions ... OK
* checking whether package ‘animalcules’ can be installed ... OK
* checking installed package size ... OK
* checking package directory ... OK
* checking ‘build’ directory ... OK
* checking DESCRIPTION meta-information ... OK
* checking top-level files ... OK
* checking for left-over files ... OK
* checking index information ... OK
* checking package subdirectories ... OK
* checking R files for non-ASCII characters ... OK
* checking R files for syntax errors ... OK
* checking whether the package can be loaded ... OK
* checking whether the package can be loaded with stated dependencies ... OK
* checking whether the package can be unloaded cleanly ... OK
* checking whether the namespace can be loaded with stated dependencies ... OK
* checking whether the namespace can be unloaded cleanly ... OK
* checking dependencies in R code ... NOTE
Namespace in Imports field not imported from: ‘reactable’
All declared Imports should be used.
* checking S3 generic/method consistency ... OK
* checking replacement functions ... OK
* checking foreign function calls ... OK
* checking R code for possible problems ... NOTE
alpha_div_boxplot: no visible binding for global variable ‘richness’
differential_abundance: no visible binding for global variable ‘padj’
differential_abundance: no visible binding for global variable ‘pValue’
differential_abundance: no visible binding for global variable
‘log2FoldChange’
diversities_help: no visible binding for global variable ‘x’
find_biomarker: no visible binding for global variable ‘rowname’
find_biomarker: no visible binding for global variable ‘importance’
find_biomarker: no visible binding for global variable ‘.’
find_biomarker: no visible binding for global variable ‘Overall’
find_biomarker: no visible binding for global variable ‘y’
find_biomarker: no visible binding for global variable ‘m’
find_biomarker: no visible binding for global variable ‘d’
relabu_barplot: no visible binding for global variable ‘.’
relabu_boxplot: no visible binding for global variable ‘.’
relabu_heatmap: no visible binding for global variable ‘.’
upsample_counts: no visible binding for global variable ‘.’
Undefined global functions or variables:
. Overall d importance log2FoldChange m pValue padj richness rowname
x y
* checking Rd files ... OK
* checking Rd metadata ... OK
* checking Rd cross-references ... OK
* checking for missing documentation entries ... OK
* checking for code/documentation mismatches ... OK
* checking Rd \usage sections ... OK
* checking Rd contents ... OK
* checking for unstated dependencies in examples ... OK
* checking files in ‘vignettes’ ... OK
* checking examples ... OK
Examples with CPU or elapsed time > 5s
user system elapsed
find_biomarker 10.765 0.082 10.957
dimred_tsne 9.596 0.169 9.859
differential_abundance 8.106 0.141 8.299
* checking for unstated dependencies in ‘tests’ ... OK
* checking tests ...
Running ‘testthat.R’
OK
* checking for unstated dependencies in vignettes ... OK
* checking package vignettes in ‘inst/doc’ ... OK
* checking running R code from vignettes ... SKIPPED
* checking re-building of vignette outputs ... SKIPPED
* checking PDF version of manual ... OK
* DONE
Status: 2 NOTEs
See
‘/Users/biocbuild/bbs-3.10-bioc/meat/animalcules.Rcheck/00check.log’
for details.
animalcules.Rcheck/00install.out
############################################################################## ############################################################################## ### ### Running command: ### ### /Library/Frameworks/R.framework/Versions/Current/Resources/bin/R CMD INSTALL animalcules ### ############################################################################## ############################################################################## * installing to library ‘/Library/Frameworks/R.framework/Versions/3.6/Resources/library’ * installing *source* package ‘animalcules’ ... ** using staged installation ** R ** inst ** byte-compile and prepare package for lazy loading ** help *** installing help indices ** building package indices ** installing vignettes ** testing if installed package can be loaded from temporary location ** testing if installed package can be loaded from final location ** testing if installed package keeps a record of temporary installation path * DONE (animalcules)
animalcules.Rcheck/tests/testthat.Rout
R version 3.6.3 (2020-02-29) -- "Holding the Windsock"
Copyright (C) 2020 The R Foundation for Statistical Computing
Platform: x86_64-apple-darwin15.6.0 (64-bit)
R is free software and comes with ABSOLUTELY NO WARRANTY.
You are welcome to redistribute it under certain conditions.
Type 'license()' or 'licence()' for distribution details.
R is a collaborative project with many contributors.
Type 'contributors()' for more information and
'citation()' on how to cite R or R packages in publications.
Type 'demo()' for some demos, 'help()' for on-line help, or
'help.start()' for an HTML browser interface to help.
Type 'q()' to quit R.
> library(testthat)
> library(animalcules)
>
> test_check("animalcules")
══ testthat results ═══════════════════════════════════════════════════════════
[ OK: 39 | SKIPPED: 0 | WARNINGS: 0 | FAILED: 0 ]
>
> proc.time()
user system elapsed
43.885 1.136 45.995
animalcules.Rcheck/animalcules-Ex.timings
| name | user | system | elapsed | |
| alpha_div_boxplot | 0.835 | 0.096 | 0.946 | |
| alpha_div_test | 0.004 | 0.001 | 0.005 | |
| counts_to_logcpm | 0.002 | 0.000 | 0.002 | |
| counts_to_relabu | 0.003 | 0.000 | 0.003 | |
| df_char_to_factor | 0.001 | 0.000 | 0.001 | |
| differential_abundance | 8.106 | 0.141 | 8.299 | |
| dimred_pca | 0.256 | 0.027 | 0.285 | |
| dimred_pcoa | 0.246 | 0.028 | 0.275 | |
| dimred_tsne | 9.596 | 0.169 | 9.859 | |
| dimred_umap | 0.759 | 0.026 | 0.796 | |
| diversities | 0.001 | 0.000 | 0.001 | |
| diversities_help | 0 | 0 | 0 | |
| diversity_beta_boxplot | 0.342 | 0.024 | 0.379 | |
| diversity_beta_heatmap | 0.311 | 0.025 | 0.340 | |
| diversity_beta_test | 0.122 | 0.002 | 0.125 | |
| do_alpha_div_test | 0.070 | 0.003 | 0.073 | |
| filter_categorize | 0.955 | 0.994 | 0.537 | |
| filter_summary_bar_density | 0.476 | 0.018 | 0.502 | |
| filter_summary_pie_box | 0.245 | 0.017 | 0.264 | |
| find_biomarker | 10.765 | 0.082 | 10.957 | |
| find_taxon_mat | 0.253 | 0.010 | 0.908 | |
| find_taxonomy | 0.038 | 0.002 | 0.639 | |
| find_taxonomy_300 | 0.040 | 0.001 | 0.671 | |
| gini_simpson | 0.001 | 0.000 | 0.001 | |
| grep_tid | 0 | 0 | 0 | |
| inverse_simpson | 0 | 0 | 0 | |
| is_categorical | 0.001 | 0.000 | 0.001 | |
| is_integer0 | 0.000 | 0.000 | 0.001 | |
| is_integer1 | 0.000 | 0.000 | 0.001 | |
| mae_pick_organisms | 0.145 | 0.001 | 0.149 | |
| mae_pick_samples | 0.149 | 0.001 | 0.153 | |
| pct2str | 0.000 | 0.001 | 0.001 | |
| percent | 0.000 | 0.000 | 0.001 | |
| relabu_barplot | 1.418 | 0.036 | 1.485 | |
| relabu_boxplot | 0.143 | 0.023 | 0.170 | |
| relabu_heatmap | 0.158 | 0.023 | 0.184 | |
| run_animalcules | 0 | 0 | 0 | |
| shannon | 0.000 | 0.001 | 0.001 | |
| simpson_index | 0 | 0 | 0 | |
| upsample_counts | 0.017 | 0.001 | 0.020 | |