| Back to Multiple platform build/check report for BioC 3.10 |
|
This page was generated on 2020-04-15 12:22:40 -0400 (Wed, 15 Apr 2020).
| Package 47/1823 | Hostname | OS / Arch | INSTALL | BUILD | CHECK | BUILD BIN | ||||||
| alsace 1.22.0 Ron Wehrens
| malbec1 | Linux (Ubuntu 18.04.4 LTS) / x86_64 | OK | OK | OK | |||||||
| tokay1 | Windows Server 2012 R2 Standard / x64 | [ OK ] | OK | OK | OK | |||||||
| merida1 | OS X 10.11.6 El Capitan / x86_64 | OK | OK | OK | OK |
| Package: alsace |
| Version: 1.22.0 |
| Command: C:\cygwin\bin\curl.exe -O https://malbec1.bioconductor.org/BBS/3.10/bioc/src/contrib/alsace_1.22.0.tar.gz && rm -rf alsace.buildbin-libdir && mkdir alsace.buildbin-libdir && C:\Users\biocbuild\bbs-3.10-bioc\R\bin\R.exe CMD INSTALL --merge-multiarch --build --library=alsace.buildbin-libdir alsace_1.22.0.tar.gz && C:\Users\biocbuild\bbs-3.10-bioc\R\bin\R.exe CMD INSTALL alsace_1.22.0.zip && rm alsace_1.22.0.tar.gz alsace_1.22.0.zip |
| StartedAt: 2020-04-14 18:32:02 -0400 (Tue, 14 Apr 2020) |
| EndedAt: 2020-04-14 18:32:45 -0400 (Tue, 14 Apr 2020) |
| EllapsedTime: 43.0 seconds |
| RetCode: 0 |
| Status: OK |
##############################################################################
##############################################################################
###
### Running command:
###
### C:\cygwin\bin\curl.exe -O https://malbec1.bioconductor.org/BBS/3.10/bioc/src/contrib/alsace_1.22.0.tar.gz && rm -rf alsace.buildbin-libdir && mkdir alsace.buildbin-libdir && C:\Users\biocbuild\bbs-3.10-bioc\R\bin\R.exe CMD INSTALL --merge-multiarch --build --library=alsace.buildbin-libdir alsace_1.22.0.tar.gz && C:\Users\biocbuild\bbs-3.10-bioc\R\bin\R.exe CMD INSTALL alsace_1.22.0.zip && rm alsace_1.22.0.tar.gz alsace_1.22.0.zip
###
##############################################################################
##############################################################################
% Total % Received % Xferd Average Speed Time Time Time Current
Dload Upload Total Spent Left Speed
0 0 0 0 0 0 0 0 --:--:-- --:--:-- --:--:-- 0
100 1067k 100 1067k 0 0 21.2M 0 --:--:-- --:--:-- --:--:-- 23.1M
install for i386
* installing *source* package 'alsace' ...
** using staged installation
** R
** data
** byte-compile and prepare package for lazy loading
** help
*** installing help indices
converting help for package 'alsace'
finding HTML links ... done
alsace-package html
components html
correctPeaks html
correctRT html
finding level-2 HTML links ... done
doALS html
filterPeaks html
fitpeaks html
getAllPeaks html
getPeakTable html
opa html
preprocess html
showALSresult html
tea html
teaMerged html
windows html
** building package indices
** installing vignettes
** testing if installed package can be loaded from temporary location
** testing if installed package can be loaded from final location
** testing if installed package keeps a record of temporary installation path
install for x64
* installing *source* package 'alsace' ...
** testing if installed package can be loaded
* MD5 sums
packaged installation of 'alsace' as alsace_1.22.0.zip
* DONE (alsace)
* installing to library 'C:/Users/biocbuild/bbs-3.10-bioc/R/library'
package 'alsace' successfully unpacked and MD5 sums checked