| Back to Multiple platform build/check report for BioC 3.10 |
|
This page was generated on 2020-04-15 12:18:20 -0400 (Wed, 15 Apr 2020).
| Package 32/1823 | Hostname | OS / Arch | INSTALL | BUILD | CHECK | BUILD BIN | ||||||
| affyPara 1.46.0 Markus Schmidberger
| malbec1 | Linux (Ubuntu 18.04.4 LTS) / x86_64 | OK | OK | OK | |||||||
| tokay1 | Windows Server 2012 R2 Standard / x64 | OK | OK | OK | [ OK ] | |||||||
| merida1 | OS X 10.11.6 El Capitan / x86_64 | OK | OK | OK | OK |
| Package: affyPara |
| Version: 1.46.0 |
| Command: rm -rf affyPara.buildbin-libdir && mkdir affyPara.buildbin-libdir && C:\Users\biocbuild\bbs-3.10-bioc\R\bin\R.exe CMD INSTALL --merge-multiarch --build --library=affyPara.buildbin-libdir affyPara_1.46.0.tar.gz |
| StartedAt: 2020-04-15 08:08:30 -0400 (Wed, 15 Apr 2020) |
| EndedAt: 2020-04-15 08:09:54 -0400 (Wed, 15 Apr 2020) |
| EllapsedTime: 84.3 seconds |
| RetCode: 0 |
| Status: OK |
| PackageFile: affyPara_1.46.0.zip |
| PackageFileSize: 880.6 KiB |
##############################################################################
##############################################################################
###
### Running command:
###
### rm -rf affyPara.buildbin-libdir && mkdir affyPara.buildbin-libdir && C:\Users\biocbuild\bbs-3.10-bioc\R\bin\R.exe CMD INSTALL --merge-multiarch --build --library=affyPara.buildbin-libdir affyPara_1.46.0.tar.gz
###
##############################################################################
##############################################################################
install for i386
* installing *source* package 'affyPara' ...
** using staged installation
** R
** inst
** byte-compile and prepare package for lazy loading
** help
*** installing help indices
converting help for package 'affyPara'
finding HTML links ... done
MAplotPara html
bgcPara html
boxplotPara html
class.vsnInputPara html
computeExprSetPara html
distributeFiles html
mergeSplitObjects html
normalizeAffyBatchConstantPara html
normalizeAffyBatchInvariantsetPara html
normalizeAffyBatchLoessPara html
normalizeAffyBatchLoessParaIter html
normalizeAffyBatchQuantilesPara html
preproPara html
qa html
readAffybatchPara html
removeDistributedFiles html
rmaPara html
snowReplace html
split html
vsnPara html
finding level-2 HTML links ... done
** building package indices
** installing vignettes
** testing if installed package can be loaded from temporary location
** testing if installed package can be loaded from final location
** testing if installed package keeps a record of temporary installation path
install for x64
* installing *source* package 'affyPara' ...
** testing if installed package can be loaded
* MD5 sums
packaged installation of 'affyPara' as affyPara_1.46.0.zip
* DONE (affyPara)