| Back to Multiple platform build/check report for BioC 3.10 |
|
This page was generated on 2020-04-15 12:19:53 -0400 (Wed, 15 Apr 2020).
| Package 4/1823 | Hostname | OS / Arch | INSTALL | BUILD | CHECK | BUILD BIN | ||||||
| a4Core 1.34.0 Tobias Verbeke
| malbec1 | Linux (Ubuntu 18.04.4 LTS) / x86_64 | OK | OK | OK | |||||||
| tokay1 | Windows Server 2012 R2 Standard / x64 | OK | OK | OK | [ OK ] | |||||||
| merida1 | OS X 10.11.6 El Capitan / x86_64 | OK | OK | OK | OK |
| Package: a4Core |
| Version: 1.34.0 |
| Command: rm -rf a4Core.buildbin-libdir && mkdir a4Core.buildbin-libdir && C:\Users\biocbuild\bbs-3.10-bioc\R\bin\R.exe CMD INSTALL --merge-multiarch --build --library=a4Core.buildbin-libdir a4Core_1.34.0.tar.gz |
| StartedAt: 2020-04-15 08:07:22 -0400 (Wed, 15 Apr 2020) |
| EndedAt: 2020-04-15 08:07:35 -0400 (Wed, 15 Apr 2020) |
| EllapsedTime: 13.5 seconds |
| RetCode: 0 |
| Status: OK |
| PackageFile: a4Core_1.34.0.zip |
| PackageFileSize: 30.77 KiB |
##############################################################################
##############################################################################
###
### Running command:
###
### rm -rf a4Core.buildbin-libdir && mkdir a4Core.buildbin-libdir && C:\Users\biocbuild\bbs-3.10-bioc\R\bin\R.exe CMD INSTALL --merge-multiarch --build --library=a4Core.buildbin-libdir a4Core_1.34.0.tar.gz
###
##############################################################################
##############################################################################
install for i386
* installing *source* package 'a4Core' ...
** using staged installation
** R
** inst
** byte-compile and prepare package for lazy loading
** help
*** installing help indices
converting help for package 'a4Core'
finding HTML links ... done
confusionMatrix html
simulateData html
topTable-methods html
topTable html
** building package indices
** testing if installed package can be loaded from temporary location
** testing if installed package can be loaded from final location
** testing if installed package keeps a record of temporary installation path
install for x64
* installing *source* package 'a4Core' ...
** testing if installed package can be loaded
* MD5 sums
packaged installation of 'a4Core' as a4Core_1.34.0.zip
* DONE (a4Core)