| Back to Multiple platform build/check report for BioC 3.10 |
|
This page was generated on 2020-04-15 12:31:54 -0400 (Wed, 15 Apr 2020).
| Package 1812/1823 | Hostname | OS / Arch | INSTALL | BUILD | CHECK | BUILD BIN | ||||||
| Xeva 1.2.0 Benjamin Haibe-Kains
| malbec1 | Linux (Ubuntu 18.04.4 LTS) / x86_64 | OK | OK | OK | |||||||
| tokay1 | Windows Server 2012 R2 Standard / x64 | [ OK ] | OK | OK | OK | |||||||
| merida1 | OS X 10.11.6 El Capitan / x86_64 | OK | OK | OK | OK |
| Package: Xeva |
| Version: 1.2.0 |
| Command: C:\cygwin\bin\curl.exe -O https://malbec1.bioconductor.org/BBS/3.10/bioc/src/contrib/Xeva_1.2.0.tar.gz && rm -rf Xeva.buildbin-libdir && mkdir Xeva.buildbin-libdir && C:\Users\biocbuild\bbs-3.10-bioc\R\bin\R.exe CMD INSTALL --merge-multiarch --build --library=Xeva.buildbin-libdir Xeva_1.2.0.tar.gz && C:\Users\biocbuild\bbs-3.10-bioc\R\bin\R.exe CMD INSTALL Xeva_1.2.0.zip && rm Xeva_1.2.0.tar.gz Xeva_1.2.0.zip |
| StartedAt: 2020-04-14 19:28:57 -0400 (Tue, 14 Apr 2020) |
| EndedAt: 2020-04-14 19:29:42 -0400 (Tue, 14 Apr 2020) |
| EllapsedTime: 44.8 seconds |
| RetCode: 0 |
| Status: OK |
##############################################################################
##############################################################################
###
### Running command:
###
### C:\cygwin\bin\curl.exe -O https://malbec1.bioconductor.org/BBS/3.10/bioc/src/contrib/Xeva_1.2.0.tar.gz && rm -rf Xeva.buildbin-libdir && mkdir Xeva.buildbin-libdir && C:\Users\biocbuild\bbs-3.10-bioc\R\bin\R.exe CMD INSTALL --merge-multiarch --build --library=Xeva.buildbin-libdir Xeva_1.2.0.tar.gz && C:\Users\biocbuild\bbs-3.10-bioc\R\bin\R.exe CMD INSTALL Xeva_1.2.0.zip && rm Xeva_1.2.0.tar.gz Xeva_1.2.0.zip
###
##############################################################################
##############################################################################
% Total % Received % Xferd Average Speed Time Time Time Current
Dload Upload Total Spent Left Speed
0 0 0 0 0 0 0 0 --:--:-- --:--:-- --:--:-- 0
100 764k 100 764k 0 0 15.0M 0 --:--:-- --:--:-- --:--:-- 16.2M
install for i386
* installing *source* package 'Xeva' ...
** using staged installation
** R
** data
** inst
** byte-compile and prepare package for lazy loading
** help
*** installing help indices
converting help for package 'Xeva'
finding HTML links ... done
ABC html
AUC html
PDXMI html
TGI html
addExperimentalDesign html
angle html
batchInfo html
brca html
createXevaSet html
dosePlot html
downloadXevaSet html
drugInform html
drugSensitivitySig html
getExperiment html
getMolecularProfiles html
lmm html
mRECIST html
modelInfo html
plotPDX html
plotmRECIST html
print.batchResponse html
print.modelResponse html
print.pdxBatch html
repdx html
response html
selectModelIds html
sensitivity html
setResponse html
slope html
subsetXeva html
summarizeMolecularProfiles html
summarizeResponse html
waterfall html
** building package indices
** installing vignettes
** testing if installed package can be loaded from temporary location
** testing if installed package can be loaded from final location
** testing if installed package keeps a record of temporary installation path
install for x64
* installing *source* package 'Xeva' ...
** testing if installed package can be loaded
* MD5 sums
packaged installation of 'Xeva' as Xeva_1.2.0.zip
* DONE (Xeva)
* installing to library 'C:/Users/biocbuild/bbs-3.10-bioc/R/library'
package 'Xeva' successfully unpacked and MD5 sums checked