| Back to Multiple platform build/check report for BioC 3.10 |
|
This page was generated on 2020-04-15 12:35:23 -0400 (Wed, 15 Apr 2020).
| Package 1811/1823 | Hostname | OS / Arch | INSTALL | BUILD | CHECK | BUILD BIN | ||||||
| XDE 2.32.0 Robert Scharpf
| malbec1 | Linux (Ubuntu 18.04.4 LTS) / x86_64 | OK | OK | OK | |||||||
| tokay1 | Windows Server 2012 R2 Standard / x64 | OK | OK | OK | OK | |||||||
| merida1 | OS X 10.11.6 El Capitan / x86_64 | OK | OK | [ OK ] | OK |
| Package: XDE |
| Version: 2.32.0 |
| Command: /Library/Frameworks/R.framework/Versions/Current/Resources/bin/R CMD check --install=check:XDE.install-out.txt --library=/Library/Frameworks/R.framework/Versions/Current/Resources/library --no-vignettes --timings XDE_2.32.0.tar.gz |
| StartedAt: 2020-04-15 06:29:15 -0400 (Wed, 15 Apr 2020) |
| EndedAt: 2020-04-15 06:32:10 -0400 (Wed, 15 Apr 2020) |
| EllapsedTime: 174.1 seconds |
| RetCode: 0 |
| Status: OK |
| CheckDir: XDE.Rcheck |
| Warnings: 0 |
############################################################################## ############################################################################## ### ### Running command: ### ### /Library/Frameworks/R.framework/Versions/Current/Resources/bin/R CMD check --install=check:XDE.install-out.txt --library=/Library/Frameworks/R.framework/Versions/Current/Resources/library --no-vignettes --timings XDE_2.32.0.tar.gz ### ############################################################################## ############################################################################## * using log directory ‘/Users/biocbuild/bbs-3.10-bioc/meat/XDE.Rcheck’ * using R version 3.6.3 (2020-02-29) * using platform: x86_64-apple-darwin15.6.0 (64-bit) * using session charset: UTF-8 * using option ‘--no-vignettes’ * checking for file ‘XDE/DESCRIPTION’ ... OK * this is package ‘XDE’ version ‘2.32.0’ * checking package namespace information ... OK * checking package dependencies ... OK * checking if this is a source package ... OK * checking if there is a namespace ... OK * checking for hidden files and directories ... OK * checking for portable file names ... OK * checking for sufficient/correct file permissions ... OK * checking whether package ‘XDE’ can be installed ... OK * checking installed package size ... OK * checking package directory ... OK * checking ‘build’ directory ... OK * checking DESCRIPTION meta-information ... OK * checking top-level files ... OK * checking for left-over files ... OK * checking index information ... OK * checking package subdirectories ... OK * checking R files for non-ASCII characters ... OK * checking R files for syntax errors ... OK * checking whether the package can be loaded ... OK * checking whether the package can be loaded with stated dependencies ... OK * checking whether the package can be unloaded cleanly ... OK * checking whether the namespace can be loaded with stated dependencies ... OK * checking whether the namespace can be unloaded cleanly ... OK * checking dependencies in R code ... OK * checking S3 generic/method consistency ... OK * checking replacement functions ... OK * checking foreign function calls ... OK * checking R code for possible problems ... OK * checking Rd files ... OK * checking Rd metadata ... OK * checking Rd cross-references ... OK * checking for missing documentation entries ... OK * checking for code/documentation mismatches ... OK * checking Rd \usage sections ... OK * checking Rd contents ... OK * checking for unstated dependencies in examples ... OK * checking contents of ‘data’ directory ... OK * checking data for non-ASCII characters ... OK * checking data for ASCII and uncompressed saves ... OK * checking line endings in C/C++/Fortran sources/headers ... OK * checking line endings in Makefiles ... OK * checking compilation flags in Makevars ... OK * checking for GNU extensions in Makefiles ... OK * checking for portable use of $(BLAS_LIBS) and $(LAPACK_LIBS) ... OK * checking include directives in Makefiles ... OK * checking compiled code ... NOTE Note: information on .o files is not available * checking sizes of PDF files under ‘inst/doc’ ... OK * checking installed files from ‘inst/doc’ ... OK * checking files in ‘vignettes’ ... OK * checking examples ... OK * checking for unstated dependencies in ‘tests’ ... OK * checking tests ... Running ‘doRUnit.R’ OK * checking for unstated dependencies in vignettes ... OK * checking package vignettes in ‘inst/doc’ ... OK * checking running R code from vignettes ... SKIPPED * checking re-building of vignette outputs ... SKIPPED * checking PDF version of manual ... OK * DONE Status: 1 NOTE See ‘/Users/biocbuild/bbs-3.10-bioc/meat/XDE.Rcheck/00check.log’ for details.
XDE.Rcheck/00install.out
##############################################################################
##############################################################################
###
### Running command:
###
### /Library/Frameworks/R.framework/Versions/Current/Resources/bin/R CMD INSTALL XDE
###
##############################################################################
##############################################################################
* installing to library ‘/Library/Frameworks/R.framework/Versions/3.6/Resources/library’
* installing *source* package ‘XDE’ ...
** using staged installation
** libs
clang++ -std=gnu++11 -I"/Library/Frameworks/R.framework/Resources/include" -DNDEBUG -isysroot /Library/Developer/CommandLineTools/SDKs/MacOSX.sdk -I/usr/local/include -fPIC -Wall -g -O2 -c Cholesky.cpp -o Cholesky.o
clang++ -std=gnu++11 -I"/Library/Frameworks/R.framework/Resources/include" -DNDEBUG -isysroot /Library/Developer/CommandLineTools/SDKs/MacOSX.sdk -I/usr/local/include -fPIC -Wall -g -O2 -c Matrix_v2.cpp -o Matrix_v2.o
In file included from Matrix_v2.cpp:1:
./Matrix_v2.h:4:17: warning: using directive refers to implicitly-defined namespace 'std'
using namespace std;
^
Matrix_v2.cpp:246:9: warning: unused variable 'j' [-Wunused-variable]
int i,j,r;
^
Matrix_v2.cpp:244:7: warning: unused variable 'k' [-Wunused-variable]
int k = 1;
^
3 warnings generated.
clang++ -std=gnu++11 -I"/Library/Frameworks/R.framework/Resources/include" -DNDEBUG -isysroot /Library/Developer/CommandLineTools/SDKs/MacOSX.sdk -I/usr/local/include -fPIC -Wall -g -O2 -c Potential_v2.cpp -o Potential_v2.o
Potential_v2.cpp:374:34: warning: equality comparison result unused [-Wunused-comparison]
if (theGene[k][i] == 1) include == 1;
~~~~~~~~^~~~
Potential_v2.cpp:374:34: note: use '=' to turn this equality comparison into an assignment
if (theGene[k][i] == 1) include == 1;
^~
=
1 warning generated.
clang++ -std=gnu++11 -I"/Library/Frameworks/R.framework/Resources/include" -DNDEBUG -isysroot /Library/Developer/CommandLineTools/SDKs/MacOSX.sdk -I/usr/local/include -fPIC -Wall -g -O2 -c Random_v2.cpp -o Random_v2.o
Random_v2.cpp:1847:10: warning: unused variable 'x' [-Wunused-variable]
double x,y,tt,sum;
^
1 warning generated.
clang++ -std=gnu++11 -I"/Library/Frameworks/R.framework/Resources/include" -DNDEBUG -isysroot /Library/Developer/CommandLineTools/SDKs/MacOSX.sdk -I/usr/local/include -fPIC -Wall -g -O2 -c Rinterface_v2.cpp -o Rinterface_v2.o
In file included from Rinterface_v2.cpp:2:
In file included from ./Update_v2.h:8:
./Random.h:19:9: warning: 'PI' macro redefined [-Wmacro-redefined]
#define PI 3.14159265
^
/Library/Frameworks/R.framework/Resources/include/R_ext/Constants.h:36:9: note: previous definition is here
#define PI M_PI
^
1 warning generated.
clang++ -std=gnu++11 -I"/Library/Frameworks/R.framework/Resources/include" -DNDEBUG -isysroot /Library/Developer/CommandLineTools/SDKs/MacOSX.sdk -I/usr/local/include -fPIC -Wall -g -O2 -c Structure.cpp -o Structure.o
Structure.cpp:528:8: warning: unused variable 'c' [-Wunused-variable]
char c;
^
Structure.cpp:1642:8: warning: unused variable 'nRead' [-Wunused-variable]
int nRead = sscanf(var1,"%d",&value);
^
Structure.cpp:1668:12: warning: unused variable 'nRead' [-Wunused-variable]
int nRead = sscanf(var2,"%le",&value);
^
Structure.cpp:1579:12: warning: unused variable 'c' [-Wunused-variable]
char c;
^
Structure.cpp:1728:12: warning: unused variable 'c' [-Wunused-variable]
char c;
^
5 warnings generated.
clang++ -std=gnu++11 -I"/Library/Frameworks/R.framework/Resources/include" -DNDEBUG -isysroot /Library/Developer/CommandLineTools/SDKs/MacOSX.sdk -I/usr/local/include -fPIC -Wall -g -O2 -c Update_v2.cpp -o Update_v2.o
Update_v2.cpp:3919:10: warning: unused variable 'pot' [-Wunused-variable]
double pot = - OmegaGibbs(df,D,oldClique,oldComponents,Q,G,Delta,
^
Update_v2.cpp:3973:10: warning: unused variable 'pot' [-Wunused-variable]
double pot = DeltaStarGibbs(oldClique,oldComponents,Q,G,S,newValues,
^
2 warnings generated.
clang++ -std=gnu++11 -I"/Library/Frameworks/R.framework/Resources/include" -DNDEBUG -isysroot /Library/Developer/CommandLineTools/SDKs/MacOSX.sdk -I/usr/local/include -fPIC -Wall -g -O2 -c Utility_v2.cpp -o Utility_v2.o
Utility_v2.cpp:221:12: warning: unused variable 'detPrior' [-Wunused-variable]
double detPrior = inverse(var,varInv);
^
Utility_v2.cpp:228:12: warning: unused variable 'detPosterior' [-Wunused-variable]
double detPosterior = 1.0 /inverse(varInv,var);
^
Utility_v2.cpp:303:9: warning: unused variable 's' [-Wunused-variable]
int s;
^
Utility_v2.cpp:328:12: warning: unused variable 'detPrior' [-Wunused-variable]
double detPrior = inverse(var,varInv);
^
Utility_v2.cpp:334:12: warning: unused variable 'detPosterior' [-Wunused-variable]
double detPosterior = 1.0 / inverse(varInv,var);
^
Utility_v2.cpp:764:6: warning: unused variable 'ngg' [-Wunused-variable]
int ngg = neighbour[gg].size();
^
Utility_v2.cpp:954:8: warning: unused variable 'ngg' [-Wunused-variable]
int ngg = neighbour[gg].size();
^
Utility_v2.cpp:1463:33: warning: unused variable 'itextra' [-Wunused-variable]
map<int,double>::iterator itextra = VinvSparse[k].end();
^
8 warnings generated.
clang++ -std=gnu++11 -I"/Library/Frameworks/R.framework/Resources/include" -DNDEBUG -isysroot /Library/Developer/CommandLineTools/SDKs/MacOSX.sdk -I/usr/local/include -fPIC -Wall -g -O2 -c diffExpressed_main.cpp -o diffExpressed_main.o
In file included from diffExpressed_main.cpp:16:
./Random.h:19:9: warning: 'PI' macro redefined [-Wmacro-redefined]
#define PI 3.14159265
^
/Library/Frameworks/R.framework/Resources/include/R_ext/Constants.h:36:9: note: previous definition is here
#define PI M_PI
^
1 warning generated.
clang -I"/Library/Frameworks/R.framework/Resources/include" -DNDEBUG -isysroot /Library/Developer/CommandLineTools/SDKs/MacOSX.sdk -I/usr/local/include -fPIC -Wall -g -O2 -c registerDynamicSymbol.c -o registerDynamicSymbol.o
clang++ -std=gnu++11 -dynamiclib -Wl,-headerpad_max_install_names -undefined dynamic_lookup -single_module -multiply_defined suppress -L/Library/Frameworks/R.framework/Resources/lib -L/usr/local/lib -o XDE.so Cholesky.o Matrix_v2.o Potential_v2.o Random_v2.o Rinterface_v2.o Structure.o Update_v2.o Utility_v2.o diffExpressed_main.o registerDynamicSymbol.o -lm -F/Library/Frameworks/R.framework/.. -framework R -Wl,-framework -Wl,CoreFoundation
installing to /Library/Frameworks/R.framework/Versions/3.6/Resources/library/00LOCK-XDE/00new/XDE/libs
** R
** data
** inst
** byte-compile and prepare package for lazy loading
** help
*** installing help indices
** building package indices
** installing vignettes
‘XDE.Rnw’
‘XdeParameterClass.Rnw’
** testing if installed package can be loaded from temporary location
** checking absolute paths in shared objects and dynamic libraries
** testing if installed package can be loaded from final location
** testing if installed package keeps a record of temporary installation path
* DONE (XDE)
XDE.Rcheck/tests/doRUnit.Rout
R version 3.6.3 (2020-02-29) -- "Holding the Windsock"
Copyright (C) 2020 The R Foundation for Statistical Computing
Platform: x86_64-apple-darwin15.6.0 (64-bit)
R is free software and comes with ABSOLUTELY NO WARRANTY.
You are welcome to redistribute it under certain conditions.
Type 'license()' or 'licence()' for distribution details.
R is a collaborative project with many contributors.
Type 'contributors()' for more information and
'citation()' on how to cite R or R packages in publications.
Type 'demo()' for some demos, 'help()' for on-line help, or
'help.start()' for an HTML browser interface to help.
Type 'q()' to quit R.
> ## from xmapcore package
> if( require( "RUnit", quietly=TRUE ) ) {
+ pkg <- "XDE"
+
+ if( Sys.getenv( "RCMDCHECK" ) == "FALSE" ) {
+ path <- file.path( getwd(), "..", "inst", "unitTests" )
+ } else {
+ path <- system.file( package=pkg, "unitTests" )
+ }
+
+ cat( "\nRunning unit tests\n" )
+ print( list( pkg=pkg, getwd=getwd(), pathToUnitTests=path ) )
+ library( package=pkg, character.only=TRUE )
+
+ ##xmap.clear.cache()
+
+ ##Fail on warnings
+ options( warn=2 )
+
+ ## Get the pattern (if there is one?)
+ patt <- Sys.getenv( "RUNITFILEPATTERN" )
+ if( is.null( patt ) || nchar( patt ) == 0 ) {
+ testSuite <- defineTestSuite(name=paste( pkg, "unit testing" ),
+ dirs=path,
+ testFileRegexp=paste( "^test.+", patt, "\\.[rR]$", sep="" ))
+ } else {
+ ##testSuite <- defineTestSuite( name=paste( pkg, "unit testing" ), testFileRegexp=paste( "^runit\\.", patt, "\\.[rR]$", sep="" ), dirs=path )
+ testSuite <- defineTestSuite(name=paste( pkg, "unit testing" ),
+ testFileRegexp=paste( "^test.+", patt, "\\.[rR]$", sep="" ),
+ dirs=path )
+ }
+ tests <- runTestSuite( testSuite )
+
+ pathReport <- file.path( path, "report" )
+
+ cat( "------------------- UNIT TEST SUMMARY ---------------------\n\n" )
+ printTextProtocol( tests, showDetails=FALSE )
+ printTextProtocol( tests, showDetails=FALSE, fileName=paste( pathReport, "Summary.txt", sep="" ) )
+ printTextProtocol( tests, showDetails=TRUE, fileName=paste( pathReport, ".txt", sep="" ) )
+
+ printHTMLProtocol( tests, fileName=paste( pathReport, ".html", sep="" ) )
+
+ tmp <- getErrors( tests )
+ if( tmp$nFail > 0 | tmp$nErr > 0 ){
+ stop( paste( "\n\nunit testing failed (#test failures: ", tmp$nFail, ", #R errors: ", tmp$nErr, ")\n\n", sep=""))
+ }
+ } else {
+ warning( "cannot run unit tests -- package RUnit is not available" )
+ }
Running unit tests
$pkg
[1] "XDE"
$getwd
[1] "/Users/biocbuild/bbs-3.10-bioc/meat/XDE.Rcheck/tests"
$pathToUnitTests
[1] "/Library/Frameworks/R.framework/Versions/3.6/Resources/library/XDE/unitTests"
Loading required package: Biobase
Loading required package: BiocGenerics
Loading required package: parallel
Attaching package: 'BiocGenerics'
The following objects are masked from 'package:parallel':
clusterApply, clusterApplyLB, clusterCall, clusterEvalQ,
clusterExport, clusterMap, parApply, parCapply, parLapply,
parLapplyLB, parRapply, parSapply, parSapplyLB
The following objects are masked from 'package:stats':
IQR, mad, sd, var, xtabs
The following objects are masked from 'package:base':
Filter, Find, Map, Position, Reduce, anyDuplicated, append,
as.data.frame, basename, cbind, colnames, dirname, do.call,
duplicated, eval, evalq, get, grep, grepl, intersect, is.unsorted,
lapply, mapply, match, mget, order, paste, pmax, pmax.int, pmin,
pmin.int, rank, rbind, rownames, sapply, setdiff, sort, table,
tapply, union, unique, unsplit, which, which.max, which.min
Welcome to Bioconductor
Vignettes contain introductory material; view with
'browseVignettes()'. To cite Bioconductor, see
'citation("Biobase")', and for packages 'citation("pkgname")'.
Welcome to XDE version 2.32.0
------------------- UNIT TEST SUMMARY ---------------------
RUNIT TEST PROTOCOL -- Wed Apr 15 06:32:03 2020
***********************************************
Number of test functions: 0
Number of errors: 0
Number of failures: 0
1 Test Suite :
XDE unit testing - 0 test functions, 0 errors, 0 failures
>
> proc.time()
user system elapsed
5.913 0.389 6.315
XDE.Rcheck/XDE-Ex.timings
| name | user | system | elapsed | |
| ExpressionSetList-class | 0.041 | 0.008 | 0.049 | |
| Parameters-class | 0.002 | 0.001 | 0.002 | |
| XdeMcmc-class | 0 | 0 | 0 | |
| XdeParameter-class | 0.002 | 0.000 | 0.003 | |
| burnin | 0.001 | 0.001 | 0.001 | |
| empiricalStart | 0.234 | 0.015 | 0.258 | |
| expressionSetList | 0.018 | 0.006 | 0.024 | |
| firstMcmc | 0.244 | 0.014 | 0.258 | |
| geneCenter | 0.051 | 0.009 | 0.061 | |
| hyperparameters | 0.161 | 0.010 | 0.172 | |
| lastMcmc | 0 | 0 | 0 | |
| output | 0.125 | 0.007 | 0.133 | |
| ssStatistic | 1.004 | 0.014 | 1.021 | |
| studyCenter | 0.048 | 0.004 | 0.051 | |
| symbolsInteresting | 0.204 | 0.008 | 0.214 | |
| xde | 0 | 0 | 0 | |
| xmcmc | 0.097 | 0.006 | 0.104 | |
| xsScores | 0.062 | 0.005 | 0.068 | |