| Back to Multiple platform build/check report for BioC 3.10 |
|
This page was generated on 2020-04-15 12:30:29 -0400 (Wed, 15 Apr 2020).
| Package 1773/1823 | Hostname | OS / Arch | INSTALL | BUILD | CHECK | BUILD BIN | ||||||
| TxRegInfra 1.6.0 VJ Carey
| malbec1 | Linux (Ubuntu 18.04.4 LTS) / x86_64 | OK | OK | OK | |||||||
| tokay1 | Windows Server 2012 R2 Standard / x64 | OK | OK | OK | [ OK ] | |||||||
| merida1 | OS X 10.11.6 El Capitan / x86_64 | OK | TIMEOUT | skipped | skipped |
| Package: TxRegInfra |
| Version: 1.6.0 |
| Command: rm -rf TxRegInfra.buildbin-libdir && mkdir TxRegInfra.buildbin-libdir && C:\Users\biocbuild\bbs-3.10-bioc\R\bin\R.exe CMD INSTALL --merge-multiarch --build --library=TxRegInfra.buildbin-libdir TxRegInfra_1.6.0.tar.gz |
| StartedAt: 2020-04-15 09:52:04 -0400 (Wed, 15 Apr 2020) |
| EndedAt: 2020-04-15 09:52:55 -0400 (Wed, 15 Apr 2020) |
| EllapsedTime: 51.1 seconds |
| RetCode: 0 |
| Status: OK |
| PackageFile: TxRegInfra_1.6.0.zip |
| PackageFileSize: 1016 KiB |
##############################################################################
##############################################################################
###
### Running command:
###
### rm -rf TxRegInfra.buildbin-libdir && mkdir TxRegInfra.buildbin-libdir && C:\Users\biocbuild\bbs-3.10-bioc\R\bin\R.exe CMD INSTALL --merge-multiarch --build --library=TxRegInfra.buildbin-libdir TxRegInfra_1.6.0.tar.gz
###
##############################################################################
##############################################################################
install for i386
* installing *source* package 'TxRegInfra' ...
** using staged installation
** R
** data
*** moving datasets to lazyload DB
** inst
** byte-compile and prepare package for lazy loading
** help
*** installing help indices
converting help for package 'TxRegInfra'
finding HTML links ... done
RaggedMongoExpt html
URL_txregInAWS html
URL_txregLocal html
addsyms html
basicColData html
basicFormatter html
demo_eQTL_granges html
demo_fimo_granges html
dgf_meta html
dnmeta html
dnmetaApp html
getDocumentFields html
getFieldNames html
grConverter html
importBedToMongo html
listAllCollections html
makeAggregator html
makeColData html
makeGRConverterList html
oldbasicColData html
ragged41FP html
sbov html
sbov_output_FP html
sbov_output_HS html
sbov_output_eQTL html
sbov_to_graphNEL html
txmodels html
txregCollections html
verifyHasMongoCmd html
verifyRunningMongodb html
** building package indices
** installing vignettes
** testing if installed package can be loaded from temporary location
** testing if installed package can be loaded from final location
** testing if installed package keeps a record of temporary installation path
install for x64
* installing *source* package 'TxRegInfra' ...
** testing if installed package can be loaded
* MD5 sums
packaged installation of 'TxRegInfra' as TxRegInfra_1.6.0.zip
* DONE (TxRegInfra)