| Back to Multiple platform build/check report for BioC 3.10 |
|
This page was generated on 2020-04-15 12:29:46 -0400 (Wed, 15 Apr 2020).
| Package 1753/1823 | Hostname | OS / Arch | INSTALL | BUILD | CHECK | BUILD BIN | ||||||
| Trendy 1.8.2 Rhonda Bacher
| malbec1 | Linux (Ubuntu 18.04.4 LTS) / x86_64 | OK | OK | OK | |||||||
| tokay1 | Windows Server 2012 R2 Standard / x64 | [ OK ] | OK | OK | OK | |||||||
| merida1 | OS X 10.11.6 El Capitan / x86_64 | OK | OK | OK | OK |
| Package: Trendy |
| Version: 1.8.2 |
| Command: C:\cygwin\bin\curl.exe -O https://malbec1.bioconductor.org/BBS/3.10/bioc/src/contrib/Trendy_1.8.2.tar.gz && rm -rf Trendy.buildbin-libdir && mkdir Trendy.buildbin-libdir && C:\Users\biocbuild\bbs-3.10-bioc\R\bin\R.exe CMD INSTALL --merge-multiarch --build --library=Trendy.buildbin-libdir Trendy_1.8.2.tar.gz && C:\Users\biocbuild\bbs-3.10-bioc\R\bin\R.exe CMD INSTALL Trendy_1.8.2.zip && rm Trendy_1.8.2.tar.gz Trendy_1.8.2.zip |
| StartedAt: 2020-04-14 19:35:23 -0400 (Tue, 14 Apr 2020) |
| EndedAt: 2020-04-14 19:35:56 -0400 (Tue, 14 Apr 2020) |
| EllapsedTime: 32.2 seconds |
| RetCode: 0 |
| Status: OK |
##############################################################################
##############################################################################
###
### Running command:
###
### C:\cygwin\bin\curl.exe -O https://malbec1.bioconductor.org/BBS/3.10/bioc/src/contrib/Trendy_1.8.2.tar.gz && rm -rf Trendy.buildbin-libdir && mkdir Trendy.buildbin-libdir && C:\Users\biocbuild\bbs-3.10-bioc\R\bin\R.exe CMD INSTALL --merge-multiarch --build --library=Trendy.buildbin-libdir Trendy_1.8.2.tar.gz && C:\Users\biocbuild\bbs-3.10-bioc\R\bin\R.exe CMD INSTALL Trendy_1.8.2.zip && rm Trendy_1.8.2.tar.gz Trendy_1.8.2.zip
###
##############################################################################
##############################################################################
% Total % Received % Xferd Average Speed Time Time Time Current
Dload Upload Total Spent Left Speed
0 0 0 0 0 0 0 0 --:--:-- --:--:-- --:--:-- 0
100 451k 100 451k 0 0 10.4M 0 --:--:-- --:--:-- --:--:-- 11.6M
install for i386
* installing *source* package 'Trendy' ...
** using staged installation
** R
** data
*** moving datasets to lazyload DB
** inst
** byte-compile and prepare package for lazy loading
** help
*** installing help indices
converting help for package 'Trendy'
finding HTML links ... done
breakpointDist html
breakpointFit html
extractPattern html
fitSegBIC html
formatFunc html
formatResults html
getCounts html
plotFeature html
results html
topTrendy html
trendHeatmap html
trendy html
trendyExampleData html
trendyShiny html
** building package indices
** installing vignettes
** testing if installed package can be loaded from temporary location
** testing if installed package can be loaded from final location
** testing if installed package keeps a record of temporary installation path
install for x64
* installing *source* package 'Trendy' ...
** testing if installed package can be loaded
* MD5 sums
packaged installation of 'Trendy' as Trendy_1.8.2.zip
* DONE (Trendy)
* installing to library 'C:/Users/biocbuild/bbs-3.10-bioc/R/library'
package 'Trendy' successfully unpacked and MD5 sums checked