| Back to Multiple platform build/check report for BioC 3.10 |
|
This page was generated on 2020-04-15 12:21:53 -0400 (Wed, 15 Apr 2020).
| Package 1704/1823 | Hostname | OS / Arch | INSTALL | BUILD | CHECK | BUILD BIN | ||||||
| TargetScore 1.24.0 Yue Li
| malbec1 | Linux (Ubuntu 18.04.4 LTS) / x86_64 | OK | OK | OK | |||||||
| tokay1 | Windows Server 2012 R2 Standard / x64 | OK | OK | WARNINGS | [ OK ] | |||||||
| merida1 | OS X 10.11.6 El Capitan / x86_64 | OK | OK | OK | OK |
| Package: TargetScore |
| Version: 1.24.0 |
| Command: rm -rf TargetScore.buildbin-libdir && mkdir TargetScore.buildbin-libdir && C:\Users\biocbuild\bbs-3.10-bioc\R\bin\R.exe CMD INSTALL --merge-multiarch --build --library=TargetScore.buildbin-libdir TargetScore_1.24.0.tar.gz |
| StartedAt: 2020-04-15 09:48:06 -0400 (Wed, 15 Apr 2020) |
| EndedAt: 2020-04-15 09:48:50 -0400 (Wed, 15 Apr 2020) |
| EllapsedTime: 44.9 seconds |
| RetCode: 0 |
| Status: OK |
| PackageFile: TargetScore_1.24.0.zip |
| PackageFileSize: 649.3 KiB |
##############################################################################
##############################################################################
###
### Running command:
###
### rm -rf TargetScore.buildbin-libdir && mkdir TargetScore.buildbin-libdir && C:\Users\biocbuild\bbs-3.10-bioc\R\bin\R.exe CMD INSTALL --merge-multiarch --build --library=TargetScore.buildbin-libdir TargetScore_1.24.0.tar.gz
###
##############################################################################
##############################################################################
install for i386
* installing *source* package 'TargetScore' ...
** using staged installation
** R
** inst
** byte-compile and prepare package for lazy loading
** help
*** installing help indices
converting help for package 'TargetScore'
finding HTML links ... done
TargetScore-package html
bsxfun.se html
dot.ext html
getTargetScores html
initialization html
logmvgamma html
Rd warning: C:/Users/biocbuild/bbs-3.10-bioc/tmpdir/RtmpqQoTu6/R.INSTALL42cc6fa161d4/TargetScore/man/logmvgamma.Rd:44: file link 'lgamma' in package 'base' does not exist and so has been treated as a topic
logsumexp html
sort_components html
targetScore html
vbgmm html
vbound html
vexp html
vmax html
** building package indices
** installing vignettes
** testing if installed package can be loaded from temporary location
** testing if installed package can be loaded from final location
** testing if installed package keeps a record of temporary installation path
install for x64
* installing *source* package 'TargetScore' ...
** testing if installed package can be loaded
* MD5 sums
packaged installation of 'TargetScore' as TargetScore_1.24.0.zip
* DONE (TargetScore)