| Back to Multiple platform build/check report for BioC 3.10 |
|
This page was generated on 2020-04-15 12:23:36 -0400 (Wed, 15 Apr 2020).
| Package 1762/1823 | Hostname | OS / Arch | INSTALL | BUILD | CHECK | BUILD BIN | ||||||
| TSCAN 1.24.0 Zhicheng Ji
| malbec1 | Linux (Ubuntu 18.04.4 LTS) / x86_64 | OK | OK | OK | |||||||
| tokay1 | Windows Server 2012 R2 Standard / x64 | OK | OK | OK | [ OK ] | |||||||
| merida1 | OS X 10.11.6 El Capitan / x86_64 | OK | OK | OK | OK |
| Package: TSCAN |
| Version: 1.24.0 |
| Command: rm -rf TSCAN.buildbin-libdir && mkdir TSCAN.buildbin-libdir && C:\Users\biocbuild\bbs-3.10-bioc\R\bin\R.exe CMD INSTALL --merge-multiarch --build --library=TSCAN.buildbin-libdir TSCAN_1.24.0.tar.gz |
| StartedAt: 2020-04-15 09:51:30 -0400 (Wed, 15 Apr 2020) |
| EndedAt: 2020-04-15 09:52:18 -0400 (Wed, 15 Apr 2020) |
| EllapsedTime: 48.4 seconds |
| RetCode: 0 |
| Status: OK |
| PackageFile: TSCAN_1.24.0.zip |
| PackageFileSize: 2.685 MiB |
##############################################################################
##############################################################################
###
### Running command:
###
### rm -rf TSCAN.buildbin-libdir && mkdir TSCAN.buildbin-libdir && C:\Users\biocbuild\bbs-3.10-bioc\R\bin\R.exe CMD INSTALL --merge-multiarch --build --library=TSCAN.buildbin-libdir TSCAN_1.24.0.tar.gz
###
##############################################################################
##############################################################################
install for i386
* installing *source* package 'TSCAN' ...
** using staged installation
** R
** data
** inst
** byte-compile and prepare package for lazy loading
** help
*** installing help indices
converting help for package 'TSCAN'
finding HTML links ... done
TSCAN html
TSCANorder html
TSCANui html
difftest html
exprmclust html
lpsdata html
orderscore html
plotmclust html
preprocess html
singlegeneplot html
** building package indices
** installing vignettes
** testing if installed package can be loaded from temporary location
** testing if installed package can be loaded from final location
** testing if installed package keeps a record of temporary installation path
install for x64
* installing *source* package 'TSCAN' ...
** testing if installed package can be loaded
* MD5 sums
packaged installation of 'TSCAN' as TSCAN_1.24.0.zip
* DONE (TSCAN)