| Back to Multiple platform build/check report for BioC 3.10 |
|
This page was generated on 2020-04-15 12:28:54 -0400 (Wed, 15 Apr 2020).
| Package 1730/1823 | Hostname | OS / Arch | INSTALL | BUILD | CHECK | BUILD BIN | ||||||
| TMixClust 1.8.0 Monica Golumbeanu
| malbec1 | Linux (Ubuntu 18.04.4 LTS) / x86_64 | OK | OK | OK | |||||||
| tokay1 | Windows Server 2012 R2 Standard / x64 | [ OK ] | OK | OK | OK | |||||||
| merida1 | OS X 10.11.6 El Capitan / x86_64 | OK | OK | OK | OK |
| Package: TMixClust |
| Version: 1.8.0 |
| Command: C:\cygwin\bin\curl.exe -O https://malbec1.bioconductor.org/BBS/3.10/bioc/src/contrib/TMixClust_1.8.0.tar.gz && rm -rf TMixClust.buildbin-libdir && mkdir TMixClust.buildbin-libdir && C:\Users\biocbuild\bbs-3.10-bioc\R\bin\R.exe CMD INSTALL --merge-multiarch --build --library=TMixClust.buildbin-libdir TMixClust_1.8.0.tar.gz && C:\Users\biocbuild\bbs-3.10-bioc\R\bin\R.exe CMD INSTALL TMixClust_1.8.0.zip && rm TMixClust_1.8.0.tar.gz TMixClust_1.8.0.zip |
| StartedAt: 2020-04-14 19:09:01 -0400 (Tue, 14 Apr 2020) |
| EndedAt: 2020-04-14 19:09:24 -0400 (Tue, 14 Apr 2020) |
| EllapsedTime: 22.9 seconds |
| RetCode: 0 |
| Status: OK |
##############################################################################
##############################################################################
###
### Running command:
###
### C:\cygwin\bin\curl.exe -O https://malbec1.bioconductor.org/BBS/3.10/bioc/src/contrib/TMixClust_1.8.0.tar.gz && rm -rf TMixClust.buildbin-libdir && mkdir TMixClust.buildbin-libdir && C:\Users\biocbuild\bbs-3.10-bioc\R\bin\R.exe CMD INSTALL --merge-multiarch --build --library=TMixClust.buildbin-libdir TMixClust_1.8.0.tar.gz && C:\Users\biocbuild\bbs-3.10-bioc\R\bin\R.exe CMD INSTALL TMixClust_1.8.0.zip && rm TMixClust_1.8.0.tar.gz TMixClust_1.8.0.zip
###
##############################################################################
##############################################################################
% Total % Received % Xferd Average Speed Time Time Time Current
Dload Upload Total Spent Left Speed
0 0 0 0 0 0 0 0 --:--:-- --:--:-- --:--:-- 0
100 191k 100 191k 0 0 5026k 0 --:--:-- --:--:-- --:--:-- 5644k
install for i386
* installing *source* package 'TMixClust' ...
** using staged installation
** R
** data
*** moving datasets to lazyload DB
** inst
** byte-compile and prepare package for lazy loading
** help
*** installing help indices
converting help for package 'TMixClust'
finding HTML links ... done
TMixClust-package html
TMixClust html
analyse_stability html
best_clust_toy_obj html
best_clust_yeast_obj html
generate_TMixClust_report html
get_time_series_df html
get_time_series_df_bio html
plot_silhouette html
plot_time_series_df html
toy_data_df html
** building package indices
** installing vignettes
** testing if installed package can be loaded from temporary location
** testing if installed package can be loaded from final location
** testing if installed package keeps a record of temporary installation path
install for x64
* installing *source* package 'TMixClust' ...
** testing if installed package can be loaded
* MD5 sums
packaged installation of 'TMixClust' as TMixClust_1.8.0.zip
* DONE (TMixClust)
* installing to library 'C:/Users/biocbuild/bbs-3.10-bioc/R/library'
package 'TMixClust' successfully unpacked and MD5 sums checked