| Back to Multiple platform build/check report for BioC 3.10 |
|
This page was generated on 2020-04-15 12:09:51 -0400 (Wed, 15 Apr 2020).
| Package 1726/1823 | Hostname | OS / Arch | INSTALL | BUILD | CHECK | BUILD BIN | ||||||
| TIN 1.18.0 Bjarne Johannessen
| malbec1 | Linux (Ubuntu 18.04.4 LTS) / x86_64 | [ OK ] | OK | OK | |||||||
| tokay1 | Windows Server 2012 R2 Standard / x64 | OK | OK | OK | OK | |||||||
| merida1 | OS X 10.11.6 El Capitan / x86_64 | OK | OK | OK | OK |
| Package: TIN |
| Version: 1.18.0 |
| Command: /home/biocbuild/bbs-3.10-bioc/R/bin/R CMD INSTALL TIN |
| StartedAt: 2020-04-14 18:19:47 -0400 (Tue, 14 Apr 2020) |
| EndedAt: 2020-04-14 18:20:05 -0400 (Tue, 14 Apr 2020) |
| EllapsedTime: 17.8 seconds |
| RetCode: 0 |
| Status: OK |
##############################################################################
##############################################################################
###
### Running command:
###
### /home/biocbuild/bbs-3.10-bioc/R/bin/R CMD INSTALL TIN
###
##############################################################################
##############################################################################
* installing to library ‘/home/biocbuild/bbs-3.10-bioc/R/library’
* installing *source* package ‘TIN’ ...
** using staged installation
** R
** data
** inst
** byte-compile and prepare package for lazy loading
The following object is masked _by_ package:aroma.affymetrix:
writeCdf
The following object is masked from package:R.utils:
findFiles
** help
*** installing help indices
** building package indices
** installing vignettes
** testing if installed package can be loaded from temporary location
The following object is masked _by_ package:aroma.affymetrix:
writeCdf
The following object is masked from package:R.utils:
findFiles
** testing if installed package can be loaded from final location
The following object is masked _by_ package:aroma.affymetrix:
writeCdf
The following object is masked from package:R.utils:
findFiles
** testing if installed package keeps a record of temporary installation path
* DONE (TIN)