| Back to Multiple platform build/check report for BioC 3.10 |
|
This page was generated on 2020-04-15 12:45:57 -0400 (Wed, 15 Apr 2020).
| Package 1719/1823 | Hostname | OS / Arch | INSTALL | BUILD | CHECK | BUILD BIN | ||||||
| TFHAZ 1.8.0 Alberto Marchesi
| malbec1 | Linux (Ubuntu 18.04.4 LTS) / x86_64 | OK | OK | OK | |||||||
| tokay1 | Windows Server 2012 R2 Standard / x64 | OK | OK | OK | OK | |||||||
| merida1 | OS X 10.11.6 El Capitan / x86_64 | OK | OK | [ OK ] | OK |
| Package: TFHAZ |
| Version: 1.8.0 |
| Command: /Library/Frameworks/R.framework/Versions/Current/Resources/bin/R CMD check --install=check:TFHAZ.install-out.txt --library=/Library/Frameworks/R.framework/Versions/Current/Resources/library --no-vignettes --timings TFHAZ_1.8.0.tar.gz |
| StartedAt: 2020-04-15 06:07:16 -0400 (Wed, 15 Apr 2020) |
| EndedAt: 2020-04-15 06:09:06 -0400 (Wed, 15 Apr 2020) |
| EllapsedTime: 110.8 seconds |
| RetCode: 0 |
| Status: OK |
| CheckDir: TFHAZ.Rcheck |
| Warnings: 0 |
##############################################################################
##############################################################################
###
### Running command:
###
### /Library/Frameworks/R.framework/Versions/Current/Resources/bin/R CMD check --install=check:TFHAZ.install-out.txt --library=/Library/Frameworks/R.framework/Versions/Current/Resources/library --no-vignettes --timings TFHAZ_1.8.0.tar.gz
###
##############################################################################
##############################################################################
* using log directory ‘/Users/biocbuild/bbs-3.10-bioc/meat/TFHAZ.Rcheck’
* using R version 3.6.3 (2020-02-29)
* using platform: x86_64-apple-darwin15.6.0 (64-bit)
* using session charset: UTF-8
* using option ‘--no-vignettes’
* checking for file ‘TFHAZ/DESCRIPTION’ ... OK
* checking extension type ... Package
* this is package ‘TFHAZ’ version ‘1.8.0’
* package encoding: UTF-8
* checking package namespace information ... OK
* checking package dependencies ... OK
* checking if this is a source package ... OK
* checking if there is a namespace ... OK
* checking for hidden files and directories ... OK
* checking for portable file names ... OK
* checking for sufficient/correct file permissions ... OK
* checking whether package ‘TFHAZ’ can be installed ... OK
* checking installed package size ... OK
* checking package directory ... OK
* checking ‘build’ directory ... OK
* checking DESCRIPTION meta-information ... OK
* checking top-level files ... OK
* checking for left-over files ... OK
* checking index information ... OK
* checking package subdirectories ... OK
* checking R files for non-ASCII characters ... OK
* checking R files for syntax errors ... OK
* checking whether the package can be loaded ... OK
* checking whether the package can be loaded with stated dependencies ... OK
* checking whether the package can be unloaded cleanly ... OK
* checking whether the namespace can be loaded with stated dependencies ... OK
* checking whether the namespace can be unloaded cleanly ... OK
* checking dependencies in R code ... OK
* checking S3 generic/method consistency ... OK
* checking replacement functions ... OK
* checking foreign function calls ... OK
* checking R code for possible problems ... OK
* checking Rd files ... OK
* checking Rd metadata ... OK
* checking Rd cross-references ... OK
* checking for missing documentation entries ... OK
* checking for code/documentation mismatches ... OK
* checking Rd \usage sections ... OK
* checking Rd contents ... OK
* checking for unstated dependencies in examples ... OK
* checking contents of ‘data’ directory ... OK
* checking data for non-ASCII characters ... OK
* checking data for ASCII and uncompressed saves ... OK
* checking files in ‘vignettes’ ... OK
* checking examples ... OK
Examples with CPU or elapsed time > 5s
user system elapsed
dense_zones 9.206 0.108 9.397
accumulation 6.521 0.022 6.595
* checking for unstated dependencies in vignettes ... OK
* checking package vignettes in ‘inst/doc’ ... OK
* checking running R code from vignettes ... SKIPPED
* checking re-building of vignette outputs ... SKIPPED
* checking PDF version of manual ... OK
* DONE
Status: OK
TFHAZ.Rcheck/00install.out
############################################################################## ############################################################################## ### ### Running command: ### ### /Library/Frameworks/R.framework/Versions/Current/Resources/bin/R CMD INSTALL TFHAZ ### ############################################################################## ############################################################################## * installing to library ‘/Library/Frameworks/R.framework/Versions/3.6/Resources/library’ * installing *source* package ‘TFHAZ’ ... ** using staged installation ** R ** data *** moving datasets to lazyload DB ** byte-compile and prepare package for lazy loading ** help *** installing help indices ** building package indices ** installing vignettes ** testing if installed package can be loaded from temporary location ** testing if installed package can be loaded from final location ** testing if installed package keeps a record of temporary installation path * DONE (TFHAZ)
TFHAZ.Rcheck/TFHAZ-Ex.timings
| name | user | system | elapsed | |
| Ishikawa | 0.146 | 0.014 | 0.162 | |
| TF_acc_w_0 | 0.084 | 0.014 | 0.099 | |
| TF_dense_w_0 | 0.208 | 0.010 | 0.218 | |
| TF_dense_w_10 | 0.216 | 0.023 | 0.242 | |
| TF_dense_w_100 | 0.212 | 0.007 | 0.221 | |
| TF_dense_w_1000 | 0.215 | 0.006 | 0.222 | |
| TF_dense_w_10000 | 0.222 | 0.007 | 0.231 | |
| accumulation | 6.521 | 0.022 | 6.595 | |
| base_dense_w_10 | 0.193 | 0.006 | 0.199 | |
| dense_zones | 9.206 | 0.108 | 9.397 | |
| high_accumulation_zones | 0.220 | 0.041 | 0.264 | |
| n_zones_PCA | 0.041 | 0.003 | 0.043 | |
| plot_accumulation | 0.001 | 0.000 | 0.000 | |
| plot_n_zones | 0.007 | 0.002 | 0.010 | |
| reg_dense_w_10 | 0.210 | 0.006 | 0.217 | |
| w_analysis | 0.013 | 0.002 | 0.014 | |