| Back to Multiple platform build/check report for BioC 3.10 |
|
This page was generated on 2020-04-15 12:08:10 -0400 (Wed, 15 Apr 2020).
| Package 1717/1823 | Hostname | OS / Arch | INSTALL | BUILD | CHECK | BUILD BIN | ||||||
| TFBSTools 1.24.0 Ge Tan
| malbec1 | Linux (Ubuntu 18.04.4 LTS) / x86_64 | [ OK ] | OK | OK | |||||||
| tokay1 | Windows Server 2012 R2 Standard / x64 | OK | OK | OK | OK | |||||||
| merida1 | OS X 10.11.6 El Capitan / x86_64 | OK | OK | OK | OK |
| Package: TFBSTools |
| Version: 1.24.0 |
| Command: /home/biocbuild/bbs-3.10-bioc/R/bin/R CMD INSTALL TFBSTools |
| StartedAt: 2020-04-14 18:46:26 -0400 (Tue, 14 Apr 2020) |
| EndedAt: 2020-04-14 18:47:12 -0400 (Tue, 14 Apr 2020) |
| EllapsedTime: 45.4 seconds |
| RetCode: 0 |
| Status: OK |
##############################################################################
##############################################################################
###
### Running command:
###
### /home/biocbuild/bbs-3.10-bioc/R/bin/R CMD INSTALL TFBSTools
###
##############################################################################
##############################################################################
* installing to library ‘/home/biocbuild/bbs-3.10-bioc/R/library’
* installing *source* package ‘TFBSTools’ ...
** using staged installation
** libs
gcc -I"/home/biocbuild/bbs-3.10-bioc/R/include" -DNDEBUG -I/usr/local/include -fpic -g -O2 -Wall -c matrixAlignerDynamic.c -o matrixAlignerDynamic.o
matrixAlignerDynamic.c: In function ‘score’:
matrixAlignerDynamic.c:235:22: warning: ‘best_pntr’ may be used uninitialized in this function [-Wmaybe-uninitialized]
while (current_pntr->father != NULL){ // while the father of the current pointer exists, walk through the best posible alignment
~~~~~~~~~~~~^~~~~~~~
gcc -I"/home/biocbuild/bbs-3.10-bioc/R/include" -DNDEBUG -I/usr/local/include -fpic -g -O2 -Wall -c R_init_TFBSTools.c -o R_init_TFBSTools.o
gcc -shared -L/home/biocbuild/bbs-3.10-bioc/R/lib -L/usr/local/lib -o TFBSTools.so matrixAlignerDynamic.o R_init_TFBSTools.o -L/home/biocbuild/bbs-3.10-bioc/R/lib -lR
installing to /home/biocbuild/bbs-3.10-bioc/R/library/00LOCK-TFBSTools/00new/TFBSTools/libs
** R
** data
*** moving datasets to lazyload DB
** inst
** byte-compile and prepare package for lazy loading
No methods found in package ‘IRanges’ for request: ‘score’ when loading ‘TFBSTools’
Creating a new generic function for ‘seqLogo’ in package ‘TFBSTools’
** help
*** installing help indices
** building package indices
** installing vignettes
** testing if installed package can be loaded from temporary location
No methods found in package ‘IRanges’ for request: ‘score’ when loading ‘TFBSTools’
** checking absolute paths in shared objects and dynamic libraries
** testing if installed package can be loaded from final location
No methods found in package ‘IRanges’ for request: ‘score’ when loading ‘TFBSTools’
** testing if installed package keeps a record of temporary installation path
* DONE (TFBSTools)