| Back to Multiple platform build/check report for BioC 3.10 |
|
This page was generated on 2020-04-15 12:25:21 -0400 (Wed, 15 Apr 2020).
| Package 1708/1823 | Hostname | OS / Arch | INSTALL | BUILD | CHECK | BUILD BIN | ||||||
| TCGAbiolinks 2.14.1 Antonio Colaprico
| malbec1 | Linux (Ubuntu 18.04.4 LTS) / x86_64 | OK | OK | ERROR | |||||||
| tokay1 | Windows Server 2012 R2 Standard / x64 | OK | OK | [ ERROR ] | OK | |||||||
| merida1 | OS X 10.11.6 El Capitan / x86_64 | OK | OK | ERROR | OK |
| Package: TCGAbiolinks |
| Version: 2.14.1 |
| Command: C:\Users\biocbuild\bbs-3.10-bioc\R\bin\R.exe CMD check --force-multiarch --install=check:TCGAbiolinks.install-out.txt --library=C:\Users\biocbuild\bbs-3.10-bioc\R\library --no-vignettes --timings TCGAbiolinks_2.14.1.tar.gz |
| StartedAt: 2020-04-15 07:03:12 -0400 (Wed, 15 Apr 2020) |
| EndedAt: 2020-04-15 07:38:48 -0400 (Wed, 15 Apr 2020) |
| EllapsedTime: 2136.1 seconds |
| RetCode: 1 |
| Status: ERROR |
| CheckDir: TCGAbiolinks.Rcheck |
| Warnings: NA |
##############################################################################
##############################################################################
###
### Running command:
###
### C:\Users\biocbuild\bbs-3.10-bioc\R\bin\R.exe CMD check --force-multiarch --install=check:TCGAbiolinks.install-out.txt --library=C:\Users\biocbuild\bbs-3.10-bioc\R\library --no-vignettes --timings TCGAbiolinks_2.14.1.tar.gz
###
##############################################################################
##############################################################################
* using log directory 'C:/Users/biocbuild/bbs-3.10-bioc/meat/TCGAbiolinks.Rcheck'
* using R version 3.6.3 (2020-02-29)
* using platform: x86_64-w64-mingw32 (64-bit)
* using session charset: ISO8859-1
* using option '--no-vignettes'
* checking for file 'TCGAbiolinks/DESCRIPTION' ... OK
* checking extension type ... Package
* this is package 'TCGAbiolinks' version '2.14.1'
* checking package namespace information ... OK
* checking package dependencies ... OK
* checking if this is a source package ... OK
* checking if there is a namespace ... OK
* checking for hidden files and directories ... OK
* checking for portable file names ... OK
* checking whether package 'TCGAbiolinks' can be installed ... OK
* checking installed package size ... NOTE
installed size is 6.0Mb
sub-directories of 1Mb or more:
R 1.6Mb
data 3.6Mb
* checking package directory ... OK
* checking 'build' directory ... OK
* checking DESCRIPTION meta-information ... OK
* checking top-level files ... OK
* checking for left-over files ... OK
* checking index information ... OK
* checking package subdirectories ... OK
* checking R files for non-ASCII characters ... OK
* checking R files for syntax errors ... OK
* loading checks for arch 'i386'
** checking whether the package can be loaded ... OK
** checking whether the package can be loaded with stated dependencies ... OK
** checking whether the package can be unloaded cleanly ... OK
** checking whether the namespace can be loaded with stated dependencies ... OK
** checking whether the namespace can be unloaded cleanly ... OK
* loading checks for arch 'x64'
** checking whether the package can be loaded ... OK
** checking whether the package can be loaded with stated dependencies ... OK
** checking whether the package can be unloaded cleanly ... OK
** checking whether the namespace can be loaded with stated dependencies ... OK
** checking whether the namespace can be unloaded cleanly ... OK
* checking dependencies in R code ... OK
* checking S3 generic/method consistency ... OK
* checking replacement functions ... OK
* checking foreign function calls ... OK
* checking R code for possible problems ... NOTE
GDCquery : <anonymous>: no visible binding for global variable
'submitter_id'
GDCquery : <anonymous>: no visible binding for global variable
'is_ffpe'
TCGAanalyze_DEA: no visible binding for global variable 'barcode'
TCGAanalyze_DEA: no visible binding for global variable 'clinical'
TCGAquery_recount2: no visible binding for global variable 'rse_gene'
TCGAtumor_purity: no visible binding for global variable 'Tumor.purity'
TCGAvisualize_oncoprint: no visible binding for global variable 'value'
TCGAvisualize_starburst: no visible global function definition for
'values'
readExonQuantification: no visible binding for global variable 'exon'
readExonQuantification: no visible binding for global variable
'coordinates'
readGeneExpressionQuantification : <anonymous>: no visible binding for
'<<-' assignment to 'assay.list'
readGeneExpressionQuantification: no visible binding for global
variable 'assay.list'
Undefined global functions or variables:
Tumor.purity assay.list barcode clinical coordinates exon is_ffpe
rse_gene submitter_id value values
* checking Rd files ... OK
* checking Rd metadata ... OK
* checking Rd cross-references ... OK
* checking for missing documentation entries ... OK
* checking for code/documentation mismatches ... OK
* checking Rd \usage sections ... OK
* checking Rd contents ... OK
* checking for unstated dependencies in examples ... OK
* checking contents of 'data' directory ... OK
* checking data for non-ASCII characters ... OK
* checking data for ASCII and uncompressed saves ... OK
* checking R/sysdata.rda ... OK
* checking files in 'vignettes' ... OK
* checking examples ...
** running examples for arch 'i386' ... OK
Examples with CPU or elapsed time > 5s
user system elapsed
GDCquery_clinic 21.02 2.28 39.09
TCGAanalyze_LevelTab 20.89 0.00 20.89
TCGAanalyze_DEA 14.79 0.10 14.89
TCGAanalyze_Filtering 11.47 0.00 11.47
TCGAvisualize_PCA 8.83 0.01 8.89
TCGAanalyze_Normalization 7.88 0.00 7.88
TCGAanalyze_Stemness 7.83 0.00 7.83
GDCdownload 2.95 0.15 32.19
GDCprepare_clinic 2.64 0.19 50.81
getDataCategorySummary 2.31 0.06 5.39
getManifest 1.97 0.02 8.31
GDCquery 0.75 0.03 6.69
matchedMetExp 0.69 0.09 5.59
getResults 0.62 0.03 8.29
colDataPrepare 0.58 0.02 10.69
** running examples for arch 'x64' ... OK
Examples with CPU or elapsed time > 5s
user system elapsed
GDCquery_clinic 20.66 0.61 47.56
TCGAanalyze_LevelTab 20.34 0.00 20.36
TCGAanalyze_DEA 16.78 0.05 16.82
TCGAanalyze_Filtering 16.83 0.00 17.46
TCGAanalyze_Stemness 8.79 0.00 8.99
TCGAanalyze_Normalization 7.14 0.00 7.14
TCGAvisualize_PCA 6.90 0.00 6.92
GDCdownload 6.62 0.15 36.72
GDCprepare_clinic 3.03 0.13 42.72
getResults 0.75 0.02 6.08
getManifest 0.50 0.00 5.08
* checking for unstated dependencies in 'tests' ... OK
* checking tests ...
** running tests for arch 'i386' ...
Running 'testthat.R'
ERROR
Running the tests in 'tests/testthat.R' failed.
Last 13 lines of output:
groups Mean Median Max Min
1 alive 0.3594683 0.3594683 0.3594683 0.3594683
2 dead 0.3589557 0.3608853 0.4099433 0.3240056
alive dead
alive NA NA
dead NA NA
== testthat results ===========================================================
[ OK: 96 | SKIPPED: 0 | WARNINGS: 16 | FAILED: 4 ]
1. Error: Non TCGA data is processed (@test-prepare-download.R#111)
2. Failure: GDCquery can filter by data.category (@test-query.R#6)
3. Error: GDCquery can filter by sample.type (@test-query.R#43)
4. Error: GDCquery_Maf works (@test-query.R#150)
Error: testthat unit tests failed
Execution halted
** running tests for arch 'x64' ...
Running 'testthat.R'
ERROR
Running the tests in 'tests/testthat.R' failed.
Last 13 lines of output:
LGm4 NA NA NA 0.9217168
LGm5 NA NA 0.9217168 NA
groups Mean Median Max Min
1 alive 0.3594683 0.3594683 0.3594683 0.3594683
2 dead 0.3589557 0.3608853 0.4099433 0.3240056
alive dead
alive NA NA
dead NA NA
== testthat results ===========================================================
[ OK: 101 | SKIPPED: 0 | WARNINGS: 18 | FAILED: 2 ]
1. Error: Non TCGA data is processed (@test-prepare-download.R#111)
2. Failure: GDCquery can filter by data.category (@test-query.R#6)
Error: testthat unit tests failed
Execution halted
* checking for unstated dependencies in vignettes ... OK
* checking package vignettes in 'inst/doc' ... OK
* checking running R code from vignettes ... SKIPPED
* checking re-building of vignette outputs ... SKIPPED
* checking PDF version of manual ... OK
* DONE
Status: 2 ERRORs, 2 NOTEs
See
'C:/Users/biocbuild/bbs-3.10-bioc/meat/TCGAbiolinks.Rcheck/00check.log'
for details.
TCGAbiolinks.Rcheck/00install.out
##############################################################################
##############################################################################
###
### Running command:
###
### C:\cygwin\bin\curl.exe -O https://malbec1.bioconductor.org/BBS/3.10/bioc/src/contrib/TCGAbiolinks_2.14.1.tar.gz && rm -rf TCGAbiolinks.buildbin-libdir && mkdir TCGAbiolinks.buildbin-libdir && C:\Users\biocbuild\bbs-3.10-bioc\R\bin\R.exe CMD INSTALL --merge-multiarch --build --library=TCGAbiolinks.buildbin-libdir TCGAbiolinks_2.14.1.tar.gz && C:\Users\biocbuild\bbs-3.10-bioc\R\bin\R.exe CMD INSTALL TCGAbiolinks_2.14.1.zip && rm TCGAbiolinks_2.14.1.tar.gz TCGAbiolinks_2.14.1.zip
###
##############################################################################
##############################################################################
% Total % Received % Xferd Average Speed Time Time Time Current
Dload Upload Total Spent Left Speed
0 0 0 0 0 0 0 0 --:--:-- --:--:-- --:--:-- 0
46 6489k 46 3024k 0 0 23.7M 0 --:--:-- --:--:-- --:--:-- 24.4M
100 6489k 100 6489k 0 0 40.3M 0 --:--:-- --:--:-- --:--:-- 41.1M
install for i386
* installing *source* package 'TCGAbiolinks' ...
** using staged installation
** R
** data
*** moving datasets to lazyload DB
** inst
** byte-compile and prepare package for lazy loading
** help
*** installing help indices
converting help for package 'TCGAbiolinks'
finding HTML links ... done
BRCA_rnaseqv2 html
GDCdownload html
GDCprepare html
GDCprepare_clinic html
GDCquery html
GDCquery_ATAC_seq html
GDCquery_Maf html
GDCquery_clinic html
GeneSplitRegulon html
GenesCutID html
PCBC_stemSig html
PanCancerAtlas_subtypes html
TCGAVisualize_volcano html
TCGA_MolecularSubtype html
TCGAanalyze_Clustering html
TCGAanalyze_DEA html
TCGAanalyze_DEA_Affy html
TCGAanalyze_DMC html
TCGAanalyze_EA html
TCGAanalyze_EAcomplete html
TCGAanalyze_Filtering html
TCGAanalyze_LevelTab html
TCGAanalyze_Normalization html
TCGAanalyze_Pathview html
TCGAanalyze_Preprocessing html
TCGAanalyze_Stemness html
TCGAanalyze_SurvivalKM html
TCGAanalyze_analyseGRN html
TCGAanalyze_networkInference html
TCGAanalyze_survival html
TCGAbatch_Correction html
TCGAbiolinks html
TCGAprepare_Affy html
TCGAquery_MatchedCoupledSampleTypes html
TCGAquery_SampleTypes html
TCGAquery_recount2 html
TCGAquery_subtype html
TCGAtumor_purity html
TCGAvisualize_BarPlot html
TCGAvisualize_EAbarplot html
TCGAvisualize_Heatmap html
TCGAvisualize_PCA html
TCGAvisualize_SurvivalCoxNET html
TCGAvisualize_meanMethylation html
TCGAvisualize_oncoprint html
TCGAvisualize_starburst html
TabSubtypesCol_merged html
Tumor.purity html
UseRaw_afterFilter html
batch.info html
bcgsc.ca_CHOL.IlluminaHiSeq_DNASeq.1.somatic.maf
html
chol_maf html
clinBRCA html
clinical.biotab html
colDataPrepare html
dataBRCA html
dataDEGsFiltLevel html
dataREAD html
dataREAD_df html
dmc.non.parametric html
dmc.non.parametric.se html
gaiaCNVplot html
gbm.exp.harmonized html
gbm.exp.legacy html
geneInfo html
geneInfoHT html
get.GRCh.bioMart html
getAdjacencyBiogrid html
getDataCategorySummary html
getGDCInfo html
getGDCprojects html
getGistic html
getLinkedOmicsData html
getMC3MAF html
getManifest html
getNbCases html
getNbFiles html
getProjectSummary html
getResults html
getSampleFilesSummary html
getTSS html
get_IDs html
ggbiplot html
gliomaClassifier html
isServeOK html
matchedMetExp html
met.gbm.27k html
msi_results html
pancan2018 html
splitAPICall html
tabSurvKMcompleteDEGs html
** building package indices
** installing vignettes
** testing if installed package can be loaded from temporary location
** testing if installed package can be loaded from final location
** testing if installed package keeps a record of temporary installation path
install for x64
* installing *source* package 'TCGAbiolinks' ...
** testing if installed package can be loaded
* MD5 sums
packaged installation of 'TCGAbiolinks' as TCGAbiolinks_2.14.1.zip
* DONE (TCGAbiolinks)
* installing to library 'C:/Users/biocbuild/bbs-3.10-bioc/R/library'
package 'TCGAbiolinks' successfully unpacked and MD5 sums checked
|
TCGAbiolinks.Rcheck/tests_i386/testthat.Rout.fail
R version 3.6.3 (2020-02-29) -- "Holding the Windsock"
Copyright (C) 2020 The R Foundation for Statistical Computing
Platform: i386-w64-mingw32/i386 (32-bit)
R is free software and comes with ABSOLUTELY NO WARRANTY.
You are welcome to redistribute it under certain conditions.
Type 'license()' or 'licence()' for distribution details.
R is a collaborative project with many contributors.
Type 'contributors()' for more information and
'citation()' on how to cite R or R packages in publications.
Type 'demo()' for some demos, 'help()' for on-line help, or
'help.start()' for an HTML browser interface to help.
Type 'q()' to quit R.
> library(testthat)
> library(TCGAbiolinks)
>
> test_check("TCGAbiolinks")
| | 0%
|========================== | 50% ~0 s remaining
|====================================================|100% ~0 s remaining
|====================================================|100% Completed after 0 s
| | 0%
|========================== | 50% ~0 s remaining
|====================================================|100% ~0 s remaining
|====================================================|100% Completed after 0 s
Downloading: 7.8 kB
Downloading: 7.8 kB
Downloading: 49 kB
Downloading: 49 kB
Downloading: 49 kB
Downloading: 49 kB
Downloading: 57 kB
Downloading: 57 kB
Downloading: 57 kB
Downloading: 57 kB
Downloading: 57 kB
Downloading: 57 kB
Downloading: 65 kB
Downloading: 65 kB
Downloading: 82 kB
Downloading: 82 kB
Downloading: 90 kB
Downloading: 90 kB
Downloading: 90 kB
Downloading: 90 kB
Downloading: 98 kB
Downloading: 98 kB
Downloading: 98 kB
Downloading: 98 kB
Downloading: 110 kB
Downloading: 110 kB
Downloading: 110 kB
Downloading: 110 kB
Downloading: 110 kB
Downloading: 110 kB
Downloading: 110 kB
Downloading: 110 kB
Downloading: 120 kB
Downloading: 120 kB
Downloading: 120 kB
Downloading: 120 kB
Downloading: 120 kB
Downloading: 120 kB
Downloading: 150 kB
Downloading: 150 kB
Downloading: 150 kB
Downloading: 150 kB
Downloading: 160 kB
Downloading: 160 kB
Downloading: 160 kB
Downloading: 160 kB
Downloading: 160 kB
Downloading: 160 kB
Downloading: 170 kB
Downloading: 170 kB
Downloading: 170 kB
Downloading: 170 kB
Downloading: 180 kB
Downloading: 180 kB
Downloading: 180 kB
Downloading: 180 kB
Downloading: 190 kB
Downloading: 190 kB
Downloading: 190 kB
Downloading: 190 kB
Downloading: 190 kB
Downloading: 190 kB
Downloading: 200 kB
Downloading: 200 kB
Downloading: 250 kB
Downloading: 250 kB
Downloading: 250 kB
Downloading: 250 kB
Downloading: 250 kB
Downloading: 250 kB
Downloading: 300 kB
Downloading: 300 kB
Downloading: 300 kB
Downloading: 300 kB
Downloading: 300 kB
Downloading: 300 kB
Downloading: 320 kB
Downloading: 320 kB
Downloading: 530 kB
Downloading: 530 kB
Downloading: 540 kB
Downloading: 540 kB
Downloading: 640 kB
Downloading: 640 kB
Downloading: 640 kB
Downloading: 640 kB
Downloading: 660 kB
Downloading: 660 kB
Downloading: 670 kB
Downloading: 670 kB
Downloading: 790 kB
Downloading: 790 kB
Downloading: 850 kB
Downloading: 850 kB
Downloading: 940 kB
Downloading: 940 kB
Downloading: 1 MB
Downloading: 1 MB
Downloading: 1.1 MB
Downloading: 1.1 MB
Downloading: 1.1 MB
Downloading: 1.1 MB
Downloading: 1.1 MB
Downloading: 1.1 MB
Downloading: 1.1 MB
Downloading: 1.1 MB
Downloading: 1.2 MB
Downloading: 1.2 MB
Downloading: 1.2 MB
Downloading: 1.2 MB
Downloading: 1.2 MB
Downloading: 1.2 MB
Downloading: 1.3 MB
Downloading: 1.3 MB
Downloading: 1.3 MB
Downloading: 1.3 MB
Downloading: 1.3 MB
Downloading: 1.3 MB
Downloading: 1.4 MB
Downloading: 1.4 MB
Downloading: 1.4 MB
Downloading: 1.4 MB
Downloading: 1.4 MB
Downloading: 1.4 MB
Downloading: 1.4 MB
Downloading: 1.4 MB
Downloading: 1.4 MB
Downloading: 1.4 MB
Downloading: 1.5 MB
Downloading: 1.5 MB
Downloading: 1.5 MB
Downloading: 1.5 MB
Downloading: 1.5 MB
Downloading: 1.5 MB
Downloading: 1.5 MB
Downloading: 1.5 MB
Downloading: 1.5 MB
Downloading: 1.5 MB /cygdrive/c/Rtools/bin/tar: MANIFEST.txt: time stamp 2020-04-15 07:20:03 is 0.7342352 s in the future
/cygdrive/c/Rtools/bin/tar: 49b4db54-a64f-4ae9-b1de-fc192e7bf53f/734117be-80cd-460d-95d9-3477b2998e6d.FPKM-UQ.txt.gz: time stamp 2020-04-15 07:20:03 is 0.7271187 s in the future
/cygdrive/c/Rtools/bin/tar: b0ba97a7-c850-4565-a778-b3645bdc8f73/6c416e81-459b-4fa4-8f16-7f0c8b8442e1.FPKM-UQ.txt.gz: time stamp 2020-04-15 07:20:03 is 0.7209103 s in the future
/cygdrive/c/Rtools/bin/tar: e46becca-bb19-42cf-ad67-3360ef2d120f/be58e260-25a2-40fc-878f-cdf095908383.FPKM-UQ.txt.gz: time stamp 2020-04-15 07:20:03 is 0.7151364 s in the future
| | 0%
|================= |33.33333% ~0 s remaining
|================================== |66.66667% ~0 s remaining
|====================================================|100% ~0 s remaining
|====================================================|100% Completed after 0 s
| | 0%
|================= |33.33333% ~0 s remaining
|================================== |66.66667% ~0 s remaining
|====================================================|100% ~0 s remaining
|====================================================|100% Completed after 0 s
Downloading: 7.8 kB
Downloading: 7.8 kB
Downloading: 16 kB
Downloading: 16 kB
Downloading: 16 kB
Downloading: 16 kB
Downloading: 32 kB
Downloading: 32 kB
Downloading: 65 kB
Downloading: 65 kB
Downloading: 130 kB
Downloading: 130 kB
Downloading: 180 kB
Downloading: 180 kB
Downloading: 230 kB
Downloading: 230 kB
Downloading: 240 kB
Downloading: 240 kB
Downloading: 360 kB
Downloading: 360 kB
Downloading: 420 kB
Downloading: 420 kB
Downloading: 490 kB
Downloading: 490 kB
Downloading: 500 kB
Downloading: 500 kB
Downloading: 520 kB
Downloading: 520 kB
Downloading: 900 kB
Downloading: 900 kB
Downloading: 910 kB
Downloading: 910 kB
Downloading: 980 kB
Downloading: 980 kB
Downloading: 1 MB
Downloading: 1 MB
Downloading: 1 MB
Downloading: 1 MB
Downloading: 1 MB
Downloading: 1 MB /cygdrive/c/Rtools/bin/tar: MANIFEST.txt: time stamp 2020-04-15 07:20:32 is 0.9191259 s in the future
/cygdrive/c/Rtools/bin/tar: 077b89e5-9a94-4846-af76-8cdd8b94ea2c/1fe06563-aa3a-4230-b118-5cf2ef1f43f1.htseq_counts.txt.gz: time stamp 2020-04-15 07:20:32 is 0.9158235 s in the future
/cygdrive/c/Rtools/bin/tar: 1de4a285-c679-40bd-b8d3-206a7afd3a00/01465109-ae93-4c81-bc1c-6be7b720f101.htseq_counts.txt.gz: time stamp 2020-04-15 07:20:32 is 0.9133246 s in the future
/cygdrive/c/Rtools/bin/tar: 89a0c542-9891-433e-b3db-f4eac15e99f5/ee999d2a-11db-4d91-ab89-6ecc104b27d9.htseq_counts.txt.gz: time stamp 2020-04-15 07:20:32 is 0.9107271 s in the future
/cygdrive/c/Rtools/bin/tar: a41c5c98-7dbf-4805-b1b4-a64fe9bdc1ab/b91f2ef3-385a-4aef-8d19-efe750e81098.htseq_counts.txt.gz: time stamp 2020-04-15 07:20:32 is 0.9081769 s in the future
| | 0%
|============= | 25% ~0 s remaining
|========================== | 50% ~0 s remaining
|======================================= | 75% ~0 s remaining
|====================================================|100% ~0 s remaining
|====================================================|100% Completed after 0 s
|
| | 0%
|
|= | 2%
|
|=== | 5%
|
|======== | 11%
|
|=============== | 21%
|
|======================== | 34%
|
|================================= | 47%
|
|=================================== | 50%
|
|======================================= | 56%
|
|========================================== | 59%
|
|================================================ | 69%
|
|================================================================ | 92%
|
|================================================================== | 95%
|
|======================================================================| 100%
Downloading: 7.8 kB
Downloading: 7.8 kB
Downloading: 24 kB
Downloading: 24 kB
Downloading: 57 kB
Downloading: 57 kB
Downloading: 73 kB
Downloading: 73 kB
Downloading: 110 kB
Downloading: 110 kB
Downloading: 120 kB
Downloading: 120 kB
Downloading: 150 kB
Downloading: 150 kB
Downloading: 170 kB
Downloading: 170 kB
Downloading: 200 kB
Downloading: 200 kB
Downloading: 240 kB
Downloading: 240 kB
Downloading: 250 kB
Downloading: 250 kB
Downloading: 270 kB
Downloading: 270 kB
Downloading: 350 kB
Downloading: 350 kB
Downloading: 350 kB
Downloading: 350 kB
Downloading: 470 kB
Downloading: 470 kB
Downloading: 470 kB
Downloading: 470 kB
Downloading: 480 kB
Downloading: 480 kB
Downloading: 520 kB
Downloading: 520 kB
Downloading: 520 kB
Downloading: 520 kB
Downloading: 520 kB
Downloading: 520 kB
Downloading: 540 kB
Downloading: 540 kB
Downloading: 970 kB
Downloading: 970 kB
Downloading: 970 kB
Downloading: 970 kB
Downloading: 1,000 kB
Downloading: 1,000 kB
Downloading: 1 MB
Downloading: 1 MB
Downloading: 1 MB
Downloading: 1 MB
Downloading: 1 MB
Downloading: 1 MB /cygdrive/c/Rtools/bin/tar: MANIFEST.txt: time stamp 2020-04-15 07:20:48 is 0.9905312 s in the future
/cygdrive/c/Rtools/bin/tar: 915d872a-dfdb-4d0a-8a77-00166f09d0b7/d50c9013-3aee-4b1f-be93-225e568da7c3.FPKM-UQ.txt.gz: time stamp 2020-04-15 07:20:48 is 0.9833139 s in the future
/cygdrive/c/Rtools/bin/tar: bc2d5d24-7eaa-4e64-8fd8-b96466936e9c/2fb19a94-bd55-4041-994a-082cd30746f3.FPKM-UQ.txt.gz: time stamp 2020-04-15 07:20:48 is 0.9770445 s in the future
| | 0%
|============= | 25% ~0 s remaining
|========================== | 50% ~0 s remaining
|======================================= | 75% ~0 s remaining
|====================================================|100% ~0 s remaining
|====================================================|100% Completed after 0 s
Downloading: 7.8 kB
Downloading: 7.8 kB
Downloading: 24 kB
Downloading: 24 kB
Downloading: 32 kB
Downloading: 32 kB
Downloading: 48 kB
Downloading: 48 kB
Downloading: 64 kB
Downloading: 64 kB
Downloading: 64 kB
Downloading: 64 kB
Downloading: 110 kB
Downloading: 110 kB
Downloading: 150 kB
Downloading: 150 kB
Downloading: 180 kB
Downloading: 180 kB
Downloading: 280 kB
Downloading: 280 kB
Downloading: 290 kB
Downloading: 290 kB
Downloading: 410 kB
Downloading: 410 kB
Downloading: 640 kB
Downloading: 640 kB
Downloading: 650 kB
Downloading: 650 kB
Downloading: 830 kB
Downloading: 830 kB
Downloading: 880 kB
Downloading: 880 kB
Downloading: 1 MB
Downloading: 1 MB
Downloading: 1.1 MB
Downloading: 1.1 MB
Downloading: 1.3 MB
Downloading: 1.3 MB
Downloading: 1.5 MB
Downloading: 1.5 MB
Downloading: 1.5 MB
Downloading: 1.5 MB
Downloading: 1.6 MB
Downloading: 1.6 MB
Downloading: 1.6 MB
Downloading: 1.6 MB /cygdrive/c/Rtools/bin/tar: MANIFEST.txt: time stamp 2020-04-15 07:21:41 is 1.098718 s in the future
/cygdrive/c/Rtools/bin/tar: 2a9a3913-02e0-465c-a0b1-a10efd43391e/8b0dcdbf-9731-4097-be43-7fa1ad3a821a.rna_seq.star_gene_counts.tsv.gz: time stamp 2020-04-15 07:21:41 is 1.0935049 s in the future
/cygdrive/c/Rtools/bin/tar: 6055c410-981f-44e2-8088-8bbcef9b514f/257c3e98-3a46-4656-8920-9cf1fbc89914.rna_seq.star_gene_counts.tsv.gz: time stamp 2020-04-15 07:21:41 is 1.0891761 s in the future
/cygdrive/c/Rtools/bin/tar: b0563f9c-8bed-4ec1-a3eb-29c74e3e2cbf/bf7a7c44-29b2-4522-be32-7ce455c78147.rna_seq.star_gene_counts.tsv.gz: time stamp 2020-04-15 07:21:41 is 1.0718954 s in the future
/cygdrive/c/Rtools/bin/tar: c3181ea6-55e7-4c80-838d-c5d85a8aa9b1/0fd878f7-0533-4635-95f2-4a6b12fc3550.rna_seq.star_gene_counts.tsv.gz: time stamp 2020-04-15 07:21:41 is 1.0674632 s in the future
<simpleWarning in file.create(to[okay]): cannot create file 'GDCdata/MMRF-COMMPASS/harmonized/Transcriptome_Profiling/Gene_Expression_Quantification/6055c410-981f-44e2-8088-8bbcef9b514f/257c3e98-3a46-4656-8920-9cf1fbc89914.rna_seq.star_gene_counts.tsv.gz', reason 'No such file or directory'>
<simpleWarning in file.create(to[okay]): cannot create file 'GDCdata/MMRF-COMMPASS/harmonized/Transcriptome_Profiling/Gene_Expression_Quantification/b0563f9c-8bed-4ec1-a3eb-29c74e3e2cbf/bf7a7c44-29b2-4522-be32-7ce455c78147.rna_seq.star_gene_counts.tsv.gz', reason 'No such file or directory'>
<simpleWarning in file.create(to[okay]): cannot create file 'GDCdata/MMRF-COMMPASS/harmonized/Transcriptome_Profiling/Gene_Expression_Quantification/2a9a3913-02e0-465c-a0b1-a10efd43391e/8b0dcdbf-9731-4097-be43-7fa1ad3a821a.rna_seq.star_gene_counts.tsv.gz', reason 'No such file or directory'>
<simpleWarning in file.create(to[okay]): cannot create file 'GDCdata/MMRF-COMMPASS/harmonized/Transcriptome_Profiling/Gene_Expression_Quantification/c3181ea6-55e7-4c80-838d-c5d85a8aa9b1/0fd878f7-0533-4635-95f2-4a6b12fc3550.rna_seq.star_gene_counts.tsv.gz', reason 'No such file or directory'>
-- 1. Error: Non TCGA data is processed (@test-prepare-download.R#111) --------
I couldn't find all the files from the query. Please check if the directory parameter is right or `GDCdownload` downloaded the samples.
Backtrace:
1. TCGAbiolinks::GDCprepare(query)
|
| | 0%
|
| | 1%
|
|= | 1%
|
|== | 2%
|
|== | 3%
|
|=== | 4%
|
|=== | 5%
|
|==== | 5%
|
|===== | 7%
|
|===== | 8%
|
|====== | 8%
|
|====== | 9%
|
|======= | 9%
|
|======= | 10%
|
|======== | 11%
|
|======== | 12%
|
|========= | 12%
|
|========= | 13%
|
|========== | 14%
|
|========== | 15%
|
|=========== | 15%
|
|=========== | 16%
|
|============ | 16%
|
|============ | 17%
|
|============ | 18%
|
|============= | 18%
|
|============= | 19%
|
|============== | 19%
|
|============== | 20%
|
|============== | 21%
|
|=============== | 22%
|
|================ | 22%
|
|================ | 23%
|
|================ | 24%
|
|================= | 24%
|
|================= | 25%
|
|================== | 25%
|
|================== | 26%
|
|=================== | 26%
|
|=================== | 27%
|
|=================== | 28%
|
|==================== | 28%
|
|==================== | 29%
|
|===================== | 29%
|
|===================== | 30%
|
|===================== | 31%
|
|====================== | 31%
|
|====================== | 32%
|
|======================= | 32%
|
|======================= | 33%
|
|======================== | 34%
|
|======================== | 35%
|
|========================= | 35%
|
|========================= | 36%
|
|========================== | 36%
|
|========================== | 37%
|
|========================== | 38%
|
|=========================== | 38%
|
|=========================== | 39%
|
|============================ | 39%
|
|============================ | 40%
|
|============================= | 42%
|
|============================== | 42%
|
|============================== | 43%
|
|============================== | 44%
|
|=============================== | 44%
|
|=============================== | 45%
|
|================================ | 45%
|
|================================ | 46%
|
|================================= | 47%
|
|================================== | 48%
|
|================================== | 49%
|
|=================================== | 49%
|
|=================================== | 50%
|
|=================================== | 51%
|
|==================================== | 51%
|
|==================================== | 52%
|
|===================================== | 52%
|
|===================================== | 53%
|
|====================================== | 54%
|
|====================================== | 55%
|
|======================================= | 55%
|
|======================================= | 56%
|
|======================================== | 56%
|
|======================================== | 57%
|
|======================================== | 58%
|
|========================================= | 58%
|
|========================================= | 59%
|
|========================================== | 59%
|
|========================================== | 60%
|
|========================================== | 61%
|
|=========================================== | 61%
|
|=========================================== | 62%
|
|============================================ | 62%
|
|============================================ | 63%
|
|============================================ | 64%
|
|============================================= | 64%
|
|============================================= | 65%
|
|============================================== | 65%
|
|============================================== | 66%
|
|=============================================== | 66%
|
|=============================================== | 67%
|
|=============================================== | 68%
|
|================================================ | 68%
|
|================================================ | 69%
|
|================================================= | 69%
|
|================================================= | 70%
|
|================================================== | 71%
|
|================================================== | 72%
|
|=================================================== | 72%
|
|=================================================== | 73%
|
|=================================================== | 74%
|
|==================================================== | 74%
|
|==================================================== | 75%
|
|===================================================== | 75%
|
|===================================================== | 76%
|
|====================================================== | 77%
|
|====================================================== | 78%
|
|======================================================= | 78%
|
|======================================================= | 79%
|
|======================================================== | 79%
|
|======================================================== | 80%
|
|======================================================== | 81%
|
|========================================================= | 81%
|
|========================================================= | 82%
|
|========================================================== | 82%
|
|========================================================== | 83%
|
|=========================================================== | 84%
|
|=========================================================== | 85%
|
|============================================================ | 85%
|
|============================================================ | 86%
|
|============================================================= | 87%
|
|============================================================= | 88%
|
|============================================================== | 88%
|
|============================================================== | 89%
|
|=============================================================== | 89%
|
|=============================================================== | 90%
|
|=============================================================== | 91%
|
|================================================================ | 91%
|
|================================================================ | 92%
|
|================================================================= | 92%
|
|================================================================= | 93%
|
|================================================================== | 94%
|
|================================================================== | 95%
|
|=================================================================== | 95%
|
|=================================================================== | 96%
|
|==================================================================== | 96%
|
|==================================================================== | 97%
|
|==================================================================== | 98%
|
|===================================================================== | 98%
|
|===================================================================== | 99%
|
|======================================================================| 99%
|
|======================================================================| 100%
|=== | 5% 1 MB
|=== | 5% 1 MB
|=== | 5% 1 MB
|=== | 5% 1 MB
|=== | 5% 1 MB
|=== | 5% 1 MB
|=== | 5% 1 MB
|=== | 5% 1 MB
|=== | 5% 1 MB
|=== | 6% 1 MB
|==== | 6% 1 MB
|==== | 6% 1 MB
|==== | 6% 1 MB
|==== | 6% 1 MB
|==== | 6% 1 MB
|==== | 6% 1 MB
|==== | 6% 1 MB
|==== | 6% 1 MB
|==== | 6% 1 MB
|==== | 7% 1 MB
|==== | 7% 1 MB
|==== | 7% 1 MB
|==== | 7% 1 MB
|==== | 7% 1 MB
|==== | 7% 1 MB
|==== | 7% 1 MB
|===== | 7% 1 MB
|===== | 7% 1 MB
|===== | 7% 1 MB
|===== | 8% 1 MB
|===== | 8% 1 MB
|===== | 8% 1 MB
|===== | 8% 1 MB
|===== | 8% 1 MB
|===== | 8% 1 MB
|===== | 8% 1 MB
|===== | 8% 1 MB
|===== | 8% 1 MB
|===== | 8% 1 MB
|===== | 9% 1 MB
|===== | 9% 1 MB
|====== | 9% 1 MB
|====== | 9% 1 MB
|====== | 9% 1 MB
|====== | 9% 1 MB
|====== | 9% 1 MB
|====== | 9% 1 MB
|====== | 9% 1 MB
|====== | 9% 1 MB
|====== | 10% 1 MB
|====== | 10% 2 MB
|====== | 10% 2 MB
|====== | 10% 2 MB
|====== | 10% 2 MB
|====== | 10% 2 MB
|====== | 10% 2 MB
|====== | 10% 2 MB
|======= | 10% 2 MB
|======= | 10% 2 MB
|======= | 11% 2 MB
|======= | 11% 2 MB
|======= | 11% 2 MB
|======= | 11% 2 MB
|======= | 11% 2 MB
|======= | 11% 2 MB
|======= | 11% 2 MB
|======= | 11% 2 MB
|======= | 11% 2 MB
|======= | 11% 2 MB
|======= | 12% 2 MB
|======= | 12% 2 MB
|======= | 12% 2 MB
|======= | 12% 2 MB
|======== | 12% 2 MB
|======== | 12% 2 MB
|======== | 12% 2 MB
|======== | 12% 2 MB
|======== | 12% 2 MB
|======== | 12% 2 MB
|======== | 12% 2 MB
|======== | 13% 2 MB
|======== | 13% 2 MB
|======== | 13% 2 MB
|======== | 13% 2 MB
|======== | 13% 2 MB
|======== | 13% 2 MB
|======== | 13% 2 MB
|======== | 13% 2 MB
|========= | 13% 2 MB
|========= | 13% 2 MB
|========= | 14% 2 MB
|========= | 14% 2 MB
|========= | 14% 2 MB
|========= | 14% 2 MB
|========= | 14% 2 MB
|========= | 14% 2 MB
|========= | 14% 2 MB
|========= | 14% 2 MB
|========= | 14% 2 MB
|========= | 14% 2 MB
|========= | 15% 2 MB
|========= | 15% 2 MB
|========= | 15% 3 MB
|========= | 15% 3 MB
|========== | 15% 3 MB
|========== | 15% 3 MB
|========== | 15% 3 MB
|========== | 15% 3 MB
|========== | 15% 3 MB
|========== | 15% 3 MB
|========== | 16% 3 MB
|========== | 16% 3 MB
|========== | 16% 3 MB
|========== | 16% 3 MB
|========== | 16% 3 MB
|========== | 16% 3 MB
|========== | 16% 3 MB
|========== | 16% 3 MB
|========== | 16% 3 MB
|=========== | 16% 3 MB
|=========== | 17% 3 MB
|=========== | 17% 3 MB
|=========== | 17% 3 MB
|=========== | 17% 3 MB
|=========== | 17% 3 MB
|=========== | 17% 3 MB
|=========== | 17% 3 MB
|=========== | 17% 3 MB
|=========== | 17% 3 MB
|=========== | 17% 3 MB
|=========== | 18% 3 MB
|=========== | 18% 3 MB
|=========== | 18% 3 MB
|=========== | 18% 3 MB
|============ | 18% 3 MB
|============ | 18% 3 MB
|============ | 18% 3 MB
|============ | 18% 3 MB
|============ | 18% 3 MB
|============ | 18% 3 MB
|============ | 19% 3 MB
|============ | 19% 3 MB
|============ | 19% 3 MB
|============ | 19% 3 MB
|============ | 19% 3 MB
|============ | 19% 3 MB
|============ | 19% 3 MB
|============ | 19% 3 MB
|============ | 19% 3 MB
|============ | 19% 3 MB
|============= | 20% 3 MB
|============= | 20% 3 MB
|============= | 20% 4 MB
|============= | 20% 4 MB
|============= | 20% 4 MB
|============= | 20% 4 MB
|============= | 20% 4 MB
|============= | 20% 4 MB
|============= | 20% 4 MB
|============= | 20% 4 MB
|============= | 21% 4 MB
|============= | 21% 4 MB
|============= | 21% 4 MB
|============= | 21% 4 MB
|============= | 21% 4 MB
|============== | 21% 4 MB
|============== | 21% 4 MB
|============== | 21% 4 MB
|============== | 21% 4 MB
|============== | 21% 4 MB
|============== | 22% 4 MB
|============== | 22% 4 MB
|============== | 22% 4 MB
|============== | 22% 4 MB
|============== | 22% 4 MB
|============== | 22% 4 MB
|============== | 22% 4 MB
|============== | 22% 4 MB
|============== | 22% 4 MB
|============== | 22% 4 MB
|============== | 23% 4 MB
|=============== | 23% 4 MB
|=============== | 23% 4 MB
|=============== | 23% 4 MB
|=============== | 23% 4 MB
|=============== | 23% 4 MB
|=============== | 23% 4 MB
|=============== | 23% 4 MB
|=============== | 23% 4 MB
|=============== | 23% 4 MB
|=============== | 24% 4 MB
|=============== | 24% 4 MB
|=============== | 24% 4 MB
|=============== | 24% 4 MB
|=============== | 24% 4 MB
|=============== | 24% 4 MB
|================ | 24% 4 MB
|================ | 24% 4 MB
|================ | 24% 4 MB
|================ | 24% 4 MB
|================ | 25% 4 MB
|================ | 25% 4 MB
|================ | 25% 4 MB
|================ | 25% 5 MB
|================ | 25% 5 MB
|================ | 25% 5 MB
|================ | 25% 5 MB
|================ | 25% 5 MB
|================ | 25% 5 MB
|================ | 25% 5 MB
|================ | 26% 5 MB
|================ | 26% 5 MB
|================= | 26% 5 MB
|================= | 26% 5 MB
|================= | 26% 5 MB
|================= | 26% 5 MB
|================= | 26% 5 MB
|================= | 26% 5 MB
|================= | 26% 5 MB
|================= | 26% 5 MB
|================= | 27% 5 MB
|================= | 27% 5 MB
|================= | 27% 5 MB
|================= | 27% 5 MB
|================= | 27% 5 MB
|================= | 27% 5 MB
|================= | 27% 5 MB
|================== | 27% 5 MB
|================== | 27% 5 MB
|================== | 27% 5 MB
|================== | 28% 5 MB
|================== | 28% 5 MB
|================== | 28% 5 MB
|================== | 28% 5 MB
|================== | 28% 5 MB
|================== | 28% 5 MB
|================== | 28% 5 MB
|================== | 28% 5 MB
|================== | 28% 5 MB
|================== | 28% 5 MB
|================== | 29% 5 MB
|================== | 29% 5 MB
|=================== | 29% 5 MB
|=================== | 29% 5 MB
|=================== | 29% 5 MB
|=================== | 29% 5 MB
|=================== | 29% 5 MB
|=================== | 29% 5 MB
|=================== | 29% 5 MB
|=================== | 29% 5 MB
|=================== | 30% 5 MB
|=================== | 30% 5 MB
|=================== | 30% 5 MB
|=================== | 30% 5 MB
|=================== | 30% 6 MB
|=================== | 30% 6 MB
|=================== | 30% 6 MB
|=================== | 30% 6 MB
|==================== | 30% 6 MB
|==================== | 30% 6 MB
|==================== | 31% 6 MB
|==================== | 31% 6 MB
|==================== | 31% 6 MB
|==================== | 31% 6 MB
|==================== | 31% 6 MB
|==================== | 31% 6 MB
|==================== | 31% 6 MB
|==================== | 31% 6 MB
|==================== | 31% 6 MB
|==================== | 31% 6 MB
|==================== | 32% 6 MB
|==================== | 32% 6 MB
|==================== | 32% 6 MB
|===================== | 32% 6 MB
|===================== | 32% 6 MB
|===================== | 32% 6 MB
|===================== | 32% 6 MB
|===================== | 32% 6 MB
|===================== | 32% 6 MB
|===================== | 32% 6 MB
|===================== | 33% 6 MB
|===================== | 33% 6 MB
|===================== | 33% 6 MB
|===================== | 33% 6 MB
|===================== | 33% 6 MB
|===================== | 33% 6 MB
|===================== | 33% 6 MB
|===================== | 33% 6 MB
|===================== | 33% 6 MB
|====================== | 33% 6 MB
|====================== | 33% 6 MB
|====================== | 34% 6 MB
|====================== | 34% 6 MB
|====================== | 34% 6 MB
|====================== | 34% 6 MB
|====================== | 34% 6 MB
|====================== | 34% 6 MB
|====================== | 34% 6 MB
|====================== | 34% 6 MB
|====================== | 34% 6 MB
|====================== | 34% 6 MB
|====================== | 35% 6 MB
|====================== | 35% 6 MB
|====================== | 35% 6 MB
|======================= | 35% 6 MB
|======================= | 35% 7 MB
|======================= | 35% 7 MB
|======================= | 35% 7 MB
|======================= | 35% 7 MB
|======================= | 35% 7 MB
|======================= | 35% 7 MB
|======================= | 36% 7 MB
|======================= | 36% 7 MB
|======================= | 36% 7 MB
|======================= | 36% 7 MB
|======================= | 36% 7 MB
|======================= | 36% 7 MB
|======================= | 36% 7 MB
|======================= | 36% 7 MB
|======================= | 36% 7 MB
|======================== | 36% 7 MB
|======================== | 37% 7 MB
|======================== | 37% 7 MB
|======================== | 37% 7 MB
|======================== | 37% 7 MB
|======================== | 37% 7 MB
|======================== | 37% 7 MB
|======================== | 37% 7 MB
|======================== | 37% 7 MB
|======================== | 37% 7 MB
|======================== | 37% 7 MB
|======================== | 38% 7 MB
|======================== | 38% 7 MB
|======================== | 38% 7 MB
|======================== | 38% 7 MB
|======================== | 38% 7 MB
|========================= | 38% 7 MB
|========================= | 38% 7 MB
|========================= | 38% 7 MB
|========================= | 38% 7 MB
|========================= | 38% 7 MB
|========================= | 39% 7 MB
|========================= | 39% 7 MB
|========================= | 39% 7 MB
|========================= | 39% 7 MB
|========================= | 39% 7 MB
|========================= | 39% 7 MB
|========================= | 39% 7 MB
|========================= | 39% 7 MB
|========================= | 39% 7 MB
|========================= | 39% 7 MB
|========================== | 40% 7 MB
|========================== | 40% 7 MB
|========================== | 40% 7 MB
|========================== | 40% 7 MB
|========================== | 40% 7 MB
|========================== | 40% 8 MB
|========================== | 40% 8 MB
|========================== | 40% 8 MB
|========================== | 40% 8 MB
|========================== | 40% 8 MB
|========================== | 41% 8 MB
|========================== | 41% 8 MB
|========================== | 41% 8 MB
|========================== | 41% 8 MB
|========================== | 41% 8 MB
|=========================== | 41% 8 MB
|=========================== | 41% 8 MB
|=========================== | 41% 8 MB
|=========================== | 41% 8 MB
|=========================== | 41% 8 MB
|=========================== | 42% 8 MB
|=========================== | 42% 8 MB
|=========================== | 42% 8 MB
|=========================== | 42% 8 MB
|=========================== | 42% 8 MB
|=========================== | 42% 8 MB
|=========================== | 42% 8 MB
|=========================== | 42% 8 MB
|=========================== | 42% 8 MB
|=========================== | 42% 8 MB
|=========================== | 43% 8 MB
|============================ | 43% 8 MB
|============================ | 43% 8 MB
|============================ | 43% 8 MB
|============================ | 43% 8 MB
|============================ | 43% 8 MB
|============================ | 43% 8 MB
|============================ | 43% 8 MB
|============================ | 43% 8 MB
|============================ | 43% 8 MB
|============================ | 44% 8 MB
|============================ | 44% 8 MB
|============================ | 44% 8 MB
|============================ | 44% 8 MB
|============================ | 44% 8 MB
|============================ | 44% 8 MB
|============================= | 44% 8 MB
|============================= | 44% 8 MB
|============================= | 44% 8 MB
|============================= | 44% 8 MB
|============================= | 45% 8 MB
|============================= | 45% 8 MB
|============================= | 45% 8 MB
|============================= | 45% 8 MB
|============================= | 45% 8 MB
|============================= | 45% 9 MB
|============================= | 45% 9 MB
|============================= | 45% 9 MB
|============================= | 45% 9 MB
|============================= | 45% 9 MB
|============================= | 46% 9 MB
|============================= | 46% 9 MB
|============================== | 46% 9 MB
|============================== | 46% 9 MB
|============================== | 46% 9 MB
|============================== | 46% 9 MB
|============================== | 46% 9 MB
|============================== | 46% 9 MB
|============================== | 46% 9 MB
|============================== | 46% 9 MB
|============================== | 47% 9 MB
|============================== | 47% 9 MB
|============================== | 47% 9 MB
|============================== | 47% 9 MB
|============================== | 47% 9 MB
|============================== | 47% 9 MB
|============================== | 47% 9 MB
|=============================== | 47% 9 MB
|=============================== | 47% 9 MB
|=============================== | 47% 9 MB
|=============================== | 48% 9 MB
|=============================== | 48% 9 MB
|=============================== | 48% 9 MB
|=============================== | 48% 9 MB
|=============================== | 48% 9 MB
|=============================== | 48% 9 MB
|=============================== | 48% 9 MB
|=============================== | 48% 9 MB
|=============================== | 48% 9 MB
|=============================== | 48% 9 MB
|=============================== | 49% 9 MB
|=============================== | 49% 9 MB
|=============================== | 49% 9 MB
|================================ | 49% 9 MB
|================================ | 49% 9 MB
|================================ | 49% 9 MB
|================================ | 49% 9 MB
|================================ | 49% 9 MB
|================================ | 49% 9 MB
|================================ | 49% 9 MB
|================================ | 50% 9 MB
|================================ | 50% 9 MB
|================================ | 50% 9 MB
|================================ | 50% 9 MB
|================================ | 50% 9 MB
|================================ | 50% 9 MB
|================================ | 50% 10 MB
|================================ | 50% 10 MB
|================================= | 50% 10 MB
|================================= | 50% 10 MB
|================================= | 51% 10 MB
|================================= | 51% 10 MB
|================================= | 51% 10 MB
|================================= | 51% 10 MB
|================================= | 51% 10 MB
|================================= | 51% 10 MB
|================================= | 51% 10 MB
|================================= | 51% 10 MB
|================================= | 51% 10 MB
|================================= | 51% 10 MB
|================================= | 52% 10 MB
|================================= | 52% 10 MB
|================================= | 52% 10 MB
|================================== | 52% 10 MB
|================================== | 52% 10 MB
|================================== | 52% 10 MB
|================================== | 52% 10 MB
|================================== | 52% 10 MB
|================================== | 52% 10 MB
|================================== | 52% 10 MB
|================================== | 53% 10 MB
|================================== | 53% 10 MB
|================================== | 53% 10 MB
|================================== | 53% 10 MB
|================================== | 53% 10 MB
|================================== | 53% 10 MB
|================================== | 53% 10 MB
|================================== | 53% 10 MB
|================================== | 53% 10 MB
|=================================== | 53% 10 MB
|=================================== | 54% 10 MB
|=================================== | 54% 10 MB
|=================================== | 54% 10 MB
|=================================== | 54% 10 MB
|=================================== | 54% 10 MB
|=================================== | 54% 10 MB
|=================================== | 54% 10 MB
|=================================== | 54% 10 MB
|=================================== | 54% 10 MB
|=================================== | 54% 10 MB
|=================================== | 55% 10 MB
|=================================== | 55% 10 MB
|=================================== | 55% 10 MB
|=================================== | 55% 10 MB
|==================================== | 55% 10 MB
|==================================== | 55% 10 MB
|==================================== | 55% 10 MB
|==================================== | 55% 11 MB
|==================================== | 55% 11 MB
|==================================== | 55% 11 MB
|==================================== | 56% 11 MB
|==================================== | 56% 11 MB
|==================================== | 56% 11 MB
|==================================== | 56% 11 MB
|==================================== | 56% 11 MB
|==================================== | 56% 11 MB
|==================================== | 56% 11 MB
|==================================== | 56% 11 MB
|==================================== | 56% 11 MB
|==================================== | 56% 11 MB
|===================================== | 57% 11 MB
|===================================== | 57% 11 MB
|===================================== | 57% 11 MB
|===================================== | 57% 11 MB
|===================================== | 57% 11 MB
|===================================== | 57% 11 MB
|===================================== | 57% 11 MB
|===================================== | 57% 11 MB
|===================================== | 57% 11 MB
|===================================== | 57% 11 MB
|===================================== | 58% 11 MB
|===================================== | 58% 11 MB
|===================================== | 58% 11 MB
|===================================== | 58% 11 MB
|===================================== | 58% 11 MB
|====================================== | 58% 11 MB
|====================================== | 58% 11 MB
|====================================== | 58% 11 MB
|====================================== | 58% 11 MB
|====================================== | 58% 11 MB
|====================================== | 58% 11 MB
|====================================== | 59% 11 MB
|====================================== | 59% 11 MB
|====================================== | 59% 11 MB
|====================================== | 59% 11 MB
|====================================== | 59% 11 MB
|====================================== | 59% 11 MB
|====================================== | 59% 11 MB
|====================================== | 59% 11 MB
|====================================== | 59% 11 MB
|====================================== | 59% 11 MB
|======================================= | 60% 11 MB
|======================================= | 60% 11 MB
|======================================= | 60% 11 MB
|======================================= | 60% 11 MB
|======================================= | 60% 11 MB
|======================================= | 60% 11 MB
|======================================= | 60% 11 MB
|======================================= | 60% 12 MB
|======================================= | 60% 12 MB
|======================================= | 60% 12 MB
|======================================= | 61% 12 MB
|======================================= | 61% 12 MB
|======================================= | 61% 12 MB
|======================================= | 61% 12 MB
|======================================= | 61% 12 MB
|======================================== | 61% 12 MB
|======================================== | 61% 12 MB
|======================================== | 61% 12 MB
|======================================== | 61% 12 MB
|======================================== | 61% 12 MB
|======================================== | 62% 12 MB
|======================================== | 62% 12 MB
|======================================== | 62% 12 MB
|======================================== | 62% 12 MB
|======================================== | 62% 12 MB
|======================================== | 62% 12 MB
|======================================== | 62% 12 MB
|======================================== | 62% 12 MB
|======================================== | 62% 12 MB
|======================================== | 62% 12 MB
|======================================== | 63% 12 MB
|========================================= | 63% 12 MB
|========================================= | 63% 12 MB
|========================================= | 63% 12 MB
|========================================= | 63% 12 MB
|========================================= | 63% 12 MB
|========================================= | 63% 12 MB
|========================================= | 63% 12 MB
|========================================= | 63% 12 MB
|========================================= | 63% 12 MB
|========================================= | 64% 12 MB
|========================================= | 64% 12 MB
|========================================= | 64% 12 MB
|========================================= | 64% 12 MB
|========================================= | 64% 12 MB
|========================================= | 64% 12 MB
|========================================== | 64% 12 MB
|========================================== | 64% 12 MB
|========================================== | 64% 12 MB
|========================================== | 64% 12 MB
|========================================== | 65% 12 MB
|========================================== | 65% 12 MB
|========================================== | 65% 12 MB
|========================================== | 65% 12 MB
|========================================== | 65% 12 MB
|========================================== | 65% 12 MB
|========================================== | 65% 12 MB
|========================================== | 65% 12 MB
|========================================== | 65% 13 MB
|========================================== | 65% 13 MB
|========================================== | 66% 13 MB
|========================================== | 66% 13 MB
|=========================================== | 66% 13 MB
|=========================================== | 66% 13 MB
|=========================================== | 66% 13 MB
|=========================================== | 66% 13 MB
|=========================================== | 66% 13 MB
|=========================================== | 66% 13 MB
|=========================================== | 66% 13 MB
|=========================================== | 66% 13 MB
|=========================================== | 67% 13 MB
|=========================================== | 67% 13 MB
|=========================================== | 67% 13 MB
|=========================================== | 67% 13 MB
|=========================================== | 67% 13 MB
|=========================================== | 67% 13 MB
|=========================================== | 67% 13 MB
|============================================ | 67% 13 MB
|============================================ | 67% 13 MB
|============================================ | 67% 13 MB
|============================================ | 68% 13 MB
|============================================ | 68% 13 MB
|============================================ | 68% 13 MB
|============================================ | 68% 13 MB
|============================================ | 68% 13 MB
|============================================ | 68% 13 MB
|============================================ | 68% 13 MB
|============================================ | 68% 13 MB
|============================================ | 68% 13 MB
|============================================ | 68% 13 MB
|============================================ | 69% 13 MB
|============================================ | 69% 13 MB
|============================================= | 69% 13 MB
|============================================= | 69% 13 MB
|============================================= | 69% 13 MB
|============================================= | 69% 13 MB
|============================================= | 69% 13 MB
|============================================= | 69% 13 MB
|============================================= | 69% 13 MB
|============================================= | 69% 13 MB
|============================================= | 70% 13 MB
|============================================= | 70% 13 MB
|============================================= | 70% 13 MB
|============================================= | 70% 13 MB
|============================================= | 70% 13 MB
|============================================= | 70% 13 MB
|============================================= | 70% 13 MB
|============================================= | 70% 13 MB
|============================================== | 70% 13 MB
|============================================== | 70% 14 MB
|============================================== | 71% 14 MB
|============================================== | 71% 14 MB
|============================================== | 71% 14 MB
|============================================== | 71% 14 MB
|============================================== | 71% 14 MB
|============================================== | 71% 14 MB
|============================================== | 71% 14 MB
|============================================== | 71% 14 MB
|============================================== | 71% 14 MB
|============================================== | 71% 14 MB
|============================================== | 72% 14 MB
|============================================== | 72% 14 MB
|============================================== | 72% 14 MB
|=============================================== | 72% 14 MB
|=============================================== | 72% 14 MB
|=============================================== | 72% 14 MB
|=============================================== | 72% 14 MB
|=============================================== | 72% 14 MB
|=============================================== | 72% 14 MB
|=============================================== | 72% 14 MB
|=============================================== | 73% 14 MB
|=============================================== | 73% 14 MB
|=============================================== | 73% 14 MB
|=============================================== | 73% 14 MB
|=============================================== | 73% 14 MB
|=============================================== | 73% 14 MB
|=============================================== | 73% 14 MB
|=============================================== | 73% 14 MB
|=============================================== | 73% 14 MB
|================================================ | 73% 14 MB
|================================================ | 74% 14 MB
|================================================ | 74% 14 MB
|================================================ | 74% 14 MB
|================================================ | 74% 14 MB
|================================================ | 74% 14 MB
|================================================ | 74% 14 MB
|================================================ | 74% 14 MB
|================================================ | 74% 14 MB
|================================================ | 74% 14 MB
|================================================ | 74% 14 MB
|================================================ | 75% 14 MB
|================================================ | 75% 14 MB
|================================================ | 75% 14 MB
|================================================ | 75% 14 MB
|================================================= | 75% 14 MB
|================================================= | 75% 14 MB
|================================================= | 75% 14 MB
|================================================= | 75% 14 MB
|================================================= | 75% 14 MB
|================================================= | 75% 15 MB
|================================================= | 76% 15 MB
|================================================= | 76% 15 MB
|================================================= | 76% 15 MB
|================================================= | 76% 15 MB
|================================================= | 76% 15 MB
|================================================= | 76% 15 MB
|================================================= | 76% 15 MB
|================================================= | 76% 15 MB
|================================================= | 76% 15 MB
|================================================= | 76% 15 MB
|================================================== | 77% 15 MB
|================================================== | 77% 15 MB
|================================================== | 77% 15 MB
|================================================== | 77% 15 MB
|================================================== | 77% 15 MB
|================================================== | 77% 15 MB
|================================================== | 77% 15 MB
|================================================== | 77% 15 MB
|================================================== | 77% 15 MB
|================================================== | 77% 15 MB
|================================================== | 77% 15 MB
|================================================== | 78% 15 MB
|================================================== | 78% 15 MB
|================================================== | 78% 15 MB
|================================================== | 78% 15 MB
|=================================================== | 78% 15 MB
|=================================================== | 78% 15 MB
|=================================================== | 78% 15 MB
|=================================================== | 78% 15 MB
|=================================================== | 78% 15 MB
|=================================================== | 78% 15 MB
|=================================================== | 79% 15 MB
|=================================================== | 79% 15 MB
|=================================================== | 79% 15 MB
|=================================================== | 79% 15 MB
|=================================================== | 79% 15 MB
|=================================================== | 79% 15 MB
|=================================================== | 79% 15 MB
|=================================================== | 79% 15 MB
|=================================================== | 79% 15 MB
|=================================================== | 79% 15 MB
|==================================================== | 80% 15 MB
|==================================================== | 80% 15 MB
|==================================================== | 80% 15 MB
|==================================================== | 80% 15 MB
|==================================================== | 80% 15 MB
|==================================================== | 80% 15 MB
|==================================================== | 80% 15 MB
|==================================================== | 80% 15 MB
|==================================================== | 80% 15 MB
|==================================================== | 80% 15 MB
|==================================================== | 81% 16 MB
|==================================================== | 81% 16 MB
|==================================================== | 81% 16 MB
|==================================================== | 81% 16 MB
|==================================================== | 81% 16 MB
|===================================================== | 81% 16 MB
|===================================================== | 81% 16 MB
|===================================================== | 81% 16 MB
|===================================================== | 81% 16 MB
|===================================================== | 81% 16 MB
|===================================================== | 82% 16 MB
|===================================================== | 82% 16 MB
|===================================================== | 82% 16 MB
|===================================================== | 82% 16 MB
|===================================================== | 82% 16 MB
|===================================================== | 82% 16 MB
|===================================================== | 82% 16 MB
|===================================================== | 82% 16 MB
|===================================================== | 82% 16 MB
|===================================================== | 82% 16 MB
|===================================================== | 83% 16 MB
|====================================================== | 83% 16 MB
|====================================================== | 83% 16 MB
|====================================================== | 83% 16 MB
|====================================================== | 83% 16 MB
|====================================================== | 83% 16 MB
|====================================================== | 83% 16 MB
|====================================================== | 83% 16 MB
|====================================================== | 83% 16 MB
|====================================================== | 83% 16 MB
|====================================================== | 84% 16 MB
|====================================================== | 84% 16 MB
|====================================================== | 84% 16 MB
|====================================================== | 84% 16 MB
|====================================================== | 84% 16 MB
|====================================================== | 84% 16 MB
|======================================================= | 84% 16 MB
|======================================================= | 84% 16 MB
|======================================================= | 84% 16 MB
|======================================================= | 84% 16 MB
|======================================================= | 85% 16 MB
|======================================================= | 85% 16 MB
|======================================================= | 85% 16 MB
|======================================================= | 85% 16 MB
|======================================================= | 85% 16 MB
|======================================================= | 85% 16 MB
|======================================================= | 85% 16 MB
|======================================================= | 85% 16 MB
|======================================================= | 85% 16 MB
|======================================================= | 85% 16 MB
|======================================================= | 86% 17 MB
|======================================================= | 86% 17 MB
|======================================================== | 86% 17 MB
|======================================================== | 86% 17 MB
|======================================================== | 86% 17 MB
|======================================================== | 86% 17 MB
|======================================================== | 86% 17 MB
|======================================================== | 86% 17 MB
|======================================================== | 86% 17 MB
|======================================================== | 86% 17 MB
|======================================================== | 87% 17 MB
|======================================================== | 87% 17 MB
|======================================================== | 87% 17 MB
|======================================================== | 87% 17 MB
|======================================================== | 87% 17 MB
|======================================================== | 87% 17 MB
|======================================================== | 87% 17 MB
|========================================================= | 87% 17 MB
|========================================================= | 87% 17 MB
|========================================================= | 87% 17 MB
|========================================================= | 88% 17 MB
|========================================================= | 88% 17 MB
|========================================================= | 88% 17 MB
|========================================================= | 88% 17 MB
|========================================================= | 88% 17 MB
|========================================================= | 88% 17 MB
|========================================================= | 88% 17 MB
|========================================================= | 88% 17 MB
|========================================================= | 88% 17 MB
|========================================================= | 88% 17 MB
|========================================================= | 89% 17 MB
|========================================================= | 89% 17 MB
|========================================================== | 89% 17 MB
|========================================================== | 89% 17 MB
|========================================================== | 89% 17 MB
|========================================================== | 89% 17 MB
|========================================================== | 89% 17 MB
|========================================================== | 89% 17 MB
|========================================================== | 89% 17 MB
|========================================================== | 89% 17 MB
|========================================================== | 90% 17 MB
|========================================================== | 90% 17 MB
|========================================================== | 90% 17 MB
|========================================================== | 90% 17 MB
|========================================================== | 90% 17 MB
|========================================================== | 90% 17 MB
|========================================================== | 90% 17 MB
|========================================================== | 90% 17 MB
|=========================================================== | 90% 17 MB
|=========================================================== | 90% 17 MB
|=========================================================== | 91% 17 MB
|=========================================================== | 91% 18 MB
|=========================================================== | 91% 18 MB
|=========================================================== | 91% 18 MB
|=========================================================== | 91% 18 MB
|=========================================================== | 91% 18 MB
|=========================================================== | 91% 18 MB
|=========================================================== | 91% 18 MB
|=========================================================== | 91% 18 MB
|=========================================================== | 91% 18 MB
|=========================================================== | 92% 18 MB
|=========================================================== | 92% 18 MB
|=========================================================== | 92% 18 MB
|============================================================ | 92% 18 MB
|============================================================ | 92% 18 MB
|============================================================ | 92% 18 MB
|============================================================ | 92% 18 MB
|============================================================ | 92% 18 MB
|============================================================ | 92% 18 MB
|============================================================ | 92% 18 MB
|============================================================ | 93% 18 MB
|============================================================ | 93% 18 MB
|============================================================ | 93% 18 MB
|============================================================ | 93% 18 MB
|============================================================ | 93% 18 MB
|============================================================ | 93% 18 MB
|============================================================ | 93% 18 MB
|============================================================ | 93% 18 MB
|============================================================ | 93% 18 MB
|============================================================= | 93% 18 MB
|============================================================= | 94% 18 MB
|============================================================= | 94% 18 MB
|============================================================= | 94% 18 MB
|============================================================= | 94% 18 MB
|============================================================= | 94% 18 MB
|============================================================= | 94% 18 MB
|============================================================= | 94% 18 MB
|============================================================= | 94% 18 MB
|============================================================= | 94% 18 MB
|============================================================= | 94% 18 MB
|============================================================= | 95% 18 MB
|============================================================= | 95% 18 MB
|============================================================= | 95% 18 MB
|============================================================= | 95% 18 MB
|============================================================== | 95% 18 MB
|============================================================== | 95% 18 MB
|============================================================== | 95% 18 MB
|============================================================== | 95% 18 MB
|============================================================== | 95% 18 MB
|============================================================== | 95% 18 MB
|============================================================== | 96% 18 MB
|============================================================== | 96% 18 MB
|============================================================== | 96% 19 MB
|============================================================== | 96% 19 MB
|============================================================== | 96% 19 MB
|============================================================== | 96% 19 MB
|============================================================== | 96% 19 MB
|============================================================== | 96% 19 MB
|============================================================== | 96% 19 MB
|============================================================== | 96% 19 MB
|=============================================================== | 97% 19 MB
|=============================================================== | 97% 19 MB
|=============================================================== | 97% 19 MB
|=============================================================== | 97% 19 MB
|=============================================================== | 97% 19 MB
|=============================================================== | 97% 19 MB
|=============================================================== | 97% 19 MB
|=============================================================== | 97% 19 MB
|=============================================================== | 97% 19 MB
|=============================================================== | 97% 19 MB
|=============================================================== | 98% 19 MB
|=============================================================== | 98% 19 MB
|=============================================================== | 98% 19 MB
|=============================================================== | 98% 19 MB
|=============================================================== | 98% 19 MB
|================================================================| 98% 19 MB
|================================================================| 98% 19 MB
|================================================================| 98% 19 MB
|================================================================| 98% 19 MB
|================================================================| 98% 19 MB
|================================================================| 98% 19 MB
|================================================================| 99% 19 MB
|================================================================| 99% 19 MB
|================================================================| 99% 19 MB
|================================================================| 99% 19 MB
|================================================================| 99% 19 MB
|================================================================| 99% 19 MB
|================================================================| 99% 19 MB
|================================================================| 99% 19 MB
|================================================================| 99% 19 MB
|================================================================| 99% 19 MB
|=================================================================| 100% 19 MB
Downloading: 7.8 kB
Downloading: 7.8 kB
Downloading: 24 kB
Downloading: 24 kB
Downloading: 32 kB
Downloading: 32 kB
Downloading: 110 kB
Downloading: 110 kB
Downloading: 150 kB
Downloading: 150 kB
Downloading: 180 kB
Downloading: 180 kB
Downloading: 180 kB
Downloading: 180 kB
Downloading: 180 kB
Downloading: 180 kB
Downloading: 280 kB
Downloading: 280 kB
Downloading: 340 kB
Downloading: 340 kB
Downloading: 410 kB
Downloading: 410 kB
Downloading: 420 kB
Downloading: 420 kB
Downloading: 640 kB
Downloading: 640 kB
Downloading: 640 kB
Downloading: 640 kB
Downloading: 750 kB
Downloading: 750 kB
Downloading: 750 kB
Downloading: 750 kB
Downloading: 750 kB
Downloading: 750 kB
Downloading: 790 kB
Downloading: 790 kB
Downloading: 800 kB
Downloading: 800 kB
Downloading: 840 kB
Downloading: 840 kB
Downloading: 870 kB
Downloading: 870 kB
Downloading: 880 kB
Downloading: 880 kB
Downloading: 900 kB
Downloading: 900 kB
Downloading: 930 kB
Downloading: 930 kB
Downloading: 950 kB
Downloading: 950 kB
Downloading: 980 kB
Downloading: 980 kB
Downloading: 1,000 kB
Downloading: 1,000 kB
Downloading: 1 MB
Downloading: 1 MB
Downloading: 1.1 MB
Downloading: 1.1 MB
Downloading: 1.1 MB
Downloading: 1.1 MB
Downloading: 1.2 MB
Downloading: 1.2 MB
Downloading: 1.2 MB
Downloading: 1.2 MB
Downloading: 1.2 MB
Downloading: 1.2 MB
Downloading: 1.2 MB
Downloading: 1.2 MB
Downloading: 1.3 MB
Downloading: 1.3 MB
Downloading: 1.3 MB
Downloading: 1.3 MB
Downloading: 1.3 MB
Downloading: 1.3 MB
Downloading: 1.3 MB
Downloading: 1.3 MB
Downloading: 1.4 MB
Downloading: 1.4 MB
Downloading: 1.4 MB
Downloading: 1.4 MB
Downloading: 1.4 MB
Downloading: 1.4 MB
Downloading: 1.4 MB
Downloading: 1.4 MB
Downloading: 1.4 MB
Downloading: 1.4 MB
Downloading: 1.4 MB
Downloading: 1.4 MB
Downloading: 1.5 MB
Downloading: 1.5 MB
Downloading: 1.5 MB
Downloading: 1.5 MB
Downloading: 1.5 MB
Downloading: 1.5 MB
Downloading: 1.5 MB
Downloading: 1.5 MB
Downloading: 1.6 MB
Downloading: 1.6 MB
Downloading: 1.6 MB
Downloading: 1.6 MB
Downloading: 1.6 MB
Downloading: 1.6 MB
Downloading: 1.7 MB
Downloading: 1.7 MB
Downloading: 1.8 MB
Downloading: 1.8 MB
Downloading: 1.9 MB
Downloading: 1.9 MB
Downloading: 1.9 MB
Downloading: 1.9 MB
Downloading: 2 MB
Downloading: 2 MB
Downloading: 2.1 MB
Downloading: 2.1 MB
Downloading: 2.1 MB
Downloading: 2.1 MB
Downloading: 2.3 MB
Downloading: 2.3 MB
Downloading: 2.3 MB
Downloading: 2.3 MB
Downloading: 2.3 MB
Downloading: 2.3 MB
Downloading: 2.3 MB
Downloading: 2.3 MB
Downloading: 2.4 MB
Downloading: 2.4 MB
Downloading: 2.5 MB
Downloading: 2.5 MB
Downloading: 2.5 MB
Downloading: 2.5 MB
Downloading: 2.6 MB
Downloading: 2.6 MB
Downloading: 2.6 MB
Downloading: 2.6 MB
Downloading: 2.8 MB
Downloading: 2.8 MB
Downloading: 2.8 MB
Downloading: 2.8 MB
Downloading: 2.8 MB
Downloading: 2.8 MB
Downloading: 2.8 MB
Downloading: 2.8 MB
Downloading: 2.8 MB
Downloading: 2.8 MB
Downloading: 2.8 MB
Downloading: 2.8 MB
Downloading: 2.9 MB
Downloading: 2.9 MB
Downloading: 2.9 MB
Downloading: 2.9 MB
Downloading: 3 MB
Downloading: 3 MB
Downloading: 3 MB
Downloading: 3 MB
Downloading: 3 MB
Downloading: 3 MB
Downloading: 3 MB
Downloading: 3 MB
Downloading: 3.1 MB
Downloading: 3.1 MB
Downloading: 3.2 MB
Downloading: 3.2 MB
Downloading: 3.2 MB
Downloading: 3.2 MB
Downloading: 3.2 MB
Downloading: 3.2 MB
Downloading: 3.2 MB
Downloading: 3.2 MB
Downloading: 3.2 MB
Downloading: 3.2 MB
Downloading: 3.2 MB
Downloading: 3.2 MB
Downloading: 3.2 MB
Downloading: 3.2 MB
Downloading: 3.3 MB
Downloading: 3.3 MB
Downloading: 3.3 MB
Downloading: 3.3 MB
Downloading: 3.3 MB
Downloading: 3.3 MB
Downloading: 3.3 MB
Downloading: 3.3 MB
Downloading: 3.3 MB
Downloading: 3.3 MB
Downloading: 3.3 MB
Downloading: 3.3 MB
Downloading: 3.3 MB
Downloading: 3.3 MB
Downloading: 3.4 MB
Downloading: 3.4 MB
Downloading: 3.4 MB
Downloading: 3.4 MB
Downloading: 3.4 MB
Downloading: 3.4 MB
Downloading: 3.4 MB
Downloading: 3.4 MB
Downloading: 3.4 MB
Downloading: 3.4 MB
Downloading: 3.4 MB
Downloading: 3.4 MB
Downloading: 3.5 MB
Downloading: 3.5 MB
Downloading: 3.5 MB
Downloading: 3.5 MB
Downloading: 3.5 MB
Downloading: 3.5 MB
Downloading: 3.5 MB
Downloading: 3.5 MB
Downloading: 3.5 MB
Downloading: 3.5 MB
Downloading: 3.5 MB
Downloading: 3.5 MB
Downloading: 3.6 MB
Downloading: 3.6 MB
Downloading: 3.6 MB
Downloading: 3.6 MB
Downloading: 3.6 MB
Downloading: 3.6 MB
Downloading: 3.6 MB
Downloading: 3.6 MB
Downloading: 3.6 MB
Downloading: 3.6 MB
Downloading: 3.6 MB
Downloading: 3.6 MB
Downloading: 3.7 MB
Downloading: 3.7 MB
Downloading: 3.7 MB
Downloading: 3.7 MB
Downloading: 3.7 MB
Downloading: 3.7 MB
Downloading: 3.7 MB
Downloading: 3.7 MB
Downloading: 3.8 MB
Downloading: 3.8 MB
Downloading: 3.8 MB
Downloading: 3.8 MB
Downloading: 3.9 MB
Downloading: 3.9 MB
Downloading: 3.9 MB
Downloading: 3.9 MB
Downloading: 3.9 MB
Downloading: 3.9 MB
Downloading: 3.9 MB
Downloading: 3.9 MB
Downloading: 4 MB
Downloading: 4 MB
Downloading: 4 MB
Downloading: 4 MB
Downloading: 4 MB
Downloading: 4 MB
Downloading: 4 MB
Downloading: 4 MB
Downloading: 4.1 MB
Downloading: 4.1 MB
Downloading: 4.1 MB
Downloading: 4.1 MB
Downloading: 4.1 MB
Downloading: 4.1 MB
Downloading: 4.1 MB
Downloading: 4.1 MB
Downloading: 4.1 MB
Downloading: 4.1 MB
Downloading: 4.2 MB
Downloading: 4.2 MB
Downloading: 4.2 MB
Downloading: 4.2 MB
Downloading: 4.2 MB
Downloading: 4.2 MB
Downloading: 4.2 MB
Downloading: 4.2 MB
Downloading: 4.2 MB
Downloading: 4.2 MB
Downloading: 4.3 MB
Downloading: 4.3 MB
Downloading: 4.3 MB
Downloading: 4.3 MB
Downloading: 4.3 MB
Downloading: 4.3 MB
Downloading: 4.3 MB
Downloading: 4.3 MB
Downloading: 4.3 MB
Downloading: 4.3 MB
Downloading: 4.3 MB
Downloading: 4.3 MB
Downloading: 4.4 MB
Downloading: 4.4 MB
Downloading: 4.5 MB
Downloading: 4.5 MB
Downloading: 4.5 MB
Downloading: 4.5 MB
Downloading: 4.5 MB
Downloading: 4.5 MB
Downloading: 4.6 MB
Downloading: 4.6 MB
Downloading: 4.6 MB
Downloading: 4.6 MB
Downloading: 4.6 MB
Downloading: 4.6 MB
Downloading: 4.6 MB
Downloading: 4.6 MB
Downloading: 4.7 MB
Downloading: 4.7 MB
Downloading: 4.7 MB
Downloading: 4.7 MB
Downloading: 4.7 MB
Downloading: 4.7 MB
Downloading: 4.8 MB
Downloading: 4.8 MB
Downloading: 4.9 MB
Downloading: 4.9 MB
Downloading: 5 MB
Downloading: 5 MB
Downloading: 5 MB
Downloading: 5 MB
Downloading: 5 MB
Downloading: 5 MB
Downloading: 5.1 MB
Downloading: 5.1 MB
Downloading: 5.3 MB
Downloading: 5.3 MB
Downloading: 5.3 MB
Downloading: 5.3 MB
Downloading: 5.4 MB
Downloading: 5.4 MB
Downloading: 5.5 MB
Downloading: 5.5 MB
Downloading: 5.5 MB
Downloading: 5.5 MB
Downloading: 5.5 MB
Downloading: 5.5 MB
Downloading: 5.5 MB
Downloading: 5.5 MB
Downloading: 5.6 MB
Downloading: 5.6 MB
Downloading: 5.6 MB
Downloading: 5.6 MB
Downloading: 5.7 MB
Downloading: 5.7 MB
Downloading: 5.7 MB
Downloading: 5.7 MB
Downloading: 5.7 MB
Downloading: 5.7 MB
Downloading: 5.7 MB
Downloading: 5.7 MB
Downloading: 5.7 MB
Downloading: 5.7 MB
Downloading: 5.7 MB
Downloading: 5.7 MB
Downloading: 5.8 MB
Downloading: 5.8 MB
Downloading: 5.8 MB
Downloading: 5.8 MB
Downloading: 5.8 MB
Downloading: 5.8 MB
Downloading: 5.8 MB
Downloading: 5.8 MB
Downloading: 5.8 MB
Downloading: 5.8 MB
Downloading: 5.9 MB
Downloading: 5.9 MB
Downloading: 5.9 MB
Downloading: 5.9 MB
Downloading: 5.9 MB
Downloading: 5.9 MB
Downloading: 5.9 MB
Downloading: 5.9 MB
Downloading: 6 MB
Downloading: 6 MB
Downloading: 6 MB
Downloading: 6 MB
Downloading: 6 MB
Downloading: 6 MB
Downloading: 6.1 MB
Downloading: 6.1 MB
Downloading: 6.1 MB
Downloading: 6.1 MB
Downloading: 6.1 MB
Downloading: 6.1 MB
Downloading: 6.1 MB
Downloading: 6.1 MB
Downloading: 6.2 MB
Downloading: 6.2 MB
Downloading: 6.2 MB
Downloading: 6.2 MB
Downloading: 6.2 MB
Downloading: 6.2 MB
Downloading: 6.2 MB
Downloading: 6.2 MB
Downloading: 6.2 MB
Downloading: 6.2 MB
Downloading: 6.2 MB
Downloading: 6.2 MB
Downloading: 6.3 MB
Downloading: 6.3 MB
Downloading: 6.3 MB
Downloading: 6.3 MB
Downloading: 6.3 MB
Downloading: 6.3 MB
Downloading: 6.3 MB
Downloading: 6.3 MB
Downloading: 6.3 MB
Downloading: 6.3 MB
Downloading: 6.4 MB
Downloading: 6.4 MB
Downloading: 6.4 MB
Downloading: 6.4 MB
Downloading: 6.4 MB
Downloading: 6.4 MB
Downloading: 6.5 MB
Downloading: 6.5 MB
Downloading: 6.5 MB
Downloading: 6.5 MB
Downloading: 6.5 MB
Downloading: 6.5 MB
Downloading: 6.5 MB
Downloading: 6.5 MB
Downloading: 6.6 MB
Downloading: 6.6 MB
Downloading: 6.6 MB
Downloading: 6.6 MB
Downloading: 6.6 MB
Downloading: 6.6 MB
Downloading: 6.6 MB
Downloading: 6.6 MB
Downloading: 6.6 MB
Downloading: 6.6 MB
Downloading: 6.6 MB
Downloading: 6.6 MB
Downloading: 6.7 MB
Downloading: 6.7 MB
Downloading: 6.7 MB
Downloading: 6.7 MB
Downloading: 6.7 MB
Downloading: 6.7 MB
Downloading: 6.8 MB
Downloading: 6.8 MB
Downloading: 6.8 MB
Downloading: 6.8 MB
Downloading: 6.8 MB
Downloading: 6.8 MB
Downloading: 6.8 MB
Downloading: 6.8 MB
Downloading: 6.8 MB
Downloading: 6.8 MB
Downloading: 6.8 MB
Downloading: 6.8 MB
Downloading: 6.9 MB
Downloading: 6.9 MB
Downloading: 6.9 MB
Downloading: 6.9 MB
Downloading: 6.9 MB
Downloading: 6.9 MB
Downloading: 7 MB
Downloading: 7 MB
Downloading: 7 MB
Downloading: 7 MB
Downloading: 7.1 MB
Downloading: 7.1 MB
Downloading: 7.1 MB
Downloading: 7.1 MB
Downloading: 7.1 MB
Downloading: 7.1 MB
Downloading: 7.1 MB
Downloading: 7.1 MB
Downloading: 7.1 MB
Downloading: 7.1 MB
Downloading: 7.1 MB
Downloading: 7.1 MB
Downloading: 7.2 MB
Downloading: 7.2 MB
Downloading: 7.2 MB
Downloading: 7.2 MB
Downloading: 7.2 MB
Downloading: 7.2 MB
Downloading: 7.2 MB
Downloading: 7.2 MB
Downloading: 7.3 MB
Downloading: 7.3 MB
Downloading: 7.3 MB
Downloading: 7.3 MB
Downloading: 7.3 MB
Downloading: 7.3 MB
Downloading: 7.3 MB
Downloading: 7.3 MB
Downloading: 7.3 MB
Downloading: 7.3 MB
Downloading: 7.3 MB
Downloading: 7.3 MB
Downloading: 7.4 MB
Downloading: 7.4 MB
Downloading: 7.4 MB
Downloading: 7.4 MB
Downloading: 7.4 MB
Downloading: 7.4 MB
Downloading: 7.5 MB
Downloading: 7.5 MB
Downloading: 7.5 MB
Downloading: 7.5 MB
Downloading: 7.5 MB
Downloading: 7.5 MB
Downloading: 7.5 MB
Downloading: 7.5 MB
Downloading: 7.5 MB
Downloading: 7.5 MB
Downloading: 7.5 MB
Downloading: 7.5 MB
Downloading: 7.6 MB
Downloading: 7.6 MB
Downloading: 7.6 MB
Downloading: 7.6 MB
Downloading: 7.6 MB
Downloading: 7.6 MB
Downloading: 7.7 MB
Downloading: 7.7 MB
Downloading: 7.7 MB
Downloading: 7.7 MB
Downloading: 7.7 MB
Downloading: 7.7 MB
Downloading: 7.7 MB
Downloading: 7.7 MB
Downloading: 7.8 MB
Downloading: 7.8 MB
Downloading: 7.8 MB
Downloading: 7.8 MB
Downloading: 7.9 MB
Downloading: 7.9 MB
Downloading: 7.9 MB
Downloading: 7.9 MB
Downloading: 7.9 MB
Downloading: 7.9 MB
Downloading: 7.9 MB
Downloading: 7.9 MB
Downloading: 7.9 MB
Downloading: 7.9 MB
Downloading: 8 MB
Downloading: 8 MB
Downloading: 8 MB
Downloading: 8 MB
Downloading: 8 MB
Downloading: 8 MB
Downloading: 8 MB
Downloading: 8 MB
Downloading: 8 MB
Downloading: 8 MB
Downloading: 8 MB
Downloading: 8 MB
Downloading: 8.1 MB
Downloading: 8.1 MB
Downloading: 8.1 MB
Downloading: 8.1 MB
Downloading: 8.1 MB
Downloading: 8.1 MB
Downloading: 8.2 MB
Downloading: 8.2 MB
Downloading: 8.2 MB
Downloading: 8.2 MB
Downloading: 8.2 MB
Downloading: 8.2 MB
Downloading: 8.2 MB
Downloading: 8.2 MB
Downloading: 8.3 MB
Downloading: 8.3 MB
Downloading: 8.3 MB
Downloading: 8.3 MB
Downloading: 8.3 MB
Downloading: 8.3 MB
Downloading: 8.3 MB
Downloading: 8.3 MB
Downloading: 8.3 MB
Downloading: 8.3 MB
Downloading: 8.4 MB
Downloading: 8.4 MB
Downloading: 8.4 MB
Downloading: 8.4 MB
Downloading: 8.6 MB
Downloading: 8.6 MB
Downloading: 8.6 MB
Downloading: 8.6 MB
Downloading: 8.6 MB
Downloading: 8.6 MB /cygdrive/c/Rtools/bin/tar: 5d14d0a1-7188-4254-8df2-c327e847f481/6285633063_R06C02_Grn.idat: time stamp 2020-04-15 07:22:28 is 0.6395108 s in the future
trying URL 'http://zwdzwd.io/InfiniumAnnotation/current/hm450/hm450.hg19.manifest.rds'
Content type '' length 26177984 bytes (25.0 MB)
==================================================
downloaded 25.0 MB
-- 2. Failure: GDCquery can filter by data.category (@test-query.R#6) ---------
length(unique(query$results[[1]]$data_type)) not equal to 3.
1/1 mismatches
[1] 5 - 3 == 2
-- 3. Error: GDCquery can filter by sample.type (@test-query.R#43) ------------
Please set a valid workflow.type argument from the list below:
=>
Backtrace:
1. TCGAbiolinks::GDCquery(...)
-- 4. Error: GDCquery_Maf works (@test-query.R#150) ---------------------------
Please set a valid workflow.type argument from the list below:
=>
Backtrace:
1. TCGAbiolinks::GDCquery_Maf("ACC", pipelines = "muse")
2. TCGAbiolinks::GDCquery(...)
[1] "I need about 1 minute to finish complete Enrichment analysis GO[BP,MF,CC] and Pathways... "
[1] "GO Enrichment Analysis BP completed....done"
[1] "GO Enrichment Analysis MF completed....done"
[1] "GO Enrichment Analysis CC completed....done"
[1] "Pathway Enrichment Analysis completed....done"
groups Mean Median Max Min
1 TP 0.3590198 0.3601768 0.4099433 0.3240056
groups Mean Median Max Min
1 TP 0.3590198 0.3601768 0.4099433 0.3240056
groups Mean Median Max Min
1 LGm1 0.3789137 0.3789137 0.3789137 0.3789137
2 LGm2 0.4099433 0.4099433 0.4099433 0.4099433
3 LGm4 0.3454189 0.3454189 0.3668322 0.3240056
4 LGm5 0.3481159 0.3524203 0.3608853 0.3267376
LGm1 LGm2 LGm4 LGm5
LGm1 NA NA NA NA
LGm2 NA NA NA NA
LGm4 NA NA NA 0.9217168
LGm5 NA NA 0.9217168 NA
groups Mean Median Max Min
1 LGm1 0.3789137 0.3789137 0.3789137 0.3789137
2 LGm2 0.4099433 0.4099433 0.4099433 0.4099433
3 LGm4 0.3454189 0.3454189 0.3668322 0.3240056
4 LGm5 0.3481159 0.3524203 0.3608853 0.3267376
LGm1 LGm2 LGm4 LGm5
LGm1 NA NA NA NA
LGm2 NA NA NA NA
LGm4 NA NA NA 0.9217168
LGm5 NA NA 0.9217168 NA
groups Mean Median Max Min
1 LGm1 0.3789137 0.3789137 0.3789137 0.3789137
2 LGm2 0.4099433 0.4099433 0.4099433 0.4099433
3 LGm4 0.3454189 0.3454189 0.3668322 0.3240056
4 LGm5 0.3481159 0.3524203 0.3608853 0.3267376
LGm1 LGm2 LGm4 LGm5
LGm1 NA NA NA NA
LGm2 NA NA NA NA
LGm4 NA NA NA 0.9217168
LGm5 NA NA 0.9217168 NA
groups Mean Median Max Min
1 alive 0.3594683 0.3594683 0.3594683 0.3594683
2 dead 0.3589557 0.3608853 0.4099433 0.3240056
alive dead
alive NA NA
dead NA NA
== testthat results ===========================================================
[ OK: 96 | SKIPPED: 0 | WARNINGS: 16 | FAILED: 4 ]
1. Error: Non TCGA data is processed (@test-prepare-download.R#111)
2. Failure: GDCquery can filter by data.category (@test-query.R#6)
3. Error: GDCquery can filter by sample.type (@test-query.R#43)
4. Error: GDCquery_Maf works (@test-query.R#150)
Error: testthat unit tests failed
Execution halted
|
TCGAbiolinks.Rcheck/tests_x64/testthat.Rout.fail
R version 3.6.3 (2020-02-29) -- "Holding the Windsock"
Copyright (C) 2020 The R Foundation for Statistical Computing
Platform: x86_64-w64-mingw32/x64 (64-bit)
R is free software and comes with ABSOLUTELY NO WARRANTY.
You are welcome to redistribute it under certain conditions.
Type 'license()' or 'licence()' for distribution details.
R is a collaborative project with many contributors.
Type 'contributors()' for more information and
'citation()' on how to cite R or R packages in publications.
Type 'demo()' for some demos, 'help()' for on-line help, or
'help.start()' for an HTML browser interface to help.
Type 'q()' to quit R.
> library(testthat)
> library(TCGAbiolinks)
>
> test_check("TCGAbiolinks")
| | 0%
|========================== | 50% ~0 s remaining
|====================================================|100% ~0 s remaining
|====================================================|100% Completed after 0 s
| | 0%
|========================== | 50% ~0 s remaining
|====================================================|100% ~0 s remaining
|====================================================|100% Completed after 0 s
Downloading: 8.2 kB
Downloading: 8.2 kB
Downloading: 25 kB
Downloading: 25 kB
Downloading: 25 kB
Downloading: 25 kB
Downloading: 74 kB
Downloading: 74 kB
Downloading: 110 kB
Downloading: 110 kB
Downloading: 140 kB
Downloading: 140 kB
Downloading: 170 kB
Downloading: 170 kB
Downloading: 200 kB
Downloading: 200 kB
Downloading: 200 kB
Downloading: 200 kB
Downloading: 250 kB
Downloading: 250 kB
Downloading: 270 kB
Downloading: 270 kB
Downloading: 330 kB
Downloading: 330 kB
Downloading: 330 kB
Downloading: 330 kB
Downloading: 370 kB
Downloading: 370 kB
Downloading: 380 kB
Downloading: 380 kB
Downloading: 430 kB
Downloading: 430 kB
Downloading: 450 kB
Downloading: 450 kB
Downloading: 460 kB
Downloading: 460 kB
Downloading: 500 kB
Downloading: 500 kB
Downloading: 530 kB
Downloading: 530 kB
Downloading: 560 kB
Downloading: 560 kB
Downloading: 580 kB
Downloading: 580 kB
Downloading: 580 kB
Downloading: 580 kB
Downloading: 580 kB
Downloading: 580 kB
Downloading: 780 kB
Downloading: 780 kB
Downloading: 810 kB
Downloading: 810 kB
Downloading: 820 kB
Downloading: 820 kB
Downloading: 860 kB
Downloading: 860 kB
Downloading: 870 kB
Downloading: 870 kB
Downloading: 910 kB
Downloading: 910 kB
Downloading: 920 kB
Downloading: 920 kB
Downloading: 940 kB
Downloading: 940 kB
Downloading: 970 kB
Downloading: 970 kB
Downloading: 990 kB
Downloading: 990 kB
Downloading: 1 MB
Downloading: 1 MB
Downloading: 1 MB
Downloading: 1 MB
Downloading: 1.2 MB
Downloading: 1.2 MB
Downloading: 1.2 MB
Downloading: 1.2 MB
Downloading: 1.3 MB
Downloading: 1.3 MB
Downloading: 1.3 MB
Downloading: 1.3 MB
Downloading: 1.4 MB
Downloading: 1.4 MB
Downloading: 1.4 MB
Downloading: 1.4 MB
Downloading: 1.4 MB
Downloading: 1.4 MB
Downloading: 1.4 MB
Downloading: 1.4 MB
Downloading: 1.5 MB
Downloading: 1.5 MB
Downloading: 1.5 MB
Downloading: 1.5 MB
Downloading: 1.5 MB
Downloading: 1.5 MB
Downloading: 1.5 MB
Downloading: 1.5 MB
Downloading: 1.5 MB
Downloading: 1.5 MB
Downloading: 1.5 MB
Downloading: 1.5 MB /cygdrive/c/Rtools/bin/tar: MANIFEST.txt: time stamp 2020-04-15 07:29:52 is 0.8661516 s in the future
/cygdrive/c/Rtools/bin/tar: 49b4db54-a64f-4ae9-b1de-fc192e7bf53f/734117be-80cd-460d-95d9-3477b2998e6d.FPKM-UQ.txt.gz: time stamp 2020-04-15 07:29:52 is 0.8597583 s in the future
/cygdrive/c/Rtools/bin/tar: b0ba97a7-c850-4565-a778-b3645bdc8f73/6c416e81-459b-4fa4-8f16-7f0c8b8442e1.FPKM-UQ.txt.gz: time stamp 2020-04-15 07:29:52 is 0.8536196 s in the future
/cygdrive/c/Rtools/bin/tar: e46becca-bb19-42cf-ad67-3360ef2d120f/be58e260-25a2-40fc-878f-cdf095908383.FPKM-UQ.txt.gz: time stamp 2020-04-15 07:29:52 is 0.8480844 s in the future
| | 0%
|================= |33.33333% ~0 s remaining
|================================== |66.66667% ~0 s remaining
|====================================================|100% ~0 s remaining
|====================================================|100% Completed after 0 s
| | 0%
|================= |33.33333% ~0 s remaining
|================================== |66.66667% ~0 s remaining
|====================================================|100% ~0 s remaining
|====================================================|100% Completed after 0 s
Downloading: 7.8 kB
Downloading: 7.8 kB
Downloading: 16 kB
Downloading: 16 kB
Downloading: 32 kB
Downloading: 32 kB
Downloading: 48 kB
Downloading: 48 kB
Downloading: 64 kB
Downloading: 64 kB
Downloading: 64 kB
Downloading: 64 kB
Downloading: 97 kB
Downloading: 97 kB
Downloading: 110 kB
Downloading: 110 kB
Downloading: 110 kB
Downloading: 110 kB
Downloading: 130 kB
Downloading: 130 kB
Downloading: 160 kB
Downloading: 160 kB
Downloading: 180 kB
Downloading: 180 kB
Downloading: 210 kB
Downloading: 210 kB
Downloading: 250 kB
Downloading: 250 kB
Downloading: 260 kB
Downloading: 260 kB
Downloading: 330 kB
Downloading: 330 kB
Downloading: 330 kB
Downloading: 330 kB
Downloading: 520 kB
Downloading: 520 kB
Downloading: 540 kB
Downloading: 540 kB
Downloading: 590 kB
Downloading: 590 kB
Downloading: 590 kB
Downloading: 590 kB
Downloading: 750 kB
Downloading: 750 kB
Downloading: 800 kB
Downloading: 800 kB
Downloading: 820 kB
Downloading: 820 kB
Downloading: 900 kB
Downloading: 900 kB
Downloading: 930 kB
Downloading: 930 kB
Downloading: 960 kB
Downloading: 960 kB
Downloading: 980 kB
Downloading: 980 kB
Downloading: 1 MB
Downloading: 1 MB
Downloading: 1 MB
Downloading: 1 MB
Downloading: 1 MB
Downloading: 1 MB /cygdrive/c/Rtools/bin/tar: MANIFEST.txt: time stamp 2020-04-15 07:30:14 is 0.6095309 s in the future
/cygdrive/c/Rtools/bin/tar: 077b89e5-9a94-4846-af76-8cdd8b94ea2c/1fe06563-aa3a-4230-b118-5cf2ef1f43f1.htseq_counts.txt.gz: time stamp 2020-04-15 07:30:14 is 0.6020223 s in the future
/cygdrive/c/Rtools/bin/tar: 1de4a285-c679-40bd-b8d3-206a7afd3a00/01465109-ae93-4c81-bc1c-6be7b720f101.htseq_counts.txt.gz: time stamp 2020-04-15 07:30:14 is 0.5268964 s in the future
/cygdrive/c/Rtools/bin/tar: 89a0c542-9891-433e-b3db-f4eac15e99f5/ee999d2a-11db-4d91-ab89-6ecc104b27d9.htseq_counts.txt.gz: time stamp 2020-04-15 07:30:14 is 0.5242958 s in the future
| | 0%
|============= | 25% ~0 s remaining
|========================== | 50% ~0 s remaining
|======================================= | 75% ~0 s remaining
|====================================================|100% ~0 s remaining
|====================================================|100% Completed after 0 s
|
| | 0%
|
|= | 2%
|
|== | 3%
|
|==== | 6%
|
|======= | 9%
|
|========= | 13%
|
|============= | 19%
|
|================ | 22%
|
|================== | 26%
|
|======================= | 32%
|
|========================= | 35%
|
|=========================== | 39%
|
|================================ | 45%
|
|================================== | 48%
|
|==================================== | 52%
|
|====================================== | 55%
|
|======================================== | 58%
|
|=========================================== | 61%
|
|============================================= | 64%
|
|=============================================== | 67%
|
|================================================= | 71%
|
|======================================================== | 80%
|
|========================================================== | 83%
|
|============================================================= | 87%
|
|=============================================================== | 90%
|
|================================================================= | 93%
|
|=================================================================== | 96%
|
|======================================================================| 100%
Downloading: 7.8 kB
Downloading: 7.8 kB
Downloading: 24 kB
Downloading: 24 kB
Downloading: 89 kB
Downloading: 89 kB
Downloading: 170 kB
Downloading: 170 kB
Downloading: 170 kB
Downloading: 170 kB
Downloading: 200 kB
Downloading: 200 kB
Downloading: 250 kB
Downloading: 250 kB
Downloading: 250 kB
Downloading: 250 kB
Downloading: 400 kB
Downloading: 400 kB
Downloading: 400 kB
Downloading: 400 kB
Downloading: 420 kB
Downloading: 420 kB
Downloading: 430 kB
Downloading: 430 kB
Downloading: 520 kB
Downloading: 520 kB
Downloading: 520 kB
Downloading: 520 kB
Downloading: 530 kB
Downloading: 530 kB
Downloading: 710 kB
Downloading: 710 kB
Downloading: 880 kB
Downloading: 880 kB
Downloading: 960 kB
Downloading: 960 kB
Downloading: 970 kB
Downloading: 970 kB
Downloading: 1 MB
Downloading: 1 MB
Downloading: 1 MB
Downloading: 1 MB
Downloading: 1 MB
Downloading: 1 MB /cygdrive/c/Rtools/bin/tar: MANIFEST.txt: time stamp 2020-04-15 07:30:35 is 1.467352 s in the future
/cygdrive/c/Rtools/bin/tar: 915d872a-dfdb-4d0a-8a77-00166f09d0b7/d50c9013-3aee-4b1f-be93-225e568da7c3.FPKM-UQ.txt.gz: time stamp 2020-04-15 07:30:35 is 1.4619967 s in the future
/cygdrive/c/Rtools/bin/tar: bc2d5d24-7eaa-4e64-8fd8-b96466936e9c/2fb19a94-bd55-4041-994a-082cd30746f3.FPKM-UQ.txt.gz: time stamp 2020-04-15 07:30:35 is 1.4575858 s in the future
| | 0%
|============= | 25% ~0 s remaining
|========================== | 50% ~0 s remaining
|======================================= | 75% ~0 s remaining
|====================================================|100% ~0 s remaining
|====================================================|100% Completed after 1 s
Downloading: 7.8 kB
Downloading: 7.8 kB
Downloading: 16 kB
Downloading: 16 kB
Downloading: 16 kB
Downloading: 16 kB
Downloading: 57 kB
Downloading: 57 kB
Downloading: 57 kB
Downloading: 57 kB
Downloading: 110 kB
Downloading: 110 kB
Downloading: 120 kB
Downloading: 120 kB
Downloading: 150 kB
Downloading: 150 kB
Downloading: 160 kB
Downloading: 160 kB
Downloading: 180 kB
Downloading: 180 kB
Downloading: 200 kB
Downloading: 200 kB
Downloading: 280 kB
Downloading: 280 kB
Downloading: 290 kB
Downloading: 290 kB
Downloading: 310 kB
Downloading: 310 kB
Downloading: 310 kB
Downloading: 310 kB
Downloading: 520 kB
Downloading: 520 kB
Downloading: 540 kB
Downloading: 540 kB
Downloading: 550 kB
Downloading: 550 kB
Downloading: 750 kB
Downloading: 750 kB
Downloading: 800 kB
Downloading: 800 kB
Downloading: 810 kB
Downloading: 810 kB
Downloading: 830 kB
Downloading: 830 kB
Downloading: 850 kB
Downloading: 850 kB
Downloading: 980 kB
Downloading: 980 kB
Downloading: 980 kB
Downloading: 980 kB
Downloading: 1.1 MB
Downloading: 1.1 MB
Downloading: 1.1 MB
Downloading: 1.1 MB
Downloading: 1.2 MB
Downloading: 1.2 MB
Downloading: 1.3 MB
Downloading: 1.3 MB
Downloading: 1.3 MB
Downloading: 1.3 MB
Downloading: 1.4 MB
Downloading: 1.4 MB
Downloading: 1.4 MB
Downloading: 1.4 MB
Downloading: 1.5 MB
Downloading: 1.5 MB
Downloading: 1.5 MB
Downloading: 1.5 MB
Downloading: 1.6 MB
Downloading: 1.6 MB
Downloading: 1.6 MB
Downloading: 1.6 MB
Downloading: 1.6 MB
Downloading: 1.6 MB /cygdrive/c/Rtools/bin/tar: MANIFEST.txt: time stamp 2020-04-15 07:31:28 is 1.1671973 s in the future
/cygdrive/c/Rtools/bin/tar: 2a9a3913-02e0-465c-a0b1-a10efd43391e/8b0dcdbf-9731-4097-be43-7fa1ad3a821a.rna_seq.star_gene_counts.tsv.gz: time stamp 2020-04-15 07:31:28 is 1.1616677 s in the future
/cygdrive/c/Rtools/bin/tar: 6055c410-981f-44e2-8088-8bbcef9b514f/257c3e98-3a46-4656-8920-9cf1fbc89914.rna_seq.star_gene_counts.tsv.gz: time stamp 2020-04-15 07:31:28 is 1.1569216 s in the future
/cygdrive/c/Rtools/bin/tar: b0563f9c-8bed-4ec1-a3eb-29c74e3e2cbf/bf7a7c44-29b2-4522-be32-7ce455c78147.rna_seq.star_gene_counts.tsv.gz: time stamp 2020-04-15 07:31:28 is 1.1513519 s in the future
/cygdrive/c/Rtools/bin/tar: c3181ea6-55e7-4c80-838d-c5d85a8aa9b1/0fd878f7-0533-4635-95f2-4a6b12fc3550.rna_seq.star_gene_counts.tsv.gz: time stamp 2020-04-15 07:31:28 is 1.1468056 s in the future
<simpleWarning in file.create(to[okay]): cannot create file 'GDCdata/MMRF-COMMPASS/harmonized/Transcriptome_Profiling/Gene_Expression_Quantification/6055c410-981f-44e2-8088-8bbcef9b514f/257c3e98-3a46-4656-8920-9cf1fbc89914.rna_seq.star_gene_counts.tsv.gz', reason 'No such file or directory'>
<simpleWarning in file.create(to[okay]): cannot create file 'GDCdata/MMRF-COMMPASS/harmonized/Transcriptome_Profiling/Gene_Expression_Quantification/b0563f9c-8bed-4ec1-a3eb-29c74e3e2cbf/bf7a7c44-29b2-4522-be32-7ce455c78147.rna_seq.star_gene_counts.tsv.gz', reason 'No such file or directory'>
<simpleWarning in file.create(to[okay]): cannot create file 'GDCdata/MMRF-COMMPASS/harmonized/Transcriptome_Profiling/Gene_Expression_Quantification/2a9a3913-02e0-465c-a0b1-a10efd43391e/8b0dcdbf-9731-4097-be43-7fa1ad3a821a.rna_seq.star_gene_counts.tsv.gz', reason 'No such file or directory'>
<simpleWarning in file.create(to[okay]): cannot create file 'GDCdata/MMRF-COMMPASS/harmonized/Transcriptome_Profiling/Gene_Expression_Quantification/c3181ea6-55e7-4c80-838d-c5d85a8aa9b1/0fd878f7-0533-4635-95f2-4a6b12fc3550.rna_seq.star_gene_counts.tsv.gz', reason 'No such file or directory'>
-- 1. Error: Non TCGA data is processed (@test-prepare-download.R#111) --------
I couldn't find all the files from the query. Please check if the directory parameter is right or `GDCdownload` downloaded the samples.
Backtrace:
1. TCGAbiolinks::GDCprepare(query)
|
| | 0%
|
| | 1%
|
|= | 1%
|
|= | 2%
|
|== | 2%
|
|== | 3%
|
|=== | 4%
|
|=== | 5%
|
|==== | 5%
|
|==== | 6%
|
|===== | 6%
|
|===== | 7%
|
|===== | 8%
|
|====== | 8%
|
|====== | 9%
|
|======= | 9%
|
|======= | 10%
|
|======== | 11%
|
|======== | 12%
|
|========= | 12%
|
|========= | 13%
|
|========== | 14%
|
|========== | 15%
|
|=========== | 15%
|
|=========== | 16%
|
|============ | 16%
|
|============ | 17%
|
|============ | 18%
|
|============= | 18%
|
|============= | 19%
|
|============== | 19%
|
|============== | 20%
|
|=============== | 21%
|
|=============== | 22%
|
|================ | 22%
|
|================ | 23%
|
|================= | 24%
|
|================= | 25%
|
|================== | 25%
|
|================== | 26%
|
|=================== | 27%
|
|=================== | 28%
|
|==================== | 28%
|
|==================== | 29%
|
|===================== | 29%
|
|===================== | 30%
|
|===================== | 31%
|
|====================== | 31%
|
|====================== | 32%
|
|======================= | 32%
|
|======================= | 33%
|
|======================= | 34%
|
|======================== | 34%
|
|======================== | 35%
|
|========================= | 35%
|
|========================= | 36%
|
|========================== | 36%
|
|========================== | 37%
|
|========================== | 38%
|
|=========================== | 38%
|
|============================ | 39%
|
|============================ | 40%
|
|============================= | 41%
|
|============================= | 42%
|
|============================== | 42%
|
|============================== | 43%
|
|============================== | 44%
|
|=============================== | 44%
|
|=============================== | 45%
|
|================================ | 45%
|
|================================ | 46%
|
|================================= | 46%
|
|================================= | 47%
|
|================================= | 48%
|
|================================== | 48%
|
|================================== | 49%
|
|=================================== | 49%
|
|=================================== | 50%
|
|=================================== | 51%
|
|==================================== | 51%
|
|==================================== | 52%
|
|===================================== | 52%
|
|===================================== | 53%
|
|===================================== | 54%
|
|====================================== | 54%
|
|====================================== | 55%
|
|======================================= | 55%
|
|======================================= | 56%
|
|======================================== | 57%
|
|======================================== | 58%
|
|========================================= | 58%
|
|========================================= | 59%
|
|========================================== | 59%
|
|========================================== | 60%
|
|========================================== | 61%
|
|=========================================== | 61%
|
|=========================================== | 62%
|
|============================================ | 62%
|
|============================================ | 63%
|
|============================================= | 64%
|
|============================================= | 65%
|
|============================================== | 65%
|
|============================================== | 66%
|
|=============================================== | 66%
|
|=============================================== | 67%
|
|================================================ | 69%
|
|================================================= | 69%
|
|================================================= | 70%
|
|================================================= | 71%
|
|================================================== | 71%
|
|=================================================== | 72%
|
|=================================================== | 73%
|
|==================================================== | 74%
|
|==================================================== | 75%
|
|===================================================== | 75%
|
|===================================================== | 76%
|
|====================================================== | 76%
|
|====================================================== | 77%
|
|====================================================== | 78%
|
|======================================================= | 78%
|
|======================================================= | 79%
|
|======================================================== | 79%
|
|======================================================== | 80%
|
|======================================================== | 81%
|
|========================================================= | 82%
|
|========================================================== | 83%
|
|=========================================================== | 85%
|
|============================================================ | 85%
|
|============================================================ | 86%
|
|============================================================= | 86%
|
|============================================================= | 87%
|
|============================================================= | 88%
|
|============================================================== | 88%
|
|============================================================== | 89%
|
|=============================================================== | 90%
|
|=============================================================== | 91%
|
|================================================================ | 91%
|
|================================================================ | 92%
|
|================================================================= | 92%
|
|================================================================= | 93%
|
|================================================================= | 94%
|
|================================================================== | 94%
|
|================================================================== | 95%
|
|=================================================================== | 95%
|
|=================================================================== | 96%
|
|==================================================================== | 96%
|
|==================================================================== | 97%
|
|==================================================================== | 98%
|
|===================================================================== | 98%
|
|===================================================================== | 99%
|
|======================================================================| 99%
|
|======================================================================| 100%
|=== | 5% 1 MB
|=== | 5% 1 MB
|=== | 5% 1 MB
|=== | 5% 1 MB
|=== | 5% 1 MB
|=== | 5% 1 MB
|=== | 5% 1 MB
|=== | 5% 1 MB
|=== | 5% 1 MB
|=== | 6% 1 MB
|==== | 6% 1 MB
|==== | 6% 1 MB
|==== | 6% 1 MB
|==== | 6% 1 MB
|==== | 6% 1 MB
|==== | 6% 1 MB
|==== | 6% 1 MB
|==== | 6% 1 MB
|==== | 6% 1 MB
|==== | 7% 1 MB
|==== | 7% 1 MB
|==== | 7% 1 MB
|==== | 7% 1 MB
|==== | 7% 1 MB
|==== | 7% 1 MB
|==== | 7% 1 MB
|===== | 7% 1 MB
|===== | 7% 1 MB
|===== | 7% 1 MB
|===== | 8% 1 MB
|===== | 8% 1 MB
|===== | 8% 1 MB
|===== | 8% 1 MB
|===== | 8% 1 MB
|===== | 8% 1 MB
|===== | 8% 1 MB
|===== | 8% 1 MB
|===== | 8% 1 MB
|===== | 8% 1 MB
|===== | 9% 1 MB
|===== | 9% 1 MB
|====== | 9% 1 MB
|====== | 9% 1 MB
|====== | 9% 1 MB
|====== | 9% 1 MB
|====== | 9% 1 MB
|====== | 9% 1 MB
|====== | 9% 1 MB
|====== | 9% 1 MB
|====== | 10% 1 MB
|====== | 10% 2 MB
|====== | 10% 2 MB
|====== | 10% 2 MB
|====== | 10% 2 MB
|====== | 10% 2 MB
|====== | 10% 2 MB
|====== | 10% 2 MB
|======= | 10% 2 MB
|======= | 10% 2 MB
|======= | 11% 2 MB
|======= | 11% 2 MB
|======= | 11% 2 MB
|======= | 11% 2 MB
|======= | 11% 2 MB
|======= | 11% 2 MB
|======= | 11% 2 MB
|======= | 11% 2 MB
|======= | 11% 2 MB
|======= | 11% 2 MB
|======= | 12% 2 MB
|======= | 12% 2 MB
|======= | 12% 2 MB
|======= | 12% 2 MB
|======== | 12% 2 MB
|======== | 12% 2 MB
|======== | 12% 2 MB
|======== | 12% 2 MB
|======== | 12% 2 MB
|======== | 12% 2 MB
|======== | 12% 2 MB
|======== | 13% 2 MB
|======== | 13% 2 MB
|======== | 13% 2 MB
|======== | 13% 2 MB
|======== | 13% 2 MB
|======== | 13% 2 MB
|======== | 13% 2 MB
|======== | 13% 2 MB
|========= | 13% 2 MB
|========= | 13% 2 MB
|========= | 14% 2 MB
|========= | 14% 2 MB
|========= | 14% 2 MB
|========= | 14% 2 MB
|========= | 14% 2 MB
|========= | 14% 2 MB
|========= | 14% 2 MB
|========= | 14% 2 MB
|========= | 14% 2 MB
|========= | 14% 2 MB
|========= | 15% 2 MB
|========= | 15% 2 MB
|========= | 15% 3 MB
|========= | 15% 3 MB
|========== | 15% 3 MB
|========== | 15% 3 MB
|========== | 15% 3 MB
|========== | 15% 3 MB
|========== | 15% 3 MB
|========== | 15% 3 MB
|========== | 16% 3 MB
|========== | 16% 3 MB
|========== | 16% 3 MB
|========== | 16% 3 MB
|========== | 16% 3 MB
|========== | 16% 3 MB
|========== | 16% 3 MB
|========== | 16% 3 MB
|========== | 16% 3 MB
|=========== | 16% 3 MB
|=========== | 17% 3 MB
|=========== | 17% 3 MB
|=========== | 17% 3 MB
|=========== | 17% 3 MB
|=========== | 17% 3 MB
|=========== | 17% 3 MB
|=========== | 17% 3 MB
|=========== | 17% 3 MB
|=========== | 17% 3 MB
|=========== | 17% 3 MB
|=========== | 18% 3 MB
|=========== | 18% 3 MB
|=========== | 18% 3 MB
|=========== | 18% 3 MB
|============ | 18% 3 MB
|============ | 18% 3 MB
|============ | 18% 3 MB
|============ | 18% 3 MB
|============ | 18% 3 MB
|============ | 18% 3 MB
|============ | 19% 3 MB
|============ | 19% 3 MB
|============ | 19% 3 MB
|============ | 19% 3 MB
|============ | 19% 3 MB
|============ | 19% 3 MB
|============ | 19% 3 MB
|============ | 19% 3 MB
|============ | 19% 3 MB
|============ | 19% 3 MB
|============= | 20% 3 MB
|============= | 20% 3 MB
|============= | 20% 4 MB
|============= | 20% 4 MB
|============= | 20% 4 MB
|============= | 20% 4 MB
|============= | 20% 4 MB
|============= | 20% 4 MB
|============= | 20% 4 MB
|============= | 20% 4 MB
|============= | 21% 4 MB
|============= | 21% 4 MB
|============= | 21% 4 MB
|============= | 21% 4 MB
|============= | 21% 4 MB
|============== | 21% 4 MB
|============== | 21% 4 MB
|============== | 21% 4 MB
|============== | 21% 4 MB
|============== | 21% 4 MB
|============== | 22% 4 MB
|============== | 22% 4 MB
|============== | 22% 4 MB
|============== | 22% 4 MB
|============== | 22% 4 MB
|============== | 22% 4 MB
|============== | 22% 4 MB
|============== | 22% 4 MB
|============== | 22% 4 MB
|============== | 22% 4 MB
|============== | 23% 4 MB
|=============== | 23% 4 MB
|=============== | 23% 4 MB
|=============== | 23% 4 MB
|=============== | 23% 4 MB
|=============== | 23% 4 MB
|=============== | 23% 4 MB
|=============== | 23% 4 MB
|=============== | 23% 4 MB
|=============== | 23% 4 MB
|=============== | 24% 4 MB
|=============== | 24% 4 MB
|=============== | 24% 4 MB
|=============== | 24% 4 MB
|=============== | 24% 4 MB
|=============== | 24% 4 MB
|================ | 24% 4 MB
|================ | 24% 4 MB
|================ | 24% 4 MB
|================ | 24% 4 MB
|================ | 25% 4 MB
|================ | 25% 4 MB
|================ | 25% 4 MB
|================ | 25% 5 MB
|================ | 25% 5 MB
|================ | 25% 5 MB
|================ | 25% 5 MB
|================ | 25% 5 MB
|================ | 25% 5 MB
|================ | 25% 5 MB
|================ | 26% 5 MB
|================ | 26% 5 MB
|================= | 26% 5 MB
|================= | 26% 5 MB
|================= | 26% 5 MB
|================= | 26% 5 MB
|================= | 26% 5 MB
|================= | 26% 5 MB
|================= | 26% 5 MB
|================= | 26% 5 MB
|================= | 27% 5 MB
|================= | 27% 5 MB
|================= | 27% 5 MB
|================= | 27% 5 MB
|================= | 27% 5 MB
|================= | 27% 5 MB
|================= | 27% 5 MB
|================== | 27% 5 MB
|================== | 27% 5 MB
|================== | 27% 5 MB
|================== | 28% 5 MB
|================== | 28% 5 MB
|================== | 28% 5 MB
|================== | 28% 5 MB
|================== | 28% 5 MB
|================== | 28% 5 MB
|================== | 28% 5 MB
|================== | 28% 5 MB
|================== | 28% 5 MB
|================== | 28% 5 MB
|================== | 29% 5 MB
|================== | 29% 5 MB
|=================== | 29% 5 MB
|=================== | 29% 5 MB
|=================== | 29% 5 MB
|=================== | 29% 5 MB
|=================== | 29% 5 MB
|=================== | 29% 5 MB
|=================== | 29% 5 MB
|=================== | 29% 5 MB
|=================== | 30% 5 MB
|=================== | 30% 5 MB
|=================== | 30% 5 MB
|=================== | 30% 5 MB
|=================== | 30% 6 MB
|=================== | 30% 6 MB
|=================== | 30% 6 MB
|=================== | 30% 6 MB
|==================== | 30% 6 MB
|==================== | 30% 6 MB
|==================== | 31% 6 MB
|==================== | 31% 6 MB
|==================== | 31% 6 MB
|==================== | 31% 6 MB
|==================== | 31% 6 MB
|==================== | 31% 6 MB
|==================== | 31% 6 MB
|==================== | 31% 6 MB
|==================== | 31% 6 MB
|==================== | 31% 6 MB
|==================== | 32% 6 MB
|==================== | 32% 6 MB
|==================== | 32% 6 MB
|===================== | 32% 6 MB
|===================== | 32% 6 MB
|===================== | 32% 6 MB
|===================== | 32% 6 MB
|===================== | 32% 6 MB
|===================== | 32% 6 MB
|===================== | 32% 6 MB
|===================== | 33% 6 MB
|===================== | 33% 6 MB
|===================== | 33% 6 MB
|===================== | 33% 6 MB
|===================== | 33% 6 MB
|===================== | 33% 6 MB
|===================== | 33% 6 MB
|===================== | 33% 6 MB
|===================== | 33% 6 MB
|====================== | 33% 6 MB
|====================== | 33% 6 MB
|====================== | 34% 6 MB
|====================== | 34% 6 MB
|====================== | 34% 6 MB
|====================== | 34% 6 MB
|====================== | 34% 6 MB
|====================== | 34% 6 MB
|====================== | 34% 6 MB
|====================== | 34% 6 MB
|====================== | 34% 6 MB
|====================== | 34% 6 MB
|====================== | 35% 6 MB
|====================== | 35% 6 MB
|====================== | 35% 6 MB
|======================= | 35% 6 MB
|======================= | 35% 7 MB
|======================= | 35% 7 MB
|======================= | 35% 7 MB
|======================= | 35% 7 MB
|======================= | 35% 7 MB
|======================= | 35% 7 MB
|======================= | 36% 7 MB
|======================= | 36% 7 MB
|======================= | 36% 7 MB
|======================= | 36% 7 MB
|======================= | 36% 7 MB
|======================= | 36% 7 MB
|======================= | 36% 7 MB
|======================= | 36% 7 MB
|======================= | 36% 7 MB
|======================== | 36% 7 MB
|======================== | 37% 7 MB
|======================== | 37% 7 MB
|======================== | 37% 7 MB
|======================== | 37% 7 MB
|======================== | 37% 7 MB
|======================== | 37% 7 MB
|======================== | 37% 7 MB
|======================== | 37% 7 MB
|======================== | 37% 7 MB
|======================== | 37% 7 MB
|======================== | 38% 7 MB
|======================== | 38% 7 MB
|======================== | 38% 7 MB
|======================== | 38% 7 MB
|======================== | 38% 7 MB
|========================= | 38% 7 MB
|========================= | 38% 7 MB
|========================= | 38% 7 MB
|========================= | 38% 7 MB
|========================= | 38% 7 MB
|========================= | 39% 7 MB
|========================= | 39% 7 MB
|========================= | 39% 7 MB
|========================= | 39% 7 MB
|========================= | 39% 7 MB
|========================= | 39% 7 MB
|========================= | 39% 7 MB
|========================= | 39% 7 MB
|========================= | 39% 7 MB
|========================= | 39% 7 MB
|========================== | 40% 7 MB
|========================== | 40% 7 MB
|========================== | 40% 7 MB
|========================== | 40% 7 MB
|========================== | 40% 7 MB
|========================== | 40% 8 MB
|========================== | 40% 8 MB
|========================== | 40% 8 MB
|========================== | 40% 8 MB
|========================== | 40% 8 MB
|========================== | 41% 8 MB
|========================== | 41% 8 MB
|========================== | 41% 8 MB
|========================== | 41% 8 MB
|========================== | 41% 8 MB
|=========================== | 41% 8 MB
|=========================== | 41% 8 MB
|=========================== | 41% 8 MB
|=========================== | 41% 8 MB
|=========================== | 41% 8 MB
|=========================== | 42% 8 MB
|=========================== | 42% 8 MB
|=========================== | 42% 8 MB
|=========================== | 42% 8 MB
|=========================== | 42% 8 MB
|=========================== | 42% 8 MB
|=========================== | 42% 8 MB
|=========================== | 42% 8 MB
|=========================== | 42% 8 MB
|=========================== | 42% 8 MB
|=========================== | 43% 8 MB
|============================ | 43% 8 MB
|============================ | 43% 8 MB
|============================ | 43% 8 MB
|============================ | 43% 8 MB
|============================ | 43% 8 MB
|============================ | 43% 8 MB
|============================ | 43% 8 MB
|============================ | 43% 8 MB
|============================ | 43% 8 MB
|============================ | 44% 8 MB
|============================ | 44% 8 MB
|============================ | 44% 8 MB
|============================ | 44% 8 MB
|============================ | 44% 8 MB
|============================ | 44% 8 MB
|============================= | 44% 8 MB
|============================= | 44% 8 MB
|============================= | 44% 8 MB
|============================= | 44% 8 MB
|============================= | 45% 8 MB
|============================= | 45% 8 MB
|============================= | 45% 8 MB
|============================= | 45% 8 MB
|============================= | 45% 8 MB
|============================= | 45% 9 MB
|============================= | 45% 9 MB
|============================= | 45% 9 MB
|============================= | 45% 9 MB
|============================= | 45% 9 MB
|============================= | 46% 9 MB
|============================= | 46% 9 MB
|============================== | 46% 9 MB
|============================== | 46% 9 MB
|============================== | 46% 9 MB
|============================== | 46% 9 MB
|============================== | 46% 9 MB
|============================== | 46% 9 MB
|============================== | 46% 9 MB
|============================== | 46% 9 MB
|============================== | 47% 9 MB
|============================== | 47% 9 MB
|============================== | 47% 9 MB
|============================== | 47% 9 MB
|============================== | 47% 9 MB
|============================== | 47% 9 MB
|============================== | 47% 9 MB
|=============================== | 47% 9 MB
|=============================== | 47% 9 MB
|=============================== | 47% 9 MB
|=============================== | 48% 9 MB
|=============================== | 48% 9 MB
|=============================== | 48% 9 MB
|=============================== | 48% 9 MB
|=============================== | 48% 9 MB
|=============================== | 48% 9 MB
|=============================== | 48% 9 MB
|=============================== | 48% 9 MB
|=============================== | 48% 9 MB
|=============================== | 48% 9 MB
|=============================== | 49% 9 MB
|=============================== | 49% 9 MB
|=============================== | 49% 9 MB
|================================ | 49% 9 MB
|================================ | 49% 9 MB
|================================ | 49% 9 MB
|================================ | 49% 9 MB
|================================ | 49% 9 MB
|================================ | 49% 9 MB
|================================ | 49% 9 MB
|================================ | 50% 9 MB
|================================ | 50% 9 MB
|================================ | 50% 9 MB
|================================ | 50% 9 MB
|================================ | 50% 9 MB
|================================ | 50% 9 MB
|================================ | 50% 10 MB
|================================ | 50% 10 MB
|================================= | 50% 10 MB
|================================= | 50% 10 MB
|================================= | 51% 10 MB
|================================= | 51% 10 MB
|================================= | 51% 10 MB
|================================= | 51% 10 MB
|================================= | 51% 10 MB
|================================= | 51% 10 MB
|================================= | 51% 10 MB
|================================= | 51% 10 MB
|================================= | 51% 10 MB
|================================= | 51% 10 MB
|================================= | 52% 10 MB
|================================= | 52% 10 MB
|================================= | 52% 10 MB
|================================== | 52% 10 MB
|================================== | 52% 10 MB
|================================== | 52% 10 MB
|================================== | 52% 10 MB
|================================== | 52% 10 MB
|================================== | 52% 10 MB
|================================== | 52% 10 MB
|================================== | 53% 10 MB
|================================== | 53% 10 MB
|================================== | 53% 10 MB
|================================== | 53% 10 MB
|================================== | 53% 10 MB
|================================== | 53% 10 MB
|================================== | 53% 10 MB
|================================== | 53% 10 MB
|================================== | 53% 10 MB
|=================================== | 53% 10 MB
|=================================== | 54% 10 MB
|=================================== | 54% 10 MB
|=================================== | 54% 10 MB
|=================================== | 54% 10 MB
|=================================== | 54% 10 MB
|=================================== | 54% 10 MB
|=================================== | 54% 10 MB
|=================================== | 54% 10 MB
|=================================== | 54% 10 MB
|=================================== | 54% 10 MB
|=================================== | 55% 10 MB
|=================================== | 55% 10 MB
|=================================== | 55% 10 MB
|=================================== | 55% 10 MB
|==================================== | 55% 10 MB
|==================================== | 55% 10 MB
|==================================== | 55% 10 MB
|==================================== | 55% 11 MB
|==================================== | 55% 11 MB
|==================================== | 55% 11 MB
|==================================== | 56% 11 MB
|==================================== | 56% 11 MB
|==================================== | 56% 11 MB
|==================================== | 56% 11 MB
|==================================== | 56% 11 MB
|==================================== | 56% 11 MB
|==================================== | 56% 11 MB
|==================================== | 56% 11 MB
|==================================== | 56% 11 MB
|==================================== | 56% 11 MB
|===================================== | 57% 11 MB
|===================================== | 57% 11 MB
|===================================== | 57% 11 MB
|===================================== | 57% 11 MB
|===================================== | 57% 11 MB
|===================================== | 57% 11 MB
|===================================== | 57% 11 MB
|===================================== | 57% 11 MB
|===================================== | 57% 11 MB
|===================================== | 57% 11 MB
|===================================== | 58% 11 MB
|===================================== | 58% 11 MB
|===================================== | 58% 11 MB
|===================================== | 58% 11 MB
|===================================== | 58% 11 MB
|====================================== | 58% 11 MB
|====================================== | 58% 11 MB
|====================================== | 58% 11 MB
|====================================== | 58% 11 MB
|====================================== | 58% 11 MB
|====================================== | 58% 11 MB
|====================================== | 59% 11 MB
|====================================== | 59% 11 MB
|====================================== | 59% 11 MB
|====================================== | 59% 11 MB
|====================================== | 59% 11 MB
|====================================== | 59% 11 MB
|====================================== | 59% 11 MB
|====================================== | 59% 11 MB
|====================================== | 59% 11 MB
|====================================== | 59% 11 MB
|======================================= | 60% 11 MB
|======================================= | 60% 11 MB
|======================================= | 60% 11 MB
|======================================= | 60% 11 MB
|======================================= | 60% 11 MB
|======================================= | 60% 11 MB
|======================================= | 60% 11 MB
|======================================= | 60% 12 MB
|======================================= | 60% 12 MB
|======================================= | 60% 12 MB
|======================================= | 61% 12 MB
|======================================= | 61% 12 MB
|======================================= | 61% 12 MB
|======================================= | 61% 12 MB
|======================================= | 61% 12 MB
|======================================== | 61% 12 MB
|======================================== | 61% 12 MB
|======================================== | 61% 12 MB
|======================================== | 61% 12 MB
|======================================== | 61% 12 MB
|======================================== | 62% 12 MB
|======================================== | 62% 12 MB
|======================================== | 62% 12 MB
|======================================== | 62% 12 MB
|======================================== | 62% 12 MB
|======================================== | 62% 12 MB
|======================================== | 62% 12 MB
|======================================== | 62% 12 MB
|======================================== | 62% 12 MB
|======================================== | 62% 12 MB
|======================================== | 63% 12 MB
|========================================= | 63% 12 MB
|========================================= | 63% 12 MB
|========================================= | 63% 12 MB
|========================================= | 63% 12 MB
|========================================= | 63% 12 MB
|========================================= | 63% 12 MB
|========================================= | 63% 12 MB
|========================================= | 63% 12 MB
|========================================= | 63% 12 MB
|========================================= | 64% 12 MB
|========================================= | 64% 12 MB
|========================================= | 64% 12 MB
|========================================= | 64% 12 MB
|========================================= | 64% 12 MB
|========================================= | 64% 12 MB
|========================================== | 64% 12 MB
|========================================== | 64% 12 MB
|========================================== | 64% 12 MB
|========================================== | 64% 12 MB
|========================================== | 65% 12 MB
|========================================== | 65% 12 MB
|========================================== | 65% 12 MB
|========================================== | 65% 12 MB
|========================================== | 65% 12 MB
|========================================== | 65% 12 MB
|========================================== | 65% 12 MB
|========================================== | 65% 12 MB
|========================================== | 65% 13 MB
|========================================== | 65% 13 MB
|========================================== | 66% 13 MB
|========================================== | 66% 13 MB
|=========================================== | 66% 13 MB
|=========================================== | 66% 13 MB
|=========================================== | 66% 13 MB
|=========================================== | 66% 13 MB
|=========================================== | 66% 13 MB
|=========================================== | 66% 13 MB
|=========================================== | 66% 13 MB
|=========================================== | 66% 13 MB
|=========================================== | 67% 13 MB
|=========================================== | 67% 13 MB
|=========================================== | 67% 13 MB
|=========================================== | 67% 13 MB
|=========================================== | 67% 13 MB
|=========================================== | 67% 13 MB
|=========================================== | 67% 13 MB
|============================================ | 67% 13 MB
|============================================ | 67% 13 MB
|============================================ | 67% 13 MB
|============================================ | 68% 13 MB
|============================================ | 68% 13 MB
|============================================ | 68% 13 MB
|============================================ | 68% 13 MB
|============================================ | 68% 13 MB
|============================================ | 68% 13 MB
|============================================ | 68% 13 MB
|============================================ | 68% 13 MB
|============================================ | 68% 13 MB
|============================================ | 68% 13 MB
|============================================ | 69% 13 MB
|============================================ | 69% 13 MB
|============================================= | 69% 13 MB
|============================================= | 69% 13 MB
|============================================= | 69% 13 MB
|============================================= | 69% 13 MB
|============================================= | 69% 13 MB
|============================================= | 69% 13 MB
|============================================= | 69% 13 MB
|============================================= | 69% 13 MB
|============================================= | 70% 13 MB
|============================================= | 70% 13 MB
|============================================= | 70% 13 MB
|============================================= | 70% 13 MB
|============================================= | 70% 13 MB
|============================================= | 70% 13 MB
|============================================= | 70% 13 MB
|============================================= | 70% 13 MB
|============================================== | 70% 13 MB
|============================================== | 70% 14 MB
|============================================== | 71% 14 MB
|============================================== | 71% 14 MB
|============================================== | 71% 14 MB
|============================================== | 71% 14 MB
|============================================== | 71% 14 MB
|============================================== | 71% 14 MB
|============================================== | 71% 14 MB
|============================================== | 71% 14 MB
|============================================== | 71% 14 MB
|============================================== | 71% 14 MB
|============================================== | 72% 14 MB
|============================================== | 72% 14 MB
|============================================== | 72% 14 MB
|=============================================== | 72% 14 MB
|=============================================== | 72% 14 MB
|=============================================== | 72% 14 MB
|=============================================== | 72% 14 MB
|=============================================== | 72% 14 MB
|=============================================== | 72% 14 MB
|=============================================== | 72% 14 MB
|=============================================== | 73% 14 MB
|=============================================== | 73% 14 MB
|=============================================== | 73% 14 MB
|=============================================== | 73% 14 MB
|=============================================== | 73% 14 MB
|=============================================== | 73% 14 MB
|=============================================== | 73% 14 MB
|=============================================== | 73% 14 MB
|=============================================== | 73% 14 MB
|================================================ | 73% 14 MB
|================================================ | 74% 14 MB
|================================================ | 74% 14 MB
|================================================ | 74% 14 MB
|================================================ | 74% 14 MB
|================================================ | 74% 14 MB
|================================================ | 74% 14 MB
|================================================ | 74% 14 MB
|================================================ | 74% 14 MB
|================================================ | 74% 14 MB
|================================================ | 74% 14 MB
|================================================ | 75% 14 MB
|================================================ | 75% 14 MB
|================================================ | 75% 14 MB
|================================================ | 75% 14 MB
|================================================= | 75% 14 MB
|================================================= | 75% 14 MB
|================================================= | 75% 14 MB
|================================================= | 75% 14 MB
|================================================= | 75% 14 MB
|================================================= | 75% 15 MB
|================================================= | 76% 15 MB
|================================================= | 76% 15 MB
|================================================= | 76% 15 MB
|================================================= | 76% 15 MB
|================================================= | 76% 15 MB
|================================================= | 76% 15 MB
|================================================= | 76% 15 MB
|================================================= | 76% 15 MB
|================================================= | 76% 15 MB
|================================================= | 76% 15 MB
|================================================== | 77% 15 MB
|================================================== | 77% 15 MB
|================================================== | 77% 15 MB
|================================================== | 77% 15 MB
|================================================== | 77% 15 MB
|================================================== | 77% 15 MB
|================================================== | 77% 15 MB
|================================================== | 77% 15 MB
|================================================== | 77% 15 MB
|================================================== | 77% 15 MB
|================================================== | 77% 15 MB
|================================================== | 78% 15 MB
|================================================== | 78% 15 MB
|================================================== | 78% 15 MB
|================================================== | 78% 15 MB
|=================================================== | 78% 15 MB
|=================================================== | 78% 15 MB
|=================================================== | 78% 15 MB
|=================================================== | 78% 15 MB
|=================================================== | 78% 15 MB
|=================================================== | 78% 15 MB
|=================================================== | 79% 15 MB
|=================================================== | 79% 15 MB
|=================================================== | 79% 15 MB
|=================================================== | 79% 15 MB
|=================================================== | 79% 15 MB
|=================================================== | 79% 15 MB
|=================================================== | 79% 15 MB
|=================================================== | 79% 15 MB
|=================================================== | 79% 15 MB
|=================================================== | 79% 15 MB
|==================================================== | 80% 15 MB
|==================================================== | 80% 15 MB
|==================================================== | 80% 15 MB
|==================================================== | 80% 15 MB
|==================================================== | 80% 15 MB
|==================================================== | 80% 15 MB
|==================================================== | 80% 15 MB
|==================================================== | 80% 15 MB
|==================================================== | 80% 15 MB
|==================================================== | 80% 15 MB
|==================================================== | 81% 16 MB
|==================================================== | 81% 16 MB
|==================================================== | 81% 16 MB
|==================================================== | 81% 16 MB
|==================================================== | 81% 16 MB
|===================================================== | 81% 16 MB
|===================================================== | 81% 16 MB
|===================================================== | 81% 16 MB
|===================================================== | 81% 16 MB
|===================================================== | 81% 16 MB
|===================================================== | 82% 16 MB
|===================================================== | 82% 16 MB
|===================================================== | 82% 16 MB
|===================================================== | 82% 16 MB
|===================================================== | 82% 16 MB
|===================================================== | 82% 16 MB
|===================================================== | 82% 16 MB
|===================================================== | 82% 16 MB
|===================================================== | 82% 16 MB
|===================================================== | 82% 16 MB
|===================================================== | 83% 16 MB
|====================================================== | 83% 16 MB
|====================================================== | 83% 16 MB
|====================================================== | 83% 16 MB
|====================================================== | 83% 16 MB
|====================================================== | 83% 16 MB
|====================================================== | 83% 16 MB
|====================================================== | 83% 16 MB
|====================================================== | 83% 16 MB
|====================================================== | 83% 16 MB
|====================================================== | 84% 16 MB
|====================================================== | 84% 16 MB
|====================================================== | 84% 16 MB
|====================================================== | 84% 16 MB
|====================================================== | 84% 16 MB
|====================================================== | 84% 16 MB
|======================================================= | 84% 16 MB
|======================================================= | 84% 16 MB
|======================================================= | 84% 16 MB
|======================================================= | 84% 16 MB
|======================================================= | 85% 16 MB
|======================================================= | 85% 16 MB
|======================================================= | 85% 16 MB
|======================================================= | 85% 16 MB
|======================================================= | 85% 16 MB
|======================================================= | 85% 16 MB
|======================================================= | 85% 16 MB
|======================================================= | 85% 16 MB
|======================================================= | 85% 16 MB
|======================================================= | 85% 16 MB
|======================================================= | 86% 17 MB
|======================================================= | 86% 17 MB
|======================================================== | 86% 17 MB
|======================================================== | 86% 17 MB
|======================================================== | 86% 17 MB
|======================================================== | 86% 17 MB
|======================================================== | 86% 17 MB
|======================================================== | 86% 17 MB
|======================================================== | 86% 17 MB
|======================================================== | 86% 17 MB
|======================================================== | 87% 17 MB
|======================================================== | 87% 17 MB
|======================================================== | 87% 17 MB
|======================================================== | 87% 17 MB
|======================================================== | 87% 17 MB
|======================================================== | 87% 17 MB
|======================================================== | 87% 17 MB
|========================================================= | 87% 17 MB
|========================================================= | 87% 17 MB
|========================================================= | 87% 17 MB
|========================================================= | 88% 17 MB
|========================================================= | 88% 17 MB
|========================================================= | 88% 17 MB
|========================================================= | 88% 17 MB
|========================================================= | 88% 17 MB
|========================================================= | 88% 17 MB
|========================================================= | 88% 17 MB
|========================================================= | 88% 17 MB
|========================================================= | 88% 17 MB
|========================================================= | 88% 17 MB
|========================================================= | 89% 17 MB
|========================================================= | 89% 17 MB
|========================================================== | 89% 17 MB
|========================================================== | 89% 17 MB
|========================================================== | 89% 17 MB
|========================================================== | 89% 17 MB
|========================================================== | 89% 17 MB
|========================================================== | 89% 17 MB
|========================================================== | 89% 17 MB
|========================================================== | 89% 17 MB
|========================================================== | 90% 17 MB
|========================================================== | 90% 17 MB
|========================================================== | 90% 17 MB
|========================================================== | 90% 17 MB
|========================================================== | 90% 17 MB
|========================================================== | 90% 17 MB
|========================================================== | 90% 17 MB
|========================================================== | 90% 17 MB
|=========================================================== | 90% 17 MB
|=========================================================== | 90% 17 MB
|=========================================================== | 91% 17 MB
|=========================================================== | 91% 18 MB
|=========================================================== | 91% 18 MB
|=========================================================== | 91% 18 MB
|=========================================================== | 91% 18 MB
|=========================================================== | 91% 18 MB
|=========================================================== | 91% 18 MB
|=========================================================== | 91% 18 MB
|=========================================================== | 91% 18 MB
|=========================================================== | 91% 18 MB
|=========================================================== | 92% 18 MB
|=========================================================== | 92% 18 MB
|=========================================================== | 92% 18 MB
|============================================================ | 92% 18 MB
|============================================================ | 92% 18 MB
|============================================================ | 92% 18 MB
|============================================================ | 92% 18 MB
|============================================================ | 92% 18 MB
|============================================================ | 92% 18 MB
|============================================================ | 92% 18 MB
|============================================================ | 93% 18 MB
|============================================================ | 93% 18 MB
|============================================================ | 93% 18 MB
|============================================================ | 93% 18 MB
|============================================================ | 93% 18 MB
|============================================================ | 93% 18 MB
|============================================================ | 93% 18 MB
|============================================================ | 93% 18 MB
|============================================================ | 93% 18 MB
|============================================================= | 93% 18 MB
|============================================================= | 94% 18 MB
|============================================================= | 94% 18 MB
|============================================================= | 94% 18 MB
|============================================================= | 94% 18 MB
|============================================================= | 94% 18 MB
|============================================================= | 94% 18 MB
|============================================================= | 94% 18 MB
|============================================================= | 94% 18 MB
|============================================================= | 94% 18 MB
|============================================================= | 94% 18 MB
|============================================================= | 95% 18 MB
|============================================================= | 95% 18 MB
|============================================================= | 95% 18 MB
|============================================================= | 95% 18 MB
|============================================================== | 95% 18 MB
|============================================================== | 95% 18 MB
|============================================================== | 95% 18 MB
|============================================================== | 95% 18 MB
|============================================================== | 95% 18 MB
|============================================================== | 95% 18 MB
|============================================================== | 96% 18 MB
|============================================================== | 96% 18 MB
|============================================================== | 96% 19 MB
|============================================================== | 96% 19 MB
|============================================================== | 96% 19 MB
|============================================================== | 96% 19 MB
|============================================================== | 96% 19 MB
|============================================================== | 96% 19 MB
|============================================================== | 96% 19 MB
|============================================================== | 96% 19 MB
|=============================================================== | 97% 19 MB
|=============================================================== | 97% 19 MB
|=============================================================== | 97% 19 MB
|=============================================================== | 97% 19 MB
|=============================================================== | 97% 19 MB
|=============================================================== | 97% 19 MB
|=============================================================== | 97% 19 MB
|=============================================================== | 97% 19 MB
|=============================================================== | 97% 19 MB
|=============================================================== | 97% 19 MB
|=============================================================== | 98% 19 MB
|=============================================================== | 98% 19 MB
|=============================================================== | 98% 19 MB
|=============================================================== | 98% 19 MB
|=============================================================== | 98% 19 MB
|================================================================| 98% 19 MB
|================================================================| 98% 19 MB
|================================================================| 98% 19 MB
|================================================================| 98% 19 MB
|================================================================| 98% 19 MB
|================================================================| 98% 19 MB
|================================================================| 99% 19 MB
|================================================================| 99% 19 MB
|================================================================| 99% 19 MB
|================================================================| 99% 19 MB
|================================================================| 99% 19 MB
|================================================================| 99% 19 MB
|================================================================| 99% 19 MB
|================================================================| 99% 19 MB
|================================================================| 99% 19 MB
|================================================================| 99% 19 MB
|=================================================================| 100% 19 MB
Downloading: 7.8 kB
Downloading: 7.8 kB
Downloading: 49 kB
Downloading: 49 kB
Downloading: 57 kB
Downloading: 57 kB
Downloading: 66 kB
Downloading: 66 kB
Downloading: 120 kB
Downloading: 120 kB
Downloading: 130 kB
Downloading: 130 kB
Downloading: 190 kB
Downloading: 190 kB
Downloading: 190 kB
Downloading: 190 kB
Downloading: 200 kB
Downloading: 200 kB
Downloading: 300 kB
Downloading: 300 kB
Downloading: 320 kB
Downloading: 320 kB
Downloading: 320 kB
Downloading: 320 kB
Downloading: 320 kB
Downloading: 320 kB
Downloading: 470 kB
Downloading: 470 kB
Downloading: 480 kB
Downloading: 480 kB
Downloading: 560 kB
Downloading: 560 kB
Downloading: 580 kB
Downloading: 580 kB
Downloading: 680 kB
Downloading: 680 kB
Downloading: 700 kB
Downloading: 700 kB
Downloading: 740 kB
Downloading: 740 kB
Downloading: 750 kB
Downloading: 750 kB
Downloading: 820 kB
Downloading: 820 kB
Downloading: 900 kB
Downloading: 900 kB
Downloading: 970 kB
Downloading: 970 kB
Downloading: 1 MB
Downloading: 1 MB
Downloading: 1.2 MB
Downloading: 1.2 MB
Downloading: 1.2 MB
Downloading: 1.2 MB
Downloading: 1.2 MB
Downloading: 1.2 MB
Downloading: 1.3 MB
Downloading: 1.3 MB
Downloading: 1.3 MB
Downloading: 1.3 MB
Downloading: 1.3 MB
Downloading: 1.3 MB
Downloading: 1.4 MB
Downloading: 1.4 MB
Downloading: 1.4 MB
Downloading: 1.4 MB
Downloading: 1.5 MB
Downloading: 1.5 MB
Downloading: 1.5 MB
Downloading: 1.5 MB
Downloading: 1.5 MB
Downloading: 1.5 MB
Downloading: 1.6 MB
Downloading: 1.6 MB
Downloading: 1.7 MB
Downloading: 1.7 MB
Downloading: 1.8 MB
Downloading: 1.8 MB
Downloading: 1.8 MB
Downloading: 1.8 MB
Downloading: 1.9 MB
Downloading: 1.9 MB
Downloading: 1.9 MB
Downloading: 1.9 MB
Downloading: 1.9 MB
Downloading: 1.9 MB
Downloading: 2 MB
Downloading: 2 MB
Downloading: 2 MB
Downloading: 2 MB
Downloading: 2.1 MB
Downloading: 2.1 MB
Downloading: 2.1 MB
Downloading: 2.1 MB
Downloading: 2.3 MB
Downloading: 2.3 MB
Downloading: 2.3 MB
Downloading: 2.3 MB
Downloading: 2.4 MB
Downloading: 2.4 MB
Downloading: 2.4 MB
Downloading: 2.4 MB
Downloading: 2.4 MB
Downloading: 2.4 MB
Downloading: 2.4 MB
Downloading: 2.4 MB
Downloading: 2.5 MB
Downloading: 2.5 MB
Downloading: 2.5 MB
Downloading: 2.5 MB
Downloading: 2.6 MB
Downloading: 2.6 MB
Downloading: 2.7 MB
Downloading: 2.7 MB
Downloading: 2.7 MB
Downloading: 2.7 MB
Downloading: 2.7 MB
Downloading: 2.7 MB
Downloading: 2.7 MB
Downloading: 2.7 MB
Downloading: 2.7 MB
Downloading: 2.7 MB
Downloading: 2.7 MB
Downloading: 2.7 MB
Downloading: 2.7 MB
Downloading: 2.7 MB
Downloading: 2.9 MB
Downloading: 2.9 MB
Downloading: 2.9 MB
Downloading: 2.9 MB
Downloading: 3 MB
Downloading: 3 MB
Downloading: 3.1 MB
Downloading: 3.1 MB
Downloading: 3.2 MB
Downloading: 3.2 MB
Downloading: 3.2 MB
Downloading: 3.2 MB
Downloading: 3.2 MB
Downloading: 3.2 MB
Downloading: 3.2 MB
Downloading: 3.2 MB
Downloading: 3.2 MB
Downloading: 3.2 MB
Downloading: 3.3 MB
Downloading: 3.3 MB
Downloading: 3.3 MB
Downloading: 3.3 MB
Downloading: 3.4 MB
Downloading: 3.4 MB
Downloading: 3.4 MB
Downloading: 3.4 MB
Downloading: 3.4 MB
Downloading: 3.4 MB
Downloading: 3.4 MB
Downloading: 3.4 MB
Downloading: 3.5 MB
Downloading: 3.5 MB
Downloading: 3.5 MB
Downloading: 3.5 MB
Downloading: 3.5 MB
Downloading: 3.5 MB
Downloading: 3.6 MB
Downloading: 3.6 MB
Downloading: 3.6 MB
Downloading: 3.6 MB
Downloading: 3.6 MB
Downloading: 3.6 MB
Downloading: 3.6 MB
Downloading: 3.6 MB
Downloading: 3.6 MB
Downloading: 3.6 MB
Downloading: 3.7 MB
Downloading: 3.7 MB
Downloading: 3.7 MB
Downloading: 3.7 MB
Downloading: 3.7 MB
Downloading: 3.7 MB
Downloading: 3.8 MB
Downloading: 3.8 MB
Downloading: 3.8 MB
Downloading: 3.8 MB
Downloading: 3.9 MB
Downloading: 3.9 MB
Downloading: 3.9 MB
Downloading: 3.9 MB
Downloading: 3.9 MB
Downloading: 3.9 MB
Downloading: 4 MB
Downloading: 4 MB
Downloading: 4 MB
Downloading: 4 MB
Downloading: 4 MB
Downloading: 4 MB
Downloading: 4 MB
Downloading: 4 MB
Downloading: 4 MB
Downloading: 4 MB
Downloading: 4.1 MB
Downloading: 4.1 MB
Downloading: 4.1 MB
Downloading: 4.1 MB
Downloading: 4.2 MB
Downloading: 4.2 MB
Downloading: 4.3 MB
Downloading: 4.3 MB
Downloading: 4.3 MB
Downloading: 4.3 MB
Downloading: 4.3 MB
Downloading: 4.3 MB
Downloading: 4.3 MB
Downloading: 4.3 MB
Downloading: 4.3 MB
Downloading: 4.3 MB
Downloading: 4.4 MB
Downloading: 4.4 MB
Downloading: 4.5 MB
Downloading: 4.5 MB
Downloading: 4.5 MB
Downloading: 4.5 MB
Downloading: 4.5 MB
Downloading: 4.5 MB
Downloading: 4.6 MB
Downloading: 4.6 MB
Downloading: 4.6 MB
Downloading: 4.6 MB
Downloading: 4.7 MB
Downloading: 4.7 MB
Downloading: 4.7 MB
Downloading: 4.7 MB
Downloading: 4.7 MB
Downloading: 4.7 MB
Downloading: 4.7 MB
Downloading: 4.7 MB
Downloading: 4.7 MB
Downloading: 4.7 MB
Downloading: 4.7 MB
Downloading: 4.7 MB
Downloading: 5 MB
Downloading: 5 MB
Downloading: 5 MB
Downloading: 5 MB
Downloading: 5 MB
Downloading: 5 MB
Downloading: 5 MB
Downloading: 5 MB
Downloading: 5.1 MB
Downloading: 5.1 MB
Downloading: 5.1 MB
Downloading: 5.1 MB
Downloading: 5.2 MB
Downloading: 5.2 MB
Downloading: 5.2 MB
Downloading: 5.2 MB
Downloading: 5.2 MB
Downloading: 5.2 MB
Downloading: 5.2 MB
Downloading: 5.2 MB
Downloading: 5.2 MB
Downloading: 5.2 MB
Downloading: 5.2 MB
Downloading: 5.2 MB
Downloading: 5.3 MB
Downloading: 5.3 MB
Downloading: 5.3 MB
Downloading: 5.3 MB
Downloading: 5.4 MB
Downloading: 5.4 MB
Downloading: 5.4 MB
Downloading: 5.4 MB
Downloading: 5.5 MB
Downloading: 5.5 MB
Downloading: 5.5 MB
Downloading: 5.5 MB
Downloading: 5.5 MB
Downloading: 5.5 MB
Downloading: 5.5 MB
Downloading: 5.5 MB
Downloading: 5.6 MB
Downloading: 5.6 MB
Downloading: 5.6 MB
Downloading: 5.6 MB
Downloading: 5.6 MB
Downloading: 5.6 MB
Downloading: 5.6 MB
Downloading: 5.6 MB
Downloading: 5.6 MB
Downloading: 5.6 MB
Downloading: 5.6 MB
Downloading: 5.6 MB
Downloading: 5.7 MB
Downloading: 5.7 MB
Downloading: 5.7 MB
Downloading: 5.7 MB
Downloading: 5.7 MB
Downloading: 5.7 MB
Downloading: 5.7 MB
Downloading: 5.7 MB
Downloading: 5.7 MB
Downloading: 5.7 MB
Downloading: 5.7 MB
Downloading: 5.7 MB
Downloading: 5.7 MB
Downloading: 5.7 MB
Downloading: 5.7 MB
Downloading: 5.7 MB
Downloading: 5.7 MB
Downloading: 5.7 MB
Downloading: 6 MB
Downloading: 6 MB
Downloading: 6.4 MB
Downloading: 6.4 MB
Downloading: 6.4 MB
Downloading: 6.4 MB
Downloading: 6.5 MB
Downloading: 6.5 MB
Downloading: 6.5 MB
Downloading: 6.5 MB
Downloading: 6.7 MB
Downloading: 6.7 MB
Downloading: 6.7 MB
Downloading: 6.7 MB
Downloading: 6.9 MB
Downloading: 6.9 MB
Downloading: 6.9 MB
Downloading: 6.9 MB
Downloading: 7.1 MB
Downloading: 7.1 MB
Downloading: 7.1 MB
Downloading: 7.1 MB
Downloading: 7.3 MB
Downloading: 7.3 MB
Downloading: 7.4 MB
Downloading: 7.4 MB
Downloading: 7.4 MB
Downloading: 7.4 MB
Downloading: 7.5 MB
Downloading: 7.5 MB
Downloading: 7.5 MB
Downloading: 7.5 MB
Downloading: 7.5 MB
Downloading: 7.5 MB
Downloading: 7.6 MB
Downloading: 7.6 MB
Downloading: 7.7 MB
Downloading: 7.7 MB
Downloading: 7.7 MB
Downloading: 7.7 MB
Downloading: 7.8 MB
Downloading: 7.8 MB
Downloading: 7.8 MB
Downloading: 7.8 MB
Downloading: 7.8 MB
Downloading: 7.8 MB
Downloading: 7.9 MB
Downloading: 7.9 MB
Downloading: 8 MB
Downloading: 8 MB
Downloading: 8 MB
Downloading: 8 MB
Downloading: 8 MB
Downloading: 8 MB
Downloading: 8 MB
Downloading: 8 MB
Downloading: 8.1 MB
Downloading: 8.1 MB
Downloading: 8.1 MB
Downloading: 8.1 MB
Downloading: 8.2 MB
Downloading: 8.2 MB
Downloading: 8.3 MB
Downloading: 8.3 MB
Downloading: 8.3 MB
Downloading: 8.3 MB
Downloading: 8.3 MB
Downloading: 8.3 MB
Downloading: 8.3 MB
Downloading: 8.3 MB
Downloading: 8.4 MB
Downloading: 8.4 MB
Downloading: 8.6 MB
Downloading: 8.6 MB
Downloading: 8.6 MB
Downloading: 8.6 MB
Downloading: 8.6 MB
Downloading: 8.6 MB trying URL 'http://zwdzwd.io/InfiniumAnnotation/current/hm450/hm450.hg19.manifest.rds'
Content type 'ð= Žø' length 26177984 bytes (25.0 MB)
==================================================
downloaded 25.0 MB
-- 2. Failure: GDCquery can filter by data.category (@test-query.R#6) ---------
length(unique(query$results[[1]]$data_type)) not equal to 3.
1/1 mismatches
[1] 5 - 3 == 2
|
| | 0%
|
| | 1%
|
|= | 1%
|
|= | 2%
|
|== | 3%
|
|=== | 4%
|
|=== | 5%
|
|==== | 6%
|
|===== | 7%
|
|===== | 8%
|
|====== | 8%
|
|======= | 10%
|
|======== | 11%
|
|========= | 13%
|
|========== | 14%
|
|========== | 15%
|
|=========== | 16%
|
|============ | 17%
|
|============= | 18%
|
|============== | 19%
|
|=============== | 21%
|
|=============== | 22%
|
|================ | 23%
|
|================= | 24%
|
|================== | 26%
|
|=================== | 27%
|
|==================== | 28%
|
|===================== | 31%
|
|====================== | 31%
|
|====================== | 32%
|
|======================= | 33%
|
|======================== | 35%
|
|========================= | 35%
|
|========================= | 36%
|
|=========================== | 38%
|
|=========================== | 39%
|
|============================ | 40%
|
|============================= | 41%
|
|============================= | 42%
|
|============================== | 42%
|
|============================== | 43%
|
|=============================== | 44%
|
|=============================== | 45%
|
|================================ | 45%
|
|================================ | 46%
|
|================================= | 47%
|
|================================== | 48%
|
|=================================== | 49%
|
|==================================== | 51%
|
|===================================== | 52%
|
|===================================== | 53%
|
|===================================== | 54%
|
|====================================== | 54%
|
|====================================== | 55%
|
|======================================= | 56%
|
|======================================== | 57%
|
|======================================== | 58%
|
|========================================= | 58%
|
|========================================= | 59%
|
|========================================== | 60%
|
|========================================== | 61%
|
|=========================================== | 61%
|
|=========================================== | 62%
|
|============================================ | 63%
|
|============================================= | 64%
|
|============================================= | 65%
|
|============================================== | 65%
|
|============================================== | 66%
|
|=============================================== | 68%
|
|================================================ | 68%
|
|================================================= | 70%
|
|================================================== | 71%
|
|================================================== | 72%
|
|=================================================== | 72%
|
|=================================================== | 73%
|
|==================================================== | 74%
|
|===================================================== | 75%
|
|===================================================== | 76%
|
|====================================================== | 77%
|
|======================================================= | 78%
|
|======================================================= | 79%
|
|======================================================== | 79%
|
|======================================================== | 80%
|
|========================================================= | 81%
|
|========================================================= | 82%
|
|========================================================== | 83%
|
|========================================================== | 84%
|
|=========================================================== | 84%
|
|=========================================================== | 85%
|
|============================================================ | 86%
|
|============================================================= | 87%
|
|============================================================= | 88%
|
|============================================================== | 88%
|
|============================================================== | 89%
|
|=============================================================== | 90%
|
|================================================================= | 93%
|
|================================================================== | 94%
|
|================================================================== | 95%
|
|=================================================================== | 95%
|
|=================================================================== | 96%
|
|==================================================================== | 97%
|
|===================================================================== | 98%
|
|===================================================================== | 99%
|
|======================================================================| 100%
<simpleWarning in file.create(to[okay]): cannot create file 'GDCdata/TCGA-ACC/harmonized/Simple_Nucleotide_Variation/Masked_Somatic_Mutation/9d298cc7-71d2-43f5-835d-d7ef7a43bb11/TCGA.ACC.muse.9d298cc7-71d2-43f5-835d-d7ef7a43bb11.DR-10.0.somatic.maf.gz', reason 'No such file or directory'>
|
| | 0%
|
|= | 1%
|
|= | 2%
|
|== | 2%
|
|== | 3%
|
|=== | 4%
|
|=== | 5%
|
|==== | 5%
|
|==== | 6%
|
|===== | 7%
|
|====== | 8%
|
|====== | 9%
|
|======= | 9%
|
|======= | 10%
|
|======== | 11%
|
|========= | 12%
|
|========== | 14%
|
|========== | 15%
|
|=========== | 16%
|
|============ | 17%
|
|============ | 18%
|
|============= | 18%
|
|============= | 19%
|
|============== | 20%
|
|============== | 21%
|
|=============== | 21%
|
|=============== | 22%
|
|================ | 23%
|
|================= | 24%
|
|================= | 25%
|
|================== | 25%
|
|================== | 26%
|
|=================== | 27%
|
|=================== | 28%
|
|==================== | 28%
|
|==================== | 29%
|
|===================== | 30%
|
|====================== | 31%
|
|====================== | 32%
|
|======================= | 32%
|
|======================= | 33%
|
|======================== | 34%
|
|======================== | 35%
|
|========================= | 35%
|
|========================= | 36%
|
|========================== | 37%
|
|=========================== | 38%
|
|=========================== | 39%
|
|============================ | 39%
|
|============================ | 40%
|
|============================= | 41%
|
|============================= | 42%
|
|============================== | 42%
|
|============================== | 43%
|
|=============================== | 44%
|
|================================= | 47%
|
|================================== | 48%
|
|================================== | 49%
|
|=================================== | 49%
|
|=================================== | 50%
|
|==================================== | 51%
|
|==================================== | 52%
|
|===================================== | 52%
|
|===================================== | 53%
|
|===================================== | 54%
|
|====================================== | 54%
|
|====================================== | 55%
|
|======================================= | 56%
|
|======================================== | 57%
|
|======================================== | 58%
|
|========================================= | 58%
|
|========================================= | 59%
|
|========================================== | 60%
|
|=========================================== | 62%
|
|============================================ | 63%
|
|============================================= | 64%
|
|============================================= | 65%
|
|============================================== | 65%
|
|============================================== | 66%
|
|=============================================== | 67%
|
|=============================================== | 68%
|
|================================================ | 68%
|
|================================================ | 69%
|
|================================================= | 70%
|
|================================================== | 71%
|
|================================================== | 72%
|
|=================================================== | 72%
|
|=================================================== | 73%
|
|==================================================== | 74%
|
|===================================================== | 75%
|
|===================================================== | 76%
|
|====================================================== | 76%
|
|====================================================== | 77%
|
|======================================================= | 78%
|
|======================================================= | 79%
|
|======================================================== | 80%
|
|======================================================== | 81%
|
|========================================================= | 81%
|
|========================================================= | 82%
|
|========================================================== | 83%
|
|=========================================================== | 84%
|
|=========================================================== | 85%
|
|============================================================ | 86%
|
|============================================================= | 87%
|
|============================================================= | 88%
|
|============================================================== | 88%
|
|============================================================== | 89%
|
|=============================================================== | 90%
|
|================================================================= | 93%
|
|================================================================== | 94%
|
|================================================================== | 95%
|
|=================================================================== | 95%
|
|=================================================================== | 96%
|
|==================================================================== | 97%
|
|===================================================================== | 98%
|
|===================================================================== | 99%
|
|======================================================================| 100%
|
| | 0%
|
| | 1%
|
|= | 1%
|
|= | 2%
|
|== | 2%
|
|== | 3%
|
|=== | 4%
|
|==== | 5%
|
|==== | 6%
|
|===== | 7%
|
|====== | 8%
|
|====== | 9%
|
|======= | 9%
|
|======= | 10%
|
|======== | 11%
|
|========= | 13%
|
|========== | 14%
|
|========== | 15%
|
|=========== | 16%
|
|============ | 17%
|
|============ | 18%
|
|============= | 18%
|
|============= | 19%
|
|============== | 20%
|
|============== | 21%
|
|=============== | 21%
|
|=============== | 22%
|
|================ | 23%
|
|================= | 24%
|
|================= | 25%
|
|================== | 25%
|
|================== | 26%
|
|=================== | 28%
|
|==================== | 28%
|
|==================== | 29%
|
|===================== | 30%
|
|====================== | 31%
|
|====================== | 32%
|
|======================= | 32%
|
|======================= | 33%
|
|======================== | 34%
|
|======================== | 35%
|
|========================= | 35%
|
|========================= | 36%
|
|========================== | 37%
|
|=========================== | 39%
|
|============================ | 39%
|
|============================ | 40%
|
|============================= | 41%
|
|============================= | 42%
|
|============================== | 43%
|
|============================== | 44%
|
|=============================== | 44%
|
|================================ | 46%
|
|================================= | 47%
|
|================================= | 48%
|
|================================== | 49%
|
|=================================== | 50%
|
|==================================== | 51%
|
|==================================== | 52%
|
|===================================== | 53%
|
|====================================== | 54%
|
|====================================== | 55%
|
|======================================= | 55%
|
|======================================= | 56%
|
|======================================== | 57%
|
|======================================== | 58%
|
|========================================= | 58%
|
|========================================= | 59%
|
|========================================== | 60%
|
|=========================================== | 61%
|
|=========================================== | 62%
|
|============================================ | 62%
|
|============================================ | 63%
|
|============================================= | 65%
|
|============================================== | 65%
|
|============================================== | 66%
|
|=============================================== | 67%
|
|================================================ | 68%
|
|================================================ | 69%
|
|================================================= | 69%
|
|================================================= | 70%
|
|================================================== | 71%
|
|================================================== | 72%
|
|=================================================== | 73%
|
|=================================================== | 74%
|
|==================================================== | 74%
|
|==================================================== | 75%
|
|===================================================== | 76%
|
|====================================================== | 77%
|
|====================================================== | 78%
|
|======================================================= | 78%
|
|======================================================= | 79%
|
|======================================================== | 80%
|
|======================================================== | 81%
|
|========================================================= | 81%
|
|========================================================= | 82%
|
|========================================================== | 83%
|
|=========================================================== | 84%
|
|=========================================================== | 85%
|
|============================================================ | 85%
|
|============================================================ | 86%
|
|============================================================= | 87%
|
|============================================================== | 88%
|
|============================================================== | 89%
|
|================================================================ | 91%
|
|================================================================ | 92%
|
|================================================================= | 92%
|
|================================================================= | 93%
|
|================================================================== | 94%
|
|=================================================================== | 95%
|
|=================================================================== | 96%
|
|==================================================================== | 96%
|
|===================================================================== | 98%
|
|===================================================================== | 99%
|
|======================================================================| 100%
<simpleWarning in file.create(to[okay]): cannot create file 'maf/TCGA-ACC/harmonized/Simple_Nucleotide_Variation/Masked_Somatic_Mutation/9d298cc7-71d2-43f5-835d-d7ef7a43bb11/TCGA.ACC.muse.9d298cc7-71d2-43f5-835d-d7ef7a43bb11.DR-10.0.somatic.maf.gz', reason 'No such file or directory'>
|
| | 0%
|
| | 1%
|
|= | 1%
|
|= | 2%
|
|== | 3%
|
|=== | 4%
|
|=== | 5%
|
|==== | 6%
|
|===== | 7%
|
|===== | 8%
|
|====== | 8%
|
|====== | 9%
|
|======= | 10%
|
|======== | 11%
|
|======== | 12%
|
|========= | 13%
|
|========== | 14%
|
|========== | 15%
|
|=========== | 15%
|
|=========== | 16%
|
|============ | 17%
|
|============= | 18%
|
|============= | 19%
|
|============== | 20%
|
|=============== | 21%
|
|=============== | 22%
|
|================ | 22%
|
|================ | 23%
|
|================= | 24%
|
|================== | 25%
|
|================== | 26%
|
|=================== | 27%
|
|==================== | 28%
|
|==================== | 29%
|
|===================== | 30%
|
|===================== | 31%
|
|====================== | 31%
|
|====================== | 32%
|
|======================= | 33%
|
|======================== | 34%
|
|======================== | 35%
|
|========================= | 36%
|
|========================== | 37%
|
|========================== | 38%
|
|=========================== | 38%
|
|=========================== | 39%
|
|============================ | 40%
|
|============================= | 41%
|
|============================= | 42%
|
|============================== | 43%
|
|=============================== | 44%
|
|=============================== | 45%
|
|================================ | 45%
|
|================================= | 47%
|
|================================== | 48%
|
|================================== | 49%
|
|=================================== | 49%
|
|=================================== | 50%
|
|==================================== | 51%
|
|==================================== | 52%
|
|===================================== | 52%
|
|===================================== | 53%
|
|====================================== | 54%
|
|======================================= | 55%
|
|======================================= | 56%
|
|======================================== | 56%
|
|======================================== | 57%
|
|======================================== | 58%
|
|========================================= | 59%
|
|========================================== | 60%
|
|========================================== | 61%
|
|=========================================== | 61%
|
|=========================================== | 62%
|
|============================================ | 63%
|
|============================================= | 64%
|
|============================================= | 65%
|
|============================================== | 66%
|
|=============================================== | 67%
|
|=============================================== | 68%
|
|================================================ | 68%
|
|================================================ | 69%
|
|================================================= | 70%
|
|================================================== | 71%
|
|================================================== | 72%
|
|=================================================== | 72%
|
|=================================================== | 73%
|
|==================================================== | 74%
|
|==================================================== | 75%
|
|===================================================== | 75%
|
|===================================================== | 76%
|
|====================================================== | 77%
|
|======================================================= | 78%
|
|======================================================= | 79%
|
|======================================================== | 79%
|
|======================================================== | 80%
|
|========================================================= | 81%
|
|========================================================= | 82%
|
|========================================================== | 82%
|
|========================================================== | 83%
|
|=========================================================== | 84%
|
|============================================================ | 85%
|
|============================================================ | 86%
|
|============================================================= | 86%
|
|============================================================= | 87%
|
|============================================================= | 88%
|
|============================================================== | 89%
|
|================================================================== | 95%
|
|=================================================================== | 96%
|
|==================================================================== | 97%
|
|==================================================================== | 98%
|
|===================================================================== | 98%
|
|===================================================================== | 99%
|
|======================================================================| 100%
[1] "I need about 1 minute to finish complete Enrichment analysis GO[BP,MF,CC] and Pathways... "
[1] "GO Enrichment Analysis BP completed....done"
[1] "GO Enrichment Analysis MF completed....done"
[1] "GO Enrichment Analysis CC completed....done"
[1] "Pathway Enrichment Analysis completed....done"
groups Mean Median Max Min
1 TP 0.3590198 0.3601768 0.4099433 0.3240056
groups Mean Median Max Min
1 TP 0.3590198 0.3601768 0.4099433 0.3240056
groups Mean Median Max Min
1 LGm1 0.3789137 0.3789137 0.3789137 0.3789137
2 LGm2 0.4099433 0.4099433 0.4099433 0.4099433
3 LGm4 0.3454189 0.3454189 0.3668322 0.3240056
4 LGm5 0.3481159 0.3524203 0.3608853 0.3267376
LGm1 LGm2 LGm4 LGm5
LGm1 NA NA NA NA
LGm2 NA NA NA NA
LGm4 NA NA NA 0.9217168
LGm5 NA NA 0.9217168 NA
groups Mean Median Max Min
1 LGm1 0.3789137 0.3789137 0.3789137 0.3789137
2 LGm2 0.4099433 0.4099433 0.4099433 0.4099433
3 LGm4 0.3454189 0.3454189 0.3668322 0.3240056
4 LGm5 0.3481159 0.3524203 0.3608853 0.3267376
LGm1 LGm2 LGm4 LGm5
LGm1 NA NA NA NA
LGm2 NA NA NA NA
LGm4 NA NA NA 0.9217168
LGm5 NA NA 0.9217168 NA
groups Mean Median Max Min
1 LGm1 0.3789137 0.3789137 0.3789137 0.3789137
2 LGm2 0.4099433 0.4099433 0.4099433 0.4099433
3 LGm4 0.3454189 0.3454189 0.3668322 0.3240056
4 LGm5 0.3481159 0.3524203 0.3608853 0.3267376
LGm1 LGm2 LGm4 LGm5
LGm1 NA NA NA NA
LGm2 NA NA NA NA
LGm4 NA NA NA 0.9217168
LGm5 NA NA 0.9217168 NA
groups Mean Median Max Min
1 alive 0.3594683 0.3594683 0.3594683 0.3594683
2 dead 0.3589557 0.3608853 0.4099433 0.3240056
alive dead
alive NA NA
dead NA NA
== testthat results ===========================================================
[ OK: 101 | SKIPPED: 0 | WARNINGS: 18 | FAILED: 2 ]
1. Error: Non TCGA data is processed (@test-prepare-download.R#111)
2. Failure: GDCquery can filter by data.category (@test-query.R#6)
Error: testthat unit tests failed
Execution halted
|
|
TCGAbiolinks.Rcheck/examples_i386/TCGAbiolinks-Ex.timings
|
TCGAbiolinks.Rcheck/examples_x64/TCGAbiolinks-Ex.timings
|