| Back to Multiple platform build/check report for BioC 3.10 |
|
This page was generated on 2020-04-15 12:25:00 -0400 (Wed, 15 Apr 2020).
| Package 1685/1823 | Hostname | OS / Arch | INSTALL | BUILD | CHECK | BUILD BIN | ||||||
| SummarizedExperiment 1.16.1 Bioconductor Package Maintainer
| malbec1 | Linux (Ubuntu 18.04.4 LTS) / x86_64 | OK | OK | OK | |||||||
| tokay1 | Windows Server 2012 R2 Standard / x64 | [ OK ] | OK | WARNINGS | OK | |||||||
| merida1 | OS X 10.11.6 El Capitan / x86_64 | OK | OK | OK | OK |
| Package: SummarizedExperiment |
| Version: 1.16.1 |
| Command: C:\cygwin\bin\curl.exe -O https://malbec1.bioconductor.org/BBS/3.10/bioc/src/contrib/SummarizedExperiment_1.16.1.tar.gz && rm -rf SummarizedExperiment.buildbin-libdir && mkdir SummarizedExperiment.buildbin-libdir && C:\Users\biocbuild\bbs-3.10-bioc\R\bin\R.exe CMD INSTALL --merge-multiarch --build --library=SummarizedExperiment.buildbin-libdir SummarizedExperiment_1.16.1.tar.gz && C:\Users\biocbuild\bbs-3.10-bioc\R\bin\R.exe CMD INSTALL SummarizedExperiment_1.16.1.zip && rm SummarizedExperiment_1.16.1.tar.gz SummarizedExperiment_1.16.1.zip |
| StartedAt: 2020-04-14 19:32:48 -0400 (Tue, 14 Apr 2020) |
| EndedAt: 2020-04-14 19:33:43 -0400 (Tue, 14 Apr 2020) |
| EllapsedTime: 55.7 seconds |
| RetCode: 0 |
| Status: OK |
##############################################################################
##############################################################################
###
### Running command:
###
### C:\cygwin\bin\curl.exe -O https://malbec1.bioconductor.org/BBS/3.10/bioc/src/contrib/SummarizedExperiment_1.16.1.tar.gz && rm -rf SummarizedExperiment.buildbin-libdir && mkdir SummarizedExperiment.buildbin-libdir && C:\Users\biocbuild\bbs-3.10-bioc\R\bin\R.exe CMD INSTALL --merge-multiarch --build --library=SummarizedExperiment.buildbin-libdir SummarizedExperiment_1.16.1.tar.gz && C:\Users\biocbuild\bbs-3.10-bioc\R\bin\R.exe CMD INSTALL SummarizedExperiment_1.16.1.zip && rm SummarizedExperiment_1.16.1.tar.gz SummarizedExperiment_1.16.1.zip
###
##############################################################################
##############################################################################
% Total % Received % Xferd Average Speed Time Time Time Current
Dload Upload Total Spent Left Speed
0 0 0 0 0 0 0 0 --:--:-- --:--:-- --:--:-- 0
12 922k 12 112k 0 0 672k 0 0:00:01 --:--:-- 0:00:01 682k
100 922k 100 922k 0 0 4628k 0 --:--:-- --:--:-- --:--:-- 4704k
install for i386
* installing *source* package 'SummarizedExperiment' ...
** using staged installation
** R
** inst
** byte-compile and prepare package for lazy loading
** help
*** installing help indices
converting help for package 'SummarizedExperiment'
finding HTML links ... done
Assays-class html
Rd warning: C:/Users/biocbuild/bbs-3.10-bioc/tmpdir/Rtmpw9B3yD/R.INSTALL1ab0ffa11ad/SummarizedExperiment/man/Assays-class.Rd:71: file link 'SimpleList' in package 'S4Vectors' does not exist and so has been treated as a topic
Rd warning: C:/Users/biocbuild/bbs-3.10-bioc/tmpdir/Rtmpw9B3yD/R.INSTALL1ab0ffa11ad/SummarizedExperiment/man/Assays-class.Rd:72: file link 'SimpleList' in package 'S4Vectors' does not exist and so has been treated as a topic
Rd warning: C:/Users/biocbuild/bbs-3.10-bioc/tmpdir/Rtmpw9B3yD/R.INSTALL1ab0ffa11ad/SummarizedExperiment/man/Assays-class.Rd:84: file link 'SimpleList' in package 'S4Vectors' does not exist and so has been treated as a topic
Rd warning: C:/Users/biocbuild/bbs-3.10-bioc/tmpdir/Rtmpw9B3yD/R.INSTALL1ab0ffa11ad/SummarizedExperiment/man/Assays-class.Rd:119: file link 'SimpleList' in package 'S4Vectors' does not exist and so has been treated as a topic
Rd warning: C:/Users/biocbuild/bbs-3.10-bioc/tmpdir/Rtmpw9B3yD/R.INSTALL1ab0ffa11ad/SummarizedExperiment/man/Assays-class.Rd:131: file link 'SimpleList' in package 'S4Vectors' does not exist and so has been treated as a topic
RangedSummarizedExperiment-class html
finding level-2 HTML links ... done
Rd warning: C:/Users/biocbuild/bbs-3.10-bioc/tmpdir/Rtmpw9B3yD/R.INSTALL1ab0ffa11ad/SummarizedExperiment/man/RangedSummarizedExperiment-class.Rd:110: file link 'DataFrame' in package 'S4Vectors' does not exist and so has been treated as a topic
Rd warning: C:/Users/biocbuild/bbs-3.10-bioc/tmpdir/Rtmpw9B3yD/R.INSTALL1ab0ffa11ad/SummarizedExperiment/man/RangedSummarizedExperiment-class.Rd:112: file link 'DelayedMatrix' in package 'DelayedArray' does not exist and so has been treated as a topic
Rd warning: C:/Users/biocbuild/bbs-3.10-bioc/tmpdir/Rtmpw9B3yD/R.INSTALL1ab0ffa11ad/SummarizedExperiment/man/RangedSummarizedExperiment-class.Rd:118: file link 'DataFrame' in package 'S4Vectors' does not exist and so has been treated as a topic
Rd warning: C:/Users/biocbuild/bbs-3.10-bioc/tmpdir/Rtmpw9B3yD/R.INSTALL1ab0ffa11ad/SummarizedExperiment/man/RangedSummarizedExperiment-class.Rd:121: file link 'DataFrame' in package 'S4Vectors' does not exist and so has been treated as a topic
Rd warning: C:/Users/biocbuild/bbs-3.10-bioc/tmpdir/Rtmpw9B3yD/R.INSTALL1ab0ffa11ad/SummarizedExperiment/man/RangedSummarizedExperiment-class.Rd:124: file link 'GRanges' in package 'GenomicRanges' does not exist and so has been treated as a topic
Rd warning: C:/Users/biocbuild/bbs-3.10-bioc/tmpdir/Rtmpw9B3yD/R.INSTALL1ab0ffa11ad/SummarizedExperiment/man/RangedSummarizedExperiment-class.Rd:125: file link 'GRangesList' in package 'GenomicRanges' does not exist and so has been treated as a topic
Rd warning: C:/Users/biocbuild/bbs-3.10-bioc/tmpdir/Rtmpw9B3yD/R.INSTALL1ab0ffa11ad/SummarizedExperiment/man/RangedSummarizedExperiment-class.Rd:128: file link 'GRanges' in package 'GenomicRanges' does not exist and so has been treated as a topic
Rd warning: C:/Users/biocbuild/bbs-3.10-bioc/tmpdir/Rtmpw9B3yD/R.INSTALL1ab0ffa11ad/SummarizedExperiment/man/RangedSummarizedExperiment-class.Rd:128: file link 'GRangesList' in package 'GenomicRanges' does not exist and so has been treated as a topic
Rd warning: C:/Users/biocbuild/bbs-3.10-bioc/tmpdir/Rtmpw9B3yD/R.INSTALL1ab0ffa11ad/SummarizedExperiment/man/RangedSummarizedExperiment-class.Rd:147: file link 'GRanges' in package 'GenomicRanges' does not exist and so has been treated as a topic
Rd warning: C:/Users/biocbuild/bbs-3.10-bioc/tmpdir/Rtmpw9B3yD/R.INSTALL1ab0ffa11ad/SummarizedExperiment/man/RangedSummarizedExperiment-class.Rd:148: file link 'GRangesList' in package 'GenomicRanges' does not exist and so has been treated as a topic
Rd warning: C:/Users/biocbuild/bbs-3.10-bioc/tmpdir/Rtmpw9B3yD/R.INSTALL1ab0ffa11ad/SummarizedExperiment/man/RangedSummarizedExperiment-class.Rd:212: file link 'shift' in package 'SummarizedExperiment' does not exist and so has been treated as a topic
Rd warning: C:/Users/biocbuild/bbs-3.10-bioc/tmpdir/Rtmpw9B3yD/R.INSTALL1ab0ffa11ad/SummarizedExperiment/man/RangedSummarizedExperiment-class.Rd:213: file link 'isDisjoint' in package 'SummarizedExperiment' does not exist and so has been treated as a topic
Rd warning: C:/Users/biocbuild/bbs-3.10-bioc/tmpdir/Rtmpw9B3yD/R.INSTALL1ab0ffa11ad/SummarizedExperiment/man/RangedSummarizedExperiment-class.Rd:214: file link 'coverage' in package 'SummarizedExperiment' does not exist and so has been treated as a topic
Rd warning: C:/Users/biocbuild/bbs-3.10-bioc/tmpdir/Rtmpw9B3yD/R.INSTALL1ab0ffa11ad/SummarizedExperiment/man/RangedSummarizedExperiment-class.Rd:215: file link 'findOverlaps' in package 'SummarizedExperiment' does not exist and so has been treated as a topic
Rd warning: C:/Users/biocbuild/bbs-3.10-bioc/tmpdir/Rtmpw9B3yD/R.INSTALL1ab0ffa11ad/SummarizedExperiment/man/RangedSummarizedExperiment-class.Rd:216: file link 'nearest' in package 'SummarizedExperiment' does not exist and so has been treated as a topic
Rd warning: C:/Users/biocbuild/bbs-3.10-bioc/tmpdir/Rtmpw9B3yD/R.INSTALL1ab0ffa11ad/SummarizedExperiment/man/RangedSummarizedExperiment-class.Rd:260: file link 'shift' in package 'SummarizedExperiment' does not exist and so has been treated as a topic
Rd warning: C:/Users/biocbuild/bbs-3.10-bioc/tmpdir/Rtmpw9B3yD/R.INSTALL1ab0ffa11ad/SummarizedExperiment/man/RangedSummarizedExperiment-class.Rd:261: file link 'isDisjoint' in package 'SummarizedExperiment' does not exist and so has been treated as a topic
Rd warning: C:/Users/biocbuild/bbs-3.10-bioc/tmpdir/Rtmpw9B3yD/R.INSTALL1ab0ffa11ad/SummarizedExperiment/man/RangedSummarizedExperiment-class.Rd:262: file link 'coverage' in package 'SummarizedExperiment' does not exist and so has been treated as a topic
Rd warning: C:/Users/biocbuild/bbs-3.10-bioc/tmpdir/Rtmpw9B3yD/R.INSTALL1ab0ffa11ad/SummarizedExperiment/man/RangedSummarizedExperiment-class.Rd:263: file link 'findOverlaps' in package 'SummarizedExperiment' does not exist and so has been treated as a topic
Rd warning: C:/Users/biocbuild/bbs-3.10-bioc/tmpdir/Rtmpw9B3yD/R.INSTALL1ab0ffa11ad/SummarizedExperiment/man/RangedSummarizedExperiment-class.Rd:264: file link 'nearest' in package 'SummarizedExperiment' does not exist and so has been treated as a topic
Rd warning: C:/Users/biocbuild/bbs-3.10-bioc/tmpdir/Rtmpw9B3yD/R.INSTALL1ab0ffa11ad/SummarizedExperiment/man/RangedSummarizedExperiment-class.Rd:267: file link 'GRanges' in package 'GenomicRanges' does not exist and so has been treated as a topic
SummarizedExperiment-class html
Rd warning: C:/Users/biocbuild/bbs-3.10-bioc/tmpdir/Rtmpw9B3yD/R.INSTALL1ab0ffa11ad/SummarizedExperiment/man/SummarizedExperiment-class.Rd:174: file link 'mcols' in package 'S4Vectors' does not exist and so has been treated as a topic
Rd warning: C:/Users/biocbuild/bbs-3.10-bioc/tmpdir/Rtmpw9B3yD/R.INSTALL1ab0ffa11ad/SummarizedExperiment/man/SummarizedExperiment-class.Rd:176: file link 'DataFrame' in package 'S4Vectors' does not exist and so has been treated as a topic
Rd warning: C:/Users/biocbuild/bbs-3.10-bioc/tmpdir/Rtmpw9B3yD/R.INSTALL1ab0ffa11ad/SummarizedExperiment/man/SummarizedExperiment-class.Rd:179: file link 'DataFrame' in package 'S4Vectors' does not exist and so has been treated as a topic
Rd warning: C:/Users/biocbuild/bbs-3.10-bioc/tmpdir/Rtmpw9B3yD/R.INSTALL1ab0ffa11ad/SummarizedExperiment/man/SummarizedExperiment-class.Rd:183: file link 'DataFrame' in package 'S4Vectors' does not exist and so has been treated as a topic
Rd warning: C:/Users/biocbuild/bbs-3.10-bioc/tmpdir/Rtmpw9B3yD/R.INSTALL1ab0ffa11ad/SummarizedExperiment/man/SummarizedExperiment-class.Rd:233: file link 'mcols' in package 'S4Vectors' does not exist and so has been treated as a topic
Rd warning: C:/Users/biocbuild/bbs-3.10-bioc/tmpdir/Rtmpw9B3yD/R.INSTALL1ab0ffa11ad/SummarizedExperiment/man/SummarizedExperiment-class.Rd:423: file link 'DataFrame' in package 'S4Vectors' does not exist and so has been treated as a topic
Rd warning: C:/Users/biocbuild/bbs-3.10-bioc/tmpdir/Rtmpw9B3yD/R.INSTALL1ab0ffa11ad/SummarizedExperiment/man/SummarizedExperiment-class.Rd:423: file link 'SimpleList' in package 'S4Vectors' does not exist and so has been treated as a topic
Rd warning: C:/Users/biocbuild/bbs-3.10-bioc/tmpdir/Rtmpw9B3yD/R.INSTALL1ab0ffa11ad/SummarizedExperiment/man/SummarizedExperiment-class.Rd:424: file link 'Annotated' in package 'S4Vectors' does not exist and so has been treated as a topic
Rd warning: C:/Users/biocbuild/bbs-3.10-bioc/tmpdir/Rtmpw9B3yD/R.INSTALL1ab0ffa11ad/SummarizedExperiment/man/SummarizedExperiment-class.Rd:426: file link 'metadata' in package 'S4Vectors' does not exist and so has been treated as a topic
Rd warning: C:/Users/biocbuild/bbs-3.10-bioc/tmpdir/Rtmpw9B3yD/R.INSTALL1ab0ffa11ad/SummarizedExperiment/man/SummarizedExperiment-class.Rd:427: file link 'mcols' in package 'S4Vectors' does not exist and so has been treated as a topic
Rd warning: C:/Users/biocbuild/bbs-3.10-bioc/tmpdir/Rtmpw9B3yD/R.INSTALL1ab0ffa11ad/SummarizedExperiment/man/SummarizedExperiment-class.Rd:431: file link 'loadHDF5SummarizedExperiment' in package 'HDF5Array' does not exist and so has been treated as a topic
coverage-methods html
Rd warning: C:/Users/biocbuild/bbs-3.10-bioc/tmpdir/Rtmpw9B3yD/R.INSTALL1ab0ffa11ad/SummarizedExperiment/man/coverage-methods.Rd:26: file link 'coverage' in package 'GenomicRanges' does not exist and so has been treated as a topic
Rd warning: C:/Users/biocbuild/bbs-3.10-bioc/tmpdir/Rtmpw9B3yD/R.INSTALL1ab0ffa11ad/SummarizedExperiment/man/coverage-methods.Rd:34: file link 'GenomicRanges' in package 'GenomicRanges' does not exist and so has been treated as a topic
Rd warning: C:/Users/biocbuild/bbs-3.10-bioc/tmpdir/Rtmpw9B3yD/R.INSTALL1ab0ffa11ad/SummarizedExperiment/man/coverage-methods.Rd:34: file link 'GRangesList' in package 'GenomicRanges' does not exist and so has been treated as a topic
Rd warning: C:/Users/biocbuild/bbs-3.10-bioc/tmpdir/Rtmpw9B3yD/R.INSTALL1ab0ffa11ad/SummarizedExperiment/man/coverage-methods.Rd:40: file link 'coverage' in package 'GenomicRanges' does not exist and so has been treated as a topic
Rd warning: C:/Users/biocbuild/bbs-3.10-bioc/tmpdir/Rtmpw9B3yD/R.INSTALL1ab0ffa11ad/SummarizedExperiment/man/coverage-methods.Rd:42: file link 'GenomicRanges' in package 'GenomicRanges' does not exist and so has been treated as a topic
Rd warning: C:/Users/biocbuild/bbs-3.10-bioc/tmpdir/Rtmpw9B3yD/R.INSTALL1ab0ffa11ad/SummarizedExperiment/man/coverage-methods.Rd:42: file link 'GRangesList' in package 'GenomicRanges' does not exist and so has been treated as a topic
Rd warning: C:/Users/biocbuild/bbs-3.10-bioc/tmpdir/Rtmpw9B3yD/R.INSTALL1ab0ffa11ad/SummarizedExperiment/man/coverage-methods.Rd:47: file link 'coverage' in package 'GenomicRanges' does not exist and so has been treated as a topic
Rd warning: C:/Users/biocbuild/bbs-3.10-bioc/tmpdir/Rtmpw9B3yD/R.INSTALL1ab0ffa11ad/SummarizedExperiment/man/coverage-methods.Rd:55: file link 'coverage' in package 'GenomicRanges' does not exist and so has been treated as a topic
Rd warning: C:/Users/biocbuild/bbs-3.10-bioc/tmpdir/Rtmpw9B3yD/R.INSTALL1ab0ffa11ad/SummarizedExperiment/man/coverage-methods.Rd:57: file link 'GenomicRanges' in package 'GenomicRanges' does not exist and so has been treated as a topic
Rd warning: C:/Users/biocbuild/bbs-3.10-bioc/tmpdir/Rtmpw9B3yD/R.INSTALL1ab0ffa11ad/SummarizedExperiment/man/coverage-methods.Rd:58: file link 'GRangesList' in package 'GenomicRanges' does not exist and so has been treated as a topic
findOverlaps-methods html
Rd warning: C:/Users/biocbuild/bbs-3.10-bioc/tmpdir/Rtmpw9B3yD/R.INSTALL1ab0ffa11ad/SummarizedExperiment/man/findOverlaps-methods.Rd:43: file link 'findOverlaps' in package 'GenomicRanges' does not exist and so has been treated as a topic
Rd warning: C:/Users/biocbuild/bbs-3.10-bioc/tmpdir/Rtmpw9B3yD/R.INSTALL1ab0ffa11ad/SummarizedExperiment/man/findOverlaps-methods.Rd:47: file link 'findOverlaps' in package 'GenomicRanges' does not exist and so has been treated as a topic
Rd warning: C:/Users/biocbuild/bbs-3.10-bioc/tmpdir/Rtmpw9B3yD/R.INSTALL1ab0ffa11ad/SummarizedExperiment/man/findOverlaps-methods.Rd:55: file link 'GenomicRanges' in package 'GenomicRanges' does not exist and so has been treated as a topic
Rd warning: C:/Users/biocbuild/bbs-3.10-bioc/tmpdir/Rtmpw9B3yD/R.INSTALL1ab0ffa11ad/SummarizedExperiment/man/findOverlaps-methods.Rd:55: file link 'GRangesList' in package 'GenomicRanges' does not exist and so has been treated as a topic
Rd warning: C:/Users/biocbuild/bbs-3.10-bioc/tmpdir/Rtmpw9B3yD/R.INSTALL1ab0ffa11ad/SummarizedExperiment/man/findOverlaps-methods.Rd:63: file link 'findOverlaps' in package 'GenomicRanges' does not exist and so has been treated as a topic
Rd warning: C:/Users/biocbuild/bbs-3.10-bioc/tmpdir/Rtmpw9B3yD/R.INSTALL1ab0ffa11ad/SummarizedExperiment/man/findOverlaps-methods.Rd:65: file link 'GenomicRanges' in package 'GenomicRanges' does not exist and so has been treated as a topic
Rd warning: C:/Users/biocbuild/bbs-3.10-bioc/tmpdir/Rtmpw9B3yD/R.INSTALL1ab0ffa11ad/SummarizedExperiment/man/findOverlaps-methods.Rd:65: file link 'GRangesList' in package 'GenomicRanges' does not exist and so has been treated as a topic
Rd warning: C:/Users/biocbuild/bbs-3.10-bioc/tmpdir/Rtmpw9B3yD/R.INSTALL1ab0ffa11ad/SummarizedExperiment/man/findOverlaps-methods.Rd:70: file link 'findOverlaps' in package 'GenomicRanges' does not exist and so has been treated as a topic
Rd warning: C:/Users/biocbuild/bbs-3.10-bioc/tmpdir/Rtmpw9B3yD/R.INSTALL1ab0ffa11ad/SummarizedExperiment/man/findOverlaps-methods.Rd:78: file link 'findOverlaps' in package 'GenomicRanges' does not exist and so has been treated as a topic
Rd warning: C:/Users/biocbuild/bbs-3.10-bioc/tmpdir/Rtmpw9B3yD/R.INSTALL1ab0ffa11ad/SummarizedExperiment/man/findOverlaps-methods.Rd:80: file link 'GenomicRanges' in package 'GenomicRanges' does not exist and so has been treated as a topic
Rd warning: C:/Users/biocbuild/bbs-3.10-bioc/tmpdir/Rtmpw9B3yD/R.INSTALL1ab0ffa11ad/SummarizedExperiment/man/findOverlaps-methods.Rd:81: file link 'GRangesList' in package 'GenomicRanges' does not exist and so has been treated as a topic
inter-range-methods html
Rd warning: C:/Users/biocbuild/bbs-3.10-bioc/tmpdir/Rtmpw9B3yD/R.INSTALL1ab0ffa11ad/SummarizedExperiment/man/inter-range-methods.Rd:30: file link 'isDisjoint' in package 'GenomicRanges' does not exist and so has been treated as a topic
Rd warning: C:/Users/biocbuild/bbs-3.10-bioc/tmpdir/Rtmpw9B3yD/R.INSTALL1ab0ffa11ad/SummarizedExperiment/man/inter-range-methods.Rd:38: file link 'GenomicRanges' in package 'GenomicRanges' does not exist and so has been treated as a topic
Rd warning: C:/Users/biocbuild/bbs-3.10-bioc/tmpdir/Rtmpw9B3yD/R.INSTALL1ab0ffa11ad/SummarizedExperiment/man/inter-range-methods.Rd:38: file link 'GRangesList' in package 'GenomicRanges' does not exist and so has been treated as a topic
Rd warning: C:/Users/biocbuild/bbs-3.10-bioc/tmpdir/Rtmpw9B3yD/R.INSTALL1ab0ffa11ad/SummarizedExperiment/man/inter-range-methods.Rd:48: file link 'isDisjoint' in package 'GenomicRanges' does not exist and so has been treated as a topic
Rd warning: C:/Users/biocbuild/bbs-3.10-bioc/tmpdir/Rtmpw9B3yD/R.INSTALL1ab0ffa11ad/SummarizedExperiment/man/inter-range-methods.Rd:50: file link 'GenomicRanges' in package 'GenomicRanges' does not exist and so has been treated as a topic
Rd warning: C:/Users/biocbuild/bbs-3.10-bioc/tmpdir/Rtmpw9B3yD/R.INSTALL1ab0ffa11ad/SummarizedExperiment/man/inter-range-methods.Rd:50: file link 'GRangesList' in package 'GenomicRanges' does not exist and so has been treated as a topic
Rd warning: C:/Users/biocbuild/bbs-3.10-bioc/tmpdir/Rtmpw9B3yD/R.INSTALL1ab0ffa11ad/SummarizedExperiment/man/inter-range-methods.Rd:55: file link 'isDisjoint' in package 'GenomicRanges' does not exist and so has been treated as a topic
Rd warning: C:/Users/biocbuild/bbs-3.10-bioc/tmpdir/Rtmpw9B3yD/R.INSTALL1ab0ffa11ad/SummarizedExperiment/man/inter-range-methods.Rd:63: file link 'isDisjoint' in package 'GenomicRanges' does not exist and so has been treated as a topic
Rd warning: C:/Users/biocbuild/bbs-3.10-bioc/tmpdir/Rtmpw9B3yD/R.INSTALL1ab0ffa11ad/SummarizedExperiment/man/inter-range-methods.Rd:65: file link 'GenomicRanges' in package 'GenomicRanges' does not exist and so has been treated as a topic
Rd warning: C:/Users/biocbuild/bbs-3.10-bioc/tmpdir/Rtmpw9B3yD/R.INSTALL1ab0ffa11ad/SummarizedExperiment/man/inter-range-methods.Rd:66: file link 'GRangesList' in package 'GenomicRanges' does not exist and so has been treated as a topic
intra-range-methods html
Rd warning: C:/Users/biocbuild/bbs-3.10-bioc/tmpdir/Rtmpw9B3yD/R.INSTALL1ab0ffa11ad/SummarizedExperiment/man/intra-range-methods.Rd:77: file link 'GenomicRanges' in package 'GenomicRanges' does not exist and so has been treated as a topic
Rd warning: C:/Users/biocbuild/bbs-3.10-bioc/tmpdir/Rtmpw9B3yD/R.INSTALL1ab0ffa11ad/SummarizedExperiment/man/intra-range-methods.Rd:77: file link 'GRangesList' in package 'GenomicRanges' does not exist and so has been treated as a topic
Rd warning: C:/Users/biocbuild/bbs-3.10-bioc/tmpdir/Rtmpw9B3yD/R.INSTALL1ab0ffa11ad/SummarizedExperiment/man/intra-range-methods.Rd:89: file link 'GenomicRanges' in package 'GenomicRanges' does not exist and so has been treated as a topic
Rd warning: C:/Users/biocbuild/bbs-3.10-bioc/tmpdir/Rtmpw9B3yD/R.INSTALL1ab0ffa11ad/SummarizedExperiment/man/intra-range-methods.Rd:89: file link 'GRangesList' in package 'GenomicRanges' does not exist and so has been treated as a topic
Rd warning: C:/Users/biocbuild/bbs-3.10-bioc/tmpdir/Rtmpw9B3yD/R.INSTALL1ab0ffa11ad/SummarizedExperiment/man/intra-range-methods.Rd:99: file link 'GenomicRanges' in package 'GenomicRanges' does not exist and so has been treated as a topic
Rd warning: C:/Users/biocbuild/bbs-3.10-bioc/tmpdir/Rtmpw9B3yD/R.INSTALL1ab0ffa11ad/SummarizedExperiment/man/intra-range-methods.Rd:100: file link 'GRangesList' in package 'GenomicRanges' does not exist and so has been treated as a topic
makeSummarizedExperimentFromDataFrame html
Rd warning: C:/Users/biocbuild/bbs-3.10-bioc/tmpdir/Rtmpw9B3yD/R.INSTALL1ab0ffa11ad/SummarizedExperiment/man/makeSummarizedExperimentFromDataFrame.Rd:31: file link 'DataFrame' in package 'S4Vectors' does not exist and so has been treated as a topic
makeSummarizedExperimentFromExpressionSet
html
Rd warning: C:/Users/biocbuild/bbs-3.10-bioc/tmpdir/Rtmpw9B3yD/R.INSTALL1ab0ffa11ad/SummarizedExperiment/man/makeSummarizedExperimentFromExpressionSet.Rd:18: file link 'ExpressionSet' in package 'Biobase' does not exist and so has been treated as a topic
Rd warning: C:/Users/biocbuild/bbs-3.10-bioc/tmpdir/Rtmpw9B3yD/R.INSTALL1ab0ffa11ad/SummarizedExperiment/man/makeSummarizedExperimentFromExpressionSet.Rd:20: file link 'ExpressionSet' in package 'Biobase' does not exist and so has been treated as a topic
Rd warning: C:/Users/biocbuild/bbs-3.10-bioc/tmpdir/Rtmpw9B3yD/R.INSTALL1ab0ffa11ad/SummarizedExperiment/man/makeSummarizedExperimentFromExpressionSet.Rd:39: file link 'ExpressionSet' in package 'Biobase' does not exist and so has been treated as a topic
Rd warning: C:/Users/biocbuild/bbs-3.10-bioc/tmpdir/Rtmpw9B3yD/R.INSTALL1ab0ffa11ad/SummarizedExperiment/man/makeSummarizedExperimentFromExpressionSet.Rd:42: file link 'ExpressionSet' in package 'Biobase' does not exist and so has been treated as a topic
Rd warning: C:/Users/biocbuild/bbs-3.10-bioc/tmpdir/Rtmpw9B3yD/R.INSTALL1ab0ffa11ad/SummarizedExperiment/man/makeSummarizedExperimentFromExpressionSet.Rd:45: file link 'rownames' in package 'base' does not exist and so has been treated as a topic
Rd warning: C:/Users/biocbuild/bbs-3.10-bioc/tmpdir/Rtmpw9B3yD/R.INSTALL1ab0ffa11ad/SummarizedExperiment/man/makeSummarizedExperimentFromExpressionSet.Rd:45: file link 'GRanges' in package 'GenomicRanges' does not exist and so has been treated as a topic
Rd warning: C:/Users/biocbuild/bbs-3.10-bioc/tmpdir/Rtmpw9B3yD/R.INSTALL1ab0ffa11ad/SummarizedExperiment/man/makeSummarizedExperimentFromExpressionSet.Rd:47: file link 'ExpressionSet' in package 'Biobase' does not exist and so has been treated as a topic
Rd warning: C:/Users/biocbuild/bbs-3.10-bioc/tmpdir/Rtmpw9B3yD/R.INSTALL1ab0ffa11ad/SummarizedExperiment/man/makeSummarizedExperimentFromExpressionSet.Rd:64: file link 'ExpressionSet' in package 'Biobase' does not exist and so has been treated as a topic
Rd warning: C:/Users/biocbuild/bbs-3.10-bioc/tmpdir/Rtmpw9B3yD/R.INSTALL1ab0ffa11ad/SummarizedExperiment/man/makeSummarizedExperimentFromExpressionSet.Rd:70: file link 'ExpressionSet' in package 'Biobase' does not exist and so has been treated as a topic
Rd warning: C:/Users/biocbuild/bbs-3.10-bioc/tmpdir/Rtmpw9B3yD/R.INSTALL1ab0ffa11ad/SummarizedExperiment/man/makeSummarizedExperimentFromExpressionSet.Rd:79: file link 'ExpressionSet' in package 'Biobase' does not exist and so has been treated as a topic
Rd warning: C:/Users/biocbuild/bbs-3.10-bioc/tmpdir/Rtmpw9B3yD/R.INSTALL1ab0ffa11ad/SummarizedExperiment/man/makeSummarizedExperimentFromExpressionSet.Rd:81: file link 'TxDb' in package 'GenomicFeatures' does not exist and so has been treated as a topic
makeSummarizedExperimentFromLoom html
nearest-methods html
Rd warning: C:/Users/biocbuild/bbs-3.10-bioc/tmpdir/Rtmpw9B3yD/R.INSTALL1ab0ffa11ad/SummarizedExperiment/man/nearest-methods.Rd:66: file link 'nearest' in package 'GenomicRanges' does not exist and so has been treated as a topic
Rd warning: C:/Users/biocbuild/bbs-3.10-bioc/tmpdir/Rtmpw9B3yD/R.INSTALL1ab0ffa11ad/SummarizedExperiment/man/nearest-methods.Rd:79: file link 'GenomicRanges' in package 'GenomicRanges' does not exist and so has been treated as a topic
Rd warning: C:/Users/biocbuild/bbs-3.10-bioc/tmpdir/Rtmpw9B3yD/R.INSTALL1ab0ffa11ad/SummarizedExperiment/man/nearest-methods.Rd:79: file link 'GRangesList' in package 'GenomicRanges' does not exist and so has been treated as a topic
Rd warning: C:/Users/biocbuild/bbs-3.10-bioc/tmpdir/Rtmpw9B3yD/R.INSTALL1ab0ffa11ad/SummarizedExperiment/man/nearest-methods.Rd:88: file link 'nearest' in package 'GenomicRanges' does not exist and so has been treated as a topic
Rd warning: C:/Users/biocbuild/bbs-3.10-bioc/tmpdir/Rtmpw9B3yD/R.INSTALL1ab0ffa11ad/SummarizedExperiment/man/nearest-methods.Rd:90: file link 'GenomicRanges' in package 'GenomicRanges' does not exist and so has been treated as a topic
Rd warning: C:/Users/biocbuild/bbs-3.10-bioc/tmpdir/Rtmpw9B3yD/R.INSTALL1ab0ffa11ad/SummarizedExperiment/man/nearest-methods.Rd:90: file link 'GRangesList' in package 'GenomicRanges' does not exist and so has been treated as a topic
Rd warning: C:/Users/biocbuild/bbs-3.10-bioc/tmpdir/Rtmpw9B3yD/R.INSTALL1ab0ffa11ad/SummarizedExperiment/man/nearest-methods.Rd:95: file link 'nearest' in package 'GenomicRanges' does not exist and so has been treated as a topic
Rd warning: C:/Users/biocbuild/bbs-3.10-bioc/tmpdir/Rtmpw9B3yD/R.INSTALL1ab0ffa11ad/SummarizedExperiment/man/nearest-methods.Rd:103: file link 'nearest' in package 'GenomicRanges' does not exist and so has been treated as a topic
Rd warning: C:/Users/biocbuild/bbs-3.10-bioc/tmpdir/Rtmpw9B3yD/R.INSTALL1ab0ffa11ad/SummarizedExperiment/man/nearest-methods.Rd:105: file link 'GenomicRanges' in package 'GenomicRanges' does not exist and so has been treated as a topic
Rd warning: C:/Users/biocbuild/bbs-3.10-bioc/tmpdir/Rtmpw9B3yD/R.INSTALL1ab0ffa11ad/SummarizedExperiment/man/nearest-methods.Rd:106: file link 'GRangesList' in package 'GenomicRanges' does not exist and so has been treated as a topic
readKallisto html
** building package indices
** installing vignettes
** testing if installed package can be loaded from temporary location
** testing if installed package can be loaded from final location
** testing if installed package keeps a record of temporary installation path
install for x64
* installing *source* package 'SummarizedExperiment' ...
** testing if installed package can be loaded
* MD5 sums
packaged installation of 'SummarizedExperiment' as SummarizedExperiment_1.16.1.zip
* DONE (SummarizedExperiment)
* installing to library 'C:/Users/biocbuild/bbs-3.10-bioc/R/library'
package 'SummarizedExperiment' successfully unpacked and MD5 sums checked