| Back to Multiple platform build/check report for BioC 3.10 |
|
This page was generated on 2020-04-15 12:32:30 -0400 (Wed, 15 Apr 2020).
| Package 1682/1823 | Hostname | OS / Arch | INSTALL | BUILD | CHECK | BUILD BIN | ||||||
| SubCellBarCode 1.2.6 Taner Arslan
| malbec1 | Linux (Ubuntu 18.04.4 LTS) / x86_64 | OK | OK | OK | |||||||
| tokay1 | Windows Server 2012 R2 Standard / x64 | OK | OK | OK | [ OK ] | |||||||
| merida1 | OS X 10.11.6 El Capitan / x86_64 | OK | OK | OK | OK |
| Package: SubCellBarCode |
| Version: 1.2.6 |
| Command: rm -rf SubCellBarCode.buildbin-libdir && mkdir SubCellBarCode.buildbin-libdir && C:\Users\biocbuild\bbs-3.10-bioc\R\bin\R.exe CMD INSTALL --merge-multiarch --build --library=SubCellBarCode.buildbin-libdir SubCellBarCode_1.2.6.tar.gz |
| StartedAt: 2020-04-15 09:46:49 -0400 (Wed, 15 Apr 2020) |
| EndedAt: 2020-04-15 09:47:27 -0400 (Wed, 15 Apr 2020) |
| EllapsedTime: 38.0 seconds |
| RetCode: 0 |
| Status: OK |
| PackageFile: SubCellBarCode_1.2.6.zip |
| PackageFileSize: 1.775 MiB |
##############################################################################
##############################################################################
###
### Running command:
###
### rm -rf SubCellBarCode.buildbin-libdir && mkdir SubCellBarCode.buildbin-libdir && C:\Users\biocbuild\bbs-3.10-bioc\R\bin\R.exe CMD INSTALL --merge-multiarch --build --library=SubCellBarCode.buildbin-libdir SubCellBarCode_1.2.6.tar.gz
###
##############################################################################
##############################################################################
install for i386
* installing *source* package 'SubCellBarCode' ...
** using staged installation
** R
** data
*** moving datasets to lazyload DB
** inst
** byte-compile and prepare package for lazy loading
** help
*** installing help indices
converting help for package 'SubCellBarCode'
finding HTML links ... done
applyThresholdCompartment html
applyThresholdNeighborhood html
calRowMean html
calculateCoveredProtein html
candidateRelocatedProteins html
compareCls html
computeThresholdCompartment html
computeThresholdNeighborhood html
convert2symbol html
hcc827Ctrl html
hcc827CtrlPSMCount html
hcc827GEF html
hcc827GEFClass html
hcc827GefPSMCount html
hcc827exon html
loadData html
markerProteins html
markerQualityControl html
mergeCls html
mergeProbability html
plotBarcode html
plotMultipleProtein html
replacePrediction html
sankeyPlot html
sumProbability html
svmClassification html
svmExternalData html
tsneVisualization html
** building package indices
** installing vignettes
** testing if installed package can be loaded from temporary location
** testing if installed package can be loaded from final location
** testing if installed package keeps a record of temporary installation path
install for x64
* installing *source* package 'SubCellBarCode' ...
** testing if installed package can be loaded
* MD5 sums
packaged installation of 'SubCellBarCode' as SubCellBarCode_1.2.6.zip
* DONE (SubCellBarCode)