| Back to Multiple platform build/check report for BioC 3.10 |
|
This page was generated on 2020-04-15 12:32:32 -0400 (Wed, 15 Apr 2020).
| Package 1681/1823 | Hostname | OS / Arch | INSTALL | BUILD | CHECK | BUILD BIN | ||||||
| StructuralVariantAnnotation 1.2.0 Daniel Cameron
| malbec1 | Linux (Ubuntu 18.04.4 LTS) / x86_64 | OK | OK | OK | |||||||
| tokay1 | Windows Server 2012 R2 Standard / x64 | OK | [ OK ] | OK | OK | |||||||
| merida1 | OS X 10.11.6 El Capitan / x86_64 | OK | OK | OK | OK |
| Package: StructuralVariantAnnotation |
| Version: 1.2.0 |
| Command: chmod a+r StructuralVariantAnnotation -R && C:\Users\biocbuild\bbs-3.10-bioc\R\bin\R.exe CMD build --keep-empty-dirs --no-resave-data StructuralVariantAnnotation |
| StartedAt: 2020-04-15 00:41:23 -0400 (Wed, 15 Apr 2020) |
| EndedAt: 2020-04-15 00:42:38 -0400 (Wed, 15 Apr 2020) |
| EllapsedTime: 74.8 seconds |
| RetCode: 0 |
| Status: OK |
| PackageFile: StructuralVariantAnnotation_1.2.0.tar.gz |
| PackageFileSize: 503 KiB |
############################################################################## ############################################################################## ### ### Running command: ### ### chmod a+r StructuralVariantAnnotation -R && C:\Users\biocbuild\bbs-3.10-bioc\R\bin\R.exe CMD build --keep-empty-dirs --no-resave-data StructuralVariantAnnotation ### ############################################################################## ############################################################################## * checking for file 'StructuralVariantAnnotation/DESCRIPTION' ... OK * preparing 'StructuralVariantAnnotation': * checking DESCRIPTION meta-information ... OK * installing the package to build vignettes * creating vignettes ... OK * checking for LF line-endings in source and make files and shell scripts * checking for empty or unneeded directories * building 'StructuralVariantAnnotation_1.2.0.tar.gz'