| Back to Multiple platform build/check report for BioC 3.10 |
|
This page was generated on 2020-04-15 12:19:02 -0400 (Wed, 15 Apr 2020).
| Package 1638/1823 | Hostname | OS / Arch | INSTALL | BUILD | CHECK | BUILD BIN | ||||||
| SpeCond 1.40.0 Florence Cavalli
| malbec1 | Linux (Ubuntu 18.04.4 LTS) / x86_64 | OK | OK | OK | |||||||
| tokay1 | Windows Server 2012 R2 Standard / x64 | OK | OK | OK | [ OK ] | |||||||
| merida1 | OS X 10.11.6 El Capitan / x86_64 | OK | OK | OK | OK |
| Package: SpeCond |
| Version: 1.40.0 |
| Command: rm -rf SpeCond.buildbin-libdir && mkdir SpeCond.buildbin-libdir && C:\Users\biocbuild\bbs-3.10-bioc\R\bin\R.exe CMD INSTALL --merge-multiarch --build --library=SpeCond.buildbin-libdir SpeCond_1.40.0.tar.gz |
| StartedAt: 2020-04-15 09:44:17 -0400 (Wed, 15 Apr 2020) |
| EndedAt: 2020-04-15 09:44:45 -0400 (Wed, 15 Apr 2020) |
| EllapsedTime: 28.1 seconds |
| RetCode: 0 |
| Status: OK |
| PackageFile: SpeCond_1.40.0.zip |
| PackageFileSize: 1.247 MiB |
##############################################################################
##############################################################################
###
### Running command:
###
### rm -rf SpeCond.buildbin-libdir && mkdir SpeCond.buildbin-libdir && C:\Users\biocbuild\bbs-3.10-bioc\R\bin\R.exe CMD INSTALL --merge-multiarch --build --library=SpeCond.buildbin-libdir SpeCond_1.40.0.tar.gz
###
##############################################################################
##############################################################################
install for i386
* installing *source* package 'SpeCond' ...
** using staged installation
** R
** data
** inst
** byte-compile and prepare package for lazy loading
** help
*** installing help indices
converting help for package 'SpeCond'
finding HTML links ... done
SpeCond html
createParameterMatrix html
expSetSpeCondExample html
expressionSpeCondExample html
fitNoPriorWithExclusion html
fitPrior html
getDefaultParameter html
getFullHtmlSpeCondResult html
getGeneHtmlPage html
getMatrixFromExpressionSet html
getProfile html
getSpecificOutliersStep1 html
getSpecificResult html
simulatedSpeCondData html
writeGeneResult html
writeSpeCondResult html
writeUniqueProfileSpecificResult html
** building package indices
** installing vignettes
** testing if installed package can be loaded from temporary location
** testing if installed package can be loaded from final location
** testing if installed package keeps a record of temporary installation path
install for x64
* installing *source* package 'SpeCond' ...
** testing if installed package can be loaded
* MD5 sums
packaged installation of 'SpeCond' as SpeCond_1.40.0.zip
* DONE (SpeCond)