| Back to Multiple platform build/check report for BioC 3.10 |
|
This page was generated on 2020-04-15 12:28:42 -0400 (Wed, 15 Apr 2020).
| Package 1604/1823 | Hostname | OS / Arch | INSTALL | BUILD | CHECK | BUILD BIN | ||||||
| SingleCellExperiment 1.8.0 Davide Risso
| malbec1 | Linux (Ubuntu 18.04.4 LTS) / x86_64 | OK | OK | WARNINGS | |||||||
| tokay1 | Windows Server 2012 R2 Standard / x64 | OK | OK | WARNINGS | [ OK ] | |||||||
| merida1 | OS X 10.11.6 El Capitan / x86_64 | OK | OK | WARNINGS | OK |
| Package: SingleCellExperiment |
| Version: 1.8.0 |
| Command: rm -rf SingleCellExperiment.buildbin-libdir && mkdir SingleCellExperiment.buildbin-libdir && C:\Users\biocbuild\bbs-3.10-bioc\R\bin\R.exe CMD INSTALL --merge-multiarch --build --library=SingleCellExperiment.buildbin-libdir SingleCellExperiment_1.8.0.tar.gz |
| StartedAt: 2020-04-15 09:42:22 -0400 (Wed, 15 Apr 2020) |
| EndedAt: 2020-04-15 09:42:57 -0400 (Wed, 15 Apr 2020) |
| EllapsedTime: 35.0 seconds |
| RetCode: 0 |
| Status: OK |
| PackageFile: SingleCellExperiment_1.8.0.zip |
| PackageFileSize: 1.478 MiB |
##############################################################################
##############################################################################
###
### Running command:
###
### rm -rf SingleCellExperiment.buildbin-libdir && mkdir SingleCellExperiment.buildbin-libdir && C:\Users\biocbuild\bbs-3.10-bioc\R\bin\R.exe CMD INSTALL --merge-multiarch --build --library=SingleCellExperiment.buildbin-libdir SingleCellExperiment_1.8.0.tar.gz
###
##############################################################################
##############################################################################
install for i386
* installing *source* package 'SingleCellExperiment' ...
** using staged installation
** R
** inst
** byte-compile and prepare package for lazy loading
** help
*** installing help indices
converting help for package 'SingleCellExperiment'
finding HTML links ... done
LEM-combine html
LEM-getset html
LEM-misc html
LEM-subset html
LinearEmbeddingMatrix html
SCE-isSpike html
SCE-sizeFactors html
SingleCellExperiment html
finding level-2 HTML links ... done
altExps html
assays html
combine html
Rd warning: C:/Users/biocbuild/bbs-3.10-bioc/tmpdir/RtmpANSlTT/R.INSTALL71471f5e70/SingleCellExperiment/man/combine.Rd:27: file link 'rbind' in package 'base' does not exist and so has been treated as a topic
internals html
miscellaneous html
reducedDims html
splitAltExps html
swapAltExp html
updateObject html
** building package indices
** installing vignettes
** testing if installed package can be loaded from temporary location
** testing if installed package can be loaded from final location
** testing if installed package keeps a record of temporary installation path
install for x64
* installing *source* package 'SingleCellExperiment' ...
** testing if installed package can be loaded
* MD5 sums
packaged installation of 'SingleCellExperiment' as SingleCellExperiment_1.8.0.zip
* DONE (SingleCellExperiment)